| » Участники » GoraX » Природа » Прорвемся! |
Уважаемые друзья и участники проекта iXBT.photo! К сожалению, 1 марта 2026 года проект iXBT.photo прекратит свою работу и будет закрыт. Мы высоко ценим ваше участие и тот вклад, который вы внесли в развитие нашего сообщества. Пожалуйста, не забудьте сохранить ваши фотографии до этой даты.
С уважением, команда iXBT.com
| Прорвемся! |
Прорвемся!
- Раздел: Пейзаж
- Дата съёмки: 22.07.2008 16:39
- Дата загрузки фото: 05.04.2010 20:30
- Оригинальная фотография: 1564 x 1024 (597 Кб)
- Технические характеристики:
- Фотоаппарат: Sony DSLR-A200
- Выдержка: 1/4000
- Гиперфокальное расстояние: inf m
- Диафрагма: 5,6
- Светочувствительность: 100
- Фокусное расстояние: 18,0 mm (35 mm equivalent: 18,0 mm)
- Полный EXIF
- Adobe
- ColorTransform: YCbCr
- Composite
- Aperture: 5,6
- CircleOfConfusion: 0,020 mm
- FOV: 90,0 deg
- FocalLength35efl: 18,0 mm (35 mm equivalent: 18,0 mm)
- HyperfocalDistance: inf m
- ScaleFactor35efl: 1,5
- ShutterSpeed: 1/4000
- ExifIFD
- ApertureValue: 5,6
- BrightnessValue: 12
- ColorSpace: Uncalibrated
- Contrast: Normal
- CreateDate: 2008:07:22 16:39:00
- CustomRendered: Normal
- DateTimeOriginal: 2008:07:22 16:39:00
- ExifImageHeight: 1024
- ExifImageWidth: 1564
- ExposureCompensation: 0
- ExposureMode: Manual
- ExposureProgram: Manual
- ExposureTime: 1/4000
- FNumber: 5,6
- Flash: Off, Did not fire
- FocalLength: 18,0 mm
- FocalLengthIn35mmFormat: 27 mm
- ISO: 100
- LightSource: Unknown
- MaxApertureValue: 3,5
- MeteringMode: Spot
- Saturation: Normal
- SceneCaptureType: Standard
- SceneType: Directly photographed
- Sharpness: Normal
- ShutterSpeedValue: 1/4000
- WhiteBalance: Auto
- ICC-header
- IFD0
- ImageDescription: SONY DSC
- Make: SONY
- Model: DSLR-A200
- ModifyDate: 2010:04:05 19:54:20
- Orientation: Horizontal (normal)
- IFD1
- IPTC
- Caption-Abstract: SONY DSC
- Keywords: Небо, Облака, Пейзажи, Полуостров Копылово, Портфолио, Солнечные лучи, Тольятти
- OriginatingProgram: Microsoft Windows Live Photo Gallery14.0.8081.709
- System
- XMP-crs
- AlreadyApplied: True
- BlueHue: 0
- BlueSaturation: 0
- Brightness: +50
- CameraProfile: ACR 4.4
- ChromaticAberrationB: 0
- ChromaticAberrationR: 0
- Clarity: 0
- ColorNoiseReduction: 25
- Contrast: +25
- ConvertToGrayscale: False
- Defringe: 0
- Exposure: 0.00
- FillLight: 0
- GreenHue: 0
- GreenSaturation: 0
- HasCrop: False
- HasSettings: True
- HighlightRecovery: 0
- HueAdjustmentAqua: 0
- HueAdjustmentBlue: 0
- HueAdjustmentGreen: 0
- HueAdjustmentMagenta: 0
- HueAdjustmentOrange: 0
- HueAdjustmentPurple: 0
- HueAdjustmentRed: 0
- HueAdjustmentYellow: 0
- LuminanceAdjustmentAqua: 0
- LuminanceAdjustmentBlue: 0
- LuminanceAdjustmentGreen: 0
- LuminanceAdjustmentMagenta: 0
- LuminanceAdjustmentOrange: 0
- LuminanceAdjustmentPurple: 0
- LuminanceAdjustmentRed: 0
- LuminanceAdjustmentYellow: 0
- LuminanceSmoothing: 100
- ParametricDarks: -28
- ParametricHighlightSplit: 75
- ParametricHighlights: +88
- ParametricLights: -28
- ParametricMidtoneSplit: 50
- ParametricShadowSplit: 25
- ParametricShadows: 0
- RawFileName: _DSC2054.ARW
- RedHue: 0
- RedSaturation: 0
- Saturation: +11
- SaturationAdjustmentAqua: 0
- SaturationAdjustmentBlue: 0
- SaturationAdjustmentGreen: 0
- SaturationAdjustmentMagenta: 0
- SaturationAdjustmentOrange: 0
- SaturationAdjustmentPurple: 0
- SaturationAdjustmentRed: 0
- SaturationAdjustmentYellow: 0
- ShadowTint: 0
- Shadows: 0
- SharpenDetail: 25
- SharpenEdgeMasking: 0
- SharpenRadius: +1.0
- Sharpness: 25
- SplitToningBalance: 0
- SplitToningHighlightHue: 0
- SplitToningHighlightSaturation: 0
- SplitToningShadowHue: 0
- SplitToningShadowSaturation: 0
- Temperature: 5000
- Tint: +5
- ToneCurve: 0, 0, 32, 22, 64, 56, 128, 128, 192, 196, 255, 255
- ToneCurveName: Medium Contrast
- Version: 4.4.1
- Vibrance: 0
- VignetteAmount: 0
- WhiteBalance: As Shot
- XMP-dc
- Description: SONY DSC
- Format: image/jpeg
- Subject: Небо, Облака, Пейзажи, Полуостров Копылово, Портфолио, Солнечные лучи, Тольятти
- XMP-exif
- DateTimeDigitized: 2008:07:22 16:39:00+05:00
- DateTimeOriginal: 2008:07:22 16:39:00+05:00
- FlashFired: False
- FlashFunction: False
- FlashMode: Off
- FlashRedEyeMode: False
- FlashReturn: No return detection
- XMP-lr
- HierarchicalSubject: Места|Тольятти|Полуостров Копылово, Места|Тольятти, Небо, Небо|Облака, Небо|Солнечные лучи, Пейзажи, Портфолио
- XMP-tiff
- BitsPerSample: 8, 8, 8
- ImageHeight: 2592
- ImageWidth: 3872
- PhotometricInterpretation: RGB
- SamplesPerPixel: 3
- XMP-xmp
- CreateDate: 2008:07:22 16:39:00+05:00
- CreatorTool: Microsoft Windows Live Photo Gallery14.0.8081.709
- ModifyDate: 2010:04:05 19:54:20+04:00
- Rating: 0
- XMP-xmpMM
- Просмотров: 341
- Рейтинг: голосов еще нет
- Отзывов: 0
Получить код для блога
| Вставка фотографии в текущем разрешении |
Вставка миниатюры |
HTML (для вставки в блог):
BBCode (для вставки в форум):
Ссылка на фото:
Ссылка на миниатюру:
- Послать ссылку другу
| Комментарии к фотографии |