Уважаемые друзья и участники проекта iXBT.photo! К сожалению, 1 марта 2026 года проект iXBT.photo прекратит свою работу и будет закрыт. Мы высоко ценим ваше участие и тот вклад, который вы внесли в развитие нашего сообщества. Пожалуйста, не забудьте сохранить ваши фотографии до этой даты.
С уважением, команда iXBT.com
| DSC00193.jpg |
DSC00193.jpg
- Раздел: Путешествия
- Дата съёмки: 22.03.2010 19:37
- Дата загрузки фото: 10.04.2010 14:43
- Оригинальная фотография: 1024 x 710 (943 Кб)
- Технические характеристики:
- Фотоаппарат: Sony DSLR-A850
- Выдержка: 1/15
- Гиперфокальное расстояние: inf m
- Диафрагма: 2,5
- Светочувствительность: 800
- Фокусное расстояние: 50,0 mm (35 mm equivalent: 50,0 mm)
- Полный EXIF
- Adobe
- ColorTransform: YCbCr
- Composite
- Aperture: 2,5
- CircleOfConfusion: 0,030 mm
- FOV: 39,0 deg
- FocalLength35efl: 50,0 mm (35 mm equivalent: 50,0 mm)
- HyperfocalDistance: inf m
- ScaleFactor35efl: 1,0
- ShutterSpeed: 1/15
- ExifIFD
- ApertureValue: 2,5
- BrightnessValue: -1,5
- Contrast: Normal
- CreateDate: 2010:03:22 19:37:09
- CustomRendered: Normal
- DateTimeOriginal: 2010:03:22 19:37:09
- ExposureCompensation: 0
- ExposureMode: Auto
- ExposureProgram: Aperture-priority AE
- ExposureTime: 1/15
- FNumber: 2,5
- Flash: Off, Did not fire
- FocalLength: 50,0 mm
- FocalLengthIn35mmFormat: 50 mm
- ISO: 800
- LightSource: Unknown
- MaxApertureValue: 1,4
- MeteringMode: Center-weighted average
- Saturation: Normal
- SceneCaptureType: Standard
- SceneType: Directly photographed
- Sharpness: Normal
- ShutterSpeedValue: 1/15
- WhiteBalance: Manual
- ICC-header
- ICC-meas
- ICC-view
- IFD0
- ImageDescription: Hong Kong's amazing skyline comes to life in a awe inspiring festival of lights. With the mountain as the backdrop for the skyscrapers and the harbor in the foreground, a breathtaking scene unfolds.
- Make: SONY
- Model: DSLR-A850
- ModifyDate: 2010:04:10 09:40:49
- Software: DSLR-A850 v1.00
- IFD1
- IPTC
- Caption-Abstract: Hong Kong's amazing skyline comes to life in a awe inspiring festival of lights. With the mountain as the backdrop for the skyscrapers and the harbor in the foreground, a breathtaking scene unfolds.
- Keywords: architecture, asia, bank, bay, buildings, built, business, center, china, city, cityscape, commercial, construction, district, dock, downtown, east, exterior, famous, finance, financial, harbor, hong, illuminated, island, kong, kowloon, life, light, modern, neon, night, panoramic, place, reflection, retail, scene, sea, sky, skyline, skyscrapers, spotlight, structure, tower, travel, urban, victoria, water
- ObjectName: Hong Kong's amazing skyline comes to life in a awe inspiring fes
- System
- XMP-aux
- Lens: 50mm F1.4
- LensID: 44
- LensInfo: 50/1 50/1 14/10 14/10
- XMP-crs
- AlreadyApplied: True
- BlueHue: 0
- BlueSaturation: 0
- Brightness: +50
- ChromaticAberrationB: 0
- ChromaticAberrationR: 0
- Clarity: 0
- ColorNoiseReduction: 0
- Contrast: +25
- ConvertToGrayscale: False
- CropAngle: 0.686967
- CropBottom: 0.955558
- CropHeight: 710
- CropLeft: 0.093177
- CropRight: 0.987596
- CropTop: 0.001446
- CropUnit: pixels
- CropWidth: 1024
- Defringe: 2
- Exposure: 0.00
- FillLight: 0
- GreenHue: 0
- GreenSaturation: 0
- HasCrop: True
- HasSettings: True
- HighlightRecovery: 100
- HueAdjustmentAqua: 0
- HueAdjustmentBlue: 0
- HueAdjustmentGreen: 0
- HueAdjustmentMagenta: 0
- HueAdjustmentOrange: 0
- HueAdjustmentPurple: 0
- HueAdjustmentRed: 0
- HueAdjustmentYellow: 0
- LuminanceAdjustmentAqua: 0
- LuminanceAdjustmentBlue: 0
- LuminanceAdjustmentGreen: 0
- LuminanceAdjustmentMagenta: 0
- LuminanceAdjustmentOrange: 0
- LuminanceAdjustmentPurple: 0
- LuminanceAdjustmentRed: 0
- LuminanceAdjustmentYellow: 0
- LuminanceSmoothing: 0
- ParametricDarks: 0
- ParametricHighlightSplit: 75
- ParametricHighlights: 0
- ParametricLights: 0
- ParametricMidtoneSplit: 50
- ParametricShadowSplit: 25
- ParametricShadows: 0
- PostCropVignetteAmount: 0
- RedHue: 0
- RedSaturation: 0
- Saturation: 0
- SaturationAdjustmentAqua: 0
- SaturationAdjustmentBlue: 0
- SaturationAdjustmentGreen: 0
- SaturationAdjustmentMagenta: 0
- SaturationAdjustmentOrange: 0
- SaturationAdjustmentPurple: 0
- SaturationAdjustmentRed: 0
- SaturationAdjustmentYellow: 0
- ShadowTint: 0
- Shadows: 0
- SharpenDetail: 0
- SharpenEdgeMasking: 0
- SharpenRadius: +1.0
- Sharpness: 0
- SplitToningBalance: 0
- SplitToningHighlightHue: 0
- SplitToningHighlightSaturation: 0
- SplitToningShadowHue: 0
- SplitToningShadowSaturation: 0
- Temperature: 5200
- Tint: +13
- ToneCurve: 0, 0, 32, 22, 64, 56, 128, 128, 192, 196, 255, 255
- ToneCurveName: Medium Contrast
- Version: 5.6
- Vibrance: 0
- VignetteAmount: 0
- WhiteBalance: As Shot
- XMP-dc
- Description: Hong Kong's amazing skyline comes to life in a awe inspiring festival of lights. With the mountain as the backdrop for the skyscrapers and the harbor in the foreground, a breathtaking scene unfolds.
- Subject: architecture, asia, bank, bay, buildings, built, business, center, china, city, cityscape, commercial, construction, district, dock, downtown, east, exterior, famous, finance, financial, harbor, hong, illuminated, island, kong, kowloon, life, light, modern, neon, night, panoramic, place, reflection, retail, scene, sea, sky, skyline, skyscrapers, spotlight, structure, tower, travel, urban, victoria, water
- Title: Hong Kong's amazing skyline comes to life in a awe inspiring festival of lights. With the mountain as the backdrop for the skyscrapers and the harbor in the foreground, a breathtaking scene unfolds.
- XMP-exif
- DateTimeDigitized: 2010:03:22 19:37:09+02:00
- DateTimeOriginal: 2010:03:22 19:37:09+02:00
- ExifImageHeight: 710
- ExifImageWidth: 1024
- FlashFired: False
- FlashFunction: False
- FlashMode: Off
- FlashRedEyeMode: False
- FlashReturn: No return detection
- XMP-tiff
- ImageHeight: 710
- ImageWidth: 1024
- XMP-xmp
- CreateDate: 2010:03:22 19:37:09+02:00
- ModifyDate: 2010:04:10 09:40:49+03:00
- Просмотров: 245
- Рейтинг: голосов еще нет
- Отзывов: 0
Получить код для блога
| Вставка фотографии в текущем разрешении |
Вставка миниатюры |
HTML (для вставки в блог):
BBCode (для вставки в форум):
Ссылка на фото:
Ссылка на миниатюру:
- Послать ссылку другу
| Комментарии к фотографии |