Уважаемые друзья и участники проекта iXBT.photo! К сожалению, 1 марта 2026 года проект iXBT.photo прекратит свою работу и будет закрыт. Мы высоко ценим ваше участие и тот вклад, который вы внесли в развитие нашего сообщества. Пожалуйста, не забудьте сохранить ваши фотографии до этой даты.
С уважением, команда iXBT.com
| PICT0019.jpg |
PICT0019.jpg
- Раздел: Другое, разное
- Дата съёмки: 01.06.2010 19:37
- Дата загрузки фото: 01.06.2010 20:34
- Оригинальная фотография: 1339 x 917 (742 Кб)
- Технические характеристики:
- Фотоаппарат: Minolta DiMAGE A2
- Выдержка: 1/80
- Гиперфокальное расстояние: inf m
- Диафрагма: 3,2
- Светочувствительность: 200
- Фокусное расстояние: 7,0 mm (35 mm equivalent: 28,0 mm)
- Полный EXIF
- Adobe
- ColorTransform: YCbCr
- Composite
- Aperture: 3,2
- CircleOfConfusion: 0,008 mm
- FOV: 65,0 deg
- FocalLength35efl: 7,0 mm (35 mm equivalent: 28,0 mm)
- HyperfocalDistance: inf m
- ScaleFactor35efl: 4,0
- ShutterSpeed: 1/80
- ExifIFD
- ApertureValue: 3,2
- BrightnessValue: 3,5
- Contrast: Normal
- CreateDate: 2010:06:01 19:37:06
- CustomRendered: Normal
- DateTimeOriginal: 2010:06:01 19:37:06
- DigitalZoomRatio: 0
- ExposureCompensation: 0
- ExposureMode: Auto
- ExposureProgram: Aperture-priority AE
- ExposureTime: 1/80
- FNumber: 3,2
- Flash: Off, Did not fire
- FocalLength: 7,2 mm
- FocalLengthIn35mmFormat: 28 mm
- GainControl: Low gain up
- ISO: 200
- LightSource: Shade
- MaxApertureValue: 2,8
- MeteringMode: Multi-segment
- Saturation: Normal
- SceneCaptureType: Standard
- Sharpness: Normal
- ShutterSpeedValue: 1/80
- SubjectArea: 1632 1224 320 384
- SubjectDistance: 0,3 m
- SubjectDistanceRange: Macro
- WhiteBalance: Manual
- ICC-header
- IFD0
- ImageDescription: KONICA MINOLTA DIGITAL CAMERA
- Make: Konica Minolta Camera, Inc.
- Model: DiMAGE A2
- ModifyDate: 2010:06:01 20:29:55
- Software: DiMAGE A2 Ver.1.12
- IFD1
- IPTC
- Caption-Abstract: KONICA MINOLTA DIGITAL CAMERA
- System
- XMP-aux
- XMP-crs
- AlreadyApplied: True
- BlueHue: 0
- BlueSaturation: 0
- Brightness: +50
- ChromaticAberrationB: 0
- ChromaticAberrationR: 0
- Clarity: +42
- ColorNoiseReduction: 100
- Contrast: +70
- ConvertToGrayscale: False
- CropAngle: 0
- CropBottom: 0.764706
- CropHeight: 917
- CropLeft: 0.286765
- CropRight: 0.697059
- CropTop: 0.390196
- CropUnit: pixels
- CropWidth: 1339
- Defringe: 0
- Exposure: +1.16
- FillLight: 0
- GreenHue: 0
- GreenSaturation: 0
- HasCrop: True
- HasSettings: True
- HighlightRecovery: 0
- HueAdjustmentAqua: 0
- HueAdjustmentBlue: 0
- HueAdjustmentGreen: 0
- HueAdjustmentMagenta: 0
- HueAdjustmentOrange: 0
- HueAdjustmentPurple: 0
- HueAdjustmentRed: 0
- HueAdjustmentYellow: 0
- LuminanceAdjustmentAqua: 0
- LuminanceAdjustmentBlue: 0
- LuminanceAdjustmentGreen: 0
- LuminanceAdjustmentMagenta: 0
- LuminanceAdjustmentOrange: 0
- LuminanceAdjustmentPurple: 0
- LuminanceAdjustmentRed: 0
- LuminanceAdjustmentYellow: 0
- LuminanceSmoothing: 100
- ParametricDarks: 0
- ParametricHighlightSplit: 75
- ParametricHighlights: 0
- ParametricLights: 0
- ParametricMidtoneSplit: 50
- ParametricShadowSplit: 25
- ParametricShadows: 0
- PostCropVignetteAmount: 0
- RedHue: 0
- RedSaturation: 0
- Saturation: 0
- SaturationAdjustmentAqua: 0
- SaturationAdjustmentBlue: 0
- SaturationAdjustmentGreen: 0
- SaturationAdjustmentMagenta: -100
- SaturationAdjustmentOrange: -62
- SaturationAdjustmentPurple: 0
- SaturationAdjustmentRed: -100
- SaturationAdjustmentYellow: 0
- ShadowTint: 0
- Shadows: 5
- SharpenDetail: 25
- SharpenEdgeMasking: 0
- SharpenRadius: +1.0
- Sharpness: 25
- SplitToningBalance: 0
- SplitToningHighlightHue: 0
- SplitToningHighlightSaturation: 0
- SplitToningShadowHue: 0
- SplitToningShadowSaturation: 0
- Temperature: 6300
- Tint: +20
- ToneCurve: 0, 0, 32, 22, 64, 56, 128, 128, 192, 196, 255, 255
- ToneCurveName: Medium Contrast
- Version: 5.7
- Vibrance: 0
- VignetteAmount: 0
- WhiteBalance: As Shot
- XMP-dc
- Description: KONICA MINOLTA DIGITAL CAMERA
- XMP-exif
- DateTimeDigitized: 2010:06:01 19:37:06+04:00
- DateTimeOriginal: 2010:06:01 19:37:06+04:00
- ExifImageHeight: 917
- ExifImageWidth: 1339
- FlashFired: False
- FlashFunction: False
- FlashMode: Off
- FlashRedEyeMode: False
- FlashReturn: No return detection
- SubjectArea: 1632, 1224, 320, 384
- XMP-tiff
- ImageHeight: 917
- ImageWidth: 1339
- XMP-xmp
- CreateDate: 2010:06:01 19:37:06+04:00
- ModifyDate: 2010:06:01 20:29:55+04:00
- Просмотров: 367
- Рейтинг: голосов еще нет
- Отзывов: 0
Получить код для блога
| Вставка фотографии в текущем разрешении |
Вставка миниатюры |
HTML (для вставки в блог):
BBCode (для вставки в форум):
Ссылка на фото:
Ссылка на миниатюру:
- Послать ссылку другу
| Комментарии к фотографии |