шумопонижения нет, только sharpness и false color control LR2
всё тот же детсад, а деталей чуть не вдвое больше против силкипиха, короче, качайте dcraw V9 делайте им tiff и лайтрум рулит ;)
- Раздел: Другое, разное
- Дата съёмки: неизвестно
- Дата загрузки фото: 03.06.2010 21:22
- Оригинальная фотография: 3664 x 2742 (3,2 Мб)
- Технические характеристики:
- Фотоаппарат: FujiFilm FinePix HS10 HS11
- Выдержка: 1/270
- Диафрагма: 4,0
- Светочувствительность: 100
- Фокусное расстояние: 9,0 mm
- Полный EXIF
- Adobe
- ColorTransform: YCbCr
- Composite
- Aperture: 4,0
- FocalLength35efl: 9,0 mm
- ShutterSpeed: 1/270
- ExifIFD
- ApertureValue: 4,0
- ExposureTime: 1/270
- FNumber: 4,0
- FocalLength: 9,3 mm
- ISO: 100
- ShutterSpeedValue: 1/270
- ICC-header
- ICC-meas
- ICC-view
- IFD0
- Make: FUJIFILM
- Model: FinePix HS10 HS11
- ModifyDate: 2010:06:04 01:18:18
- Software: dcraw v9.00
- IFD1
- System
- XMP-crs
- AlreadyApplied: True
- BlueHue: -19
- BlueSaturation: -2
- Brightness: +19
- CameraProfile: Embedded
- ChromaticAberrationB: 0
- ChromaticAberrationR: -33
- Clarity: +69
- ColorNoiseReduction: 11
- Contrast: +5
- ConvertToGrayscale: False
- Defringe: 0
- Exposure: 0.00
- FillLight: 0
- GreenHue: -14
- GreenSaturation: -19
- HasCrop: False
- HasSettings: True
- HighlightRecovery: 4
- HueAdjustmentAqua: 0
- HueAdjustmentBlue: 0
- HueAdjustmentGreen: 0
- HueAdjustmentMagenta: 0
- HueAdjustmentOrange: 0
- HueAdjustmentPurple: 0
- HueAdjustmentRed: 0
- HueAdjustmentYellow: 0
- IncrementalTemperature: -5
- IncrementalTint: -10
- LuminanceAdjustmentAqua: 0
- LuminanceAdjustmentBlue: 0
- LuminanceAdjustmentGreen: 0
- LuminanceAdjustmentMagenta: 0
- LuminanceAdjustmentOrange: 0
- LuminanceAdjustmentPurple: 0
- LuminanceAdjustmentRed: 0
- LuminanceAdjustmentYellow: 0
- LuminanceSmoothing: 39
- ParametricDarks: +17
- ParametricHighlightSplit: 75
- ParametricHighlights: -21
- ParametricLights: +48
- ParametricMidtoneSplit: 50
- ParametricShadowSplit: 25
- ParametricShadows: +17
- PostCropVignetteAmount: 0
- RedHue: -2
- RedSaturation: 0
- Saturation: -14
- SaturationAdjustmentAqua: +2
- SaturationAdjustmentBlue: +50
- SaturationAdjustmentGreen: +29
- SaturationAdjustmentMagenta: -2
- SaturationAdjustmentOrange: +10
- SaturationAdjustmentPurple: +2
- SaturationAdjustmentRed: +12
- SaturationAdjustmentYellow: -33
- ShadowTint: -57
- Shadows: 0
- SharpenDetail: 48
- SharpenEdgeMasking: 58
- SharpenRadius: +1.9
- Sharpness: 87
- SplitToningBalance: 0
- SplitToningHighlightHue: 227
- SplitToningHighlightSaturation: 0
- SplitToningShadowHue: 189
- SplitToningShadowSaturation: 0
- ToneCurve: 0, 0, 255, 255
- ToneCurveName: Linear
- Version: 5.7
- Vibrance: +60
- VignetteAmount: 0
- WhiteBalance: Custom
- XMP-exif
- ExifImageHeight: 2742
- ExifImageWidth: 3664
- XMP-tiff
- ImageHeight: 2742
- ImageWidth: 3664
- XMP-xmp
- ModifyDate: 2010:06:04 01:18:18+08:00
- Просмотров: 976
- Рейтинг: голосов еще нет
- Отзывов: 0
Получить код для блога
Вставка фотографии в текущем разрешении |
Вставка миниатюры |
HTML (для вставки в блог):
BBCode (для вставки в форум):
Ссылка на фото:
Ссылка на миниатюру:
- Послать ссылку другу
Комментарии к фотографии |