- Раздел: Город
- Дата съёмки: 16.05.2010 12:34
- Дата загрузки фото: 10.06.2010 14:46
- Оригинальная фотография: 600 x 900 (137 Кб)
- Технические характеристики:
- Фотоаппарат: Canon EOS 350D DIGITAL
- Выдержка: 1/800
- Гиперфокальное расстояние: inf m
- Диафрагма: 8,0
- Светочувствительность: 200
- Фокусное расстояние: 31,0 mm (35 mm equivalent: 186,0 mm)
- Полный EXIF
- Adobe
- ColorTransform: YCbCr
- Composite
- Aperture: 8,0
- CircleOfConfusion: 0,005 mm
- FOV: 11,0 deg
- FocalLength35efl: 31,0 mm (35 mm equivalent: 186,0 mm)
- HyperfocalDistance: inf m
- ScaleFactor35efl: 6,2
- ShutterSpeed: 1/800
- ExifIFD
- ApertureValue: 8,0
- ColorSpace: sRGB
- CreateDate: 2010:05:16 12:34:21
- CustomRendered: Normal
- DateTimeOriginal: 2010:05:16 12:34:21
- ExifImageHeight: 900
- ExifImageWidth: 600
- ExposureCompensation: 0
- ExposureMode: Auto
- ExposureProgram: Aperture-priority AE
- ExposureTime: 1/800
- FNumber: 8,0
- Flash: Off, Did not fire
- FocalLength: 31,0 mm
- ISO: 200
- MeteringMode: Multi-segment
- SceneCaptureType: Standard
- ShutterSpeedValue: 1/800
- WhiteBalance: Auto
- ICC-header
- ICC-meas
- ICC-view
- IFD0
- Artist: unknown
- Make: Canon
- Model: Canon EOS 350D DIGITAL
- ModifyDate: 2010:05:26 09:35:28
- Orientation: Horizontal (normal)
- IFD1
- IPTC
- By-line: unknown
- System
- XMP-aux
- Firmware: 1.0.3
- FlashCompensation: 0
- ImageNumber: 133
- Lens: 18.0-55.0 mm
- LensInfo: 18/1 55/1 0/0 0/0
- OwnerName: unknown
- SerialNumber: 1130774460
- XMP-crs
- AlreadyApplied: True
- BlueHue: -100
- BlueSaturation: +98
- Brightness: +55
- CameraProfile: ACR 3.3
- ChromaticAberrationB: 0
- ChromaticAberrationR: 0
- Clarity: 0
- ColorNoiseReduction: 25
- Contrast: +77
- ConvertToGrayscale: True
- Defringe: 0
- Exposure: 0.00
- FillLight: 25
- GrayMixerAqua: -17
- GrayMixerBlue: +15
- GrayMixerGreen: -28
- GrayMixerMagenta: +4
- GrayMixerOrange: -21
- GrayMixerPurple: +19
- GrayMixerRed: -11
- GrayMixerYellow: -25
- GreenHue: 0
- GreenSaturation: 0
- HasCrop: False
- HasSettings: True
- HighlightRecovery: 39
- LuminanceSmoothing: 0
- ParametricDarks: +26
- ParametricHighlightSplit: 75
- ParametricHighlights: -55
- ParametricLights: +51
- ParametricMidtoneSplit: 50
- ParametricShadowSplit: 25
- ParametricShadows: +44
- PostCropVignetteAmount: 0
- RedHue: 0
- RedSaturation: -98
- ShadowTint: 0
- Shadows: 24
- SharpenDetail: 25
- SharpenEdgeMasking: 0
- SharpenRadius: +1.0
- Sharpness: 25
- SplitToningBalance: 0
- SplitToningHighlightHue: 42
- SplitToningHighlightSaturation: 22
- SplitToningShadowHue: 51
- SplitToningShadowSaturation: 29
- Temperature: 5600
- Tint: +8
- ToneCurve: 0, 0, 32, 16, 64, 50, 128, 128, 192, 202, 255, 255
- ToneCurveName: Strong Contrast
- Version: 5.5
- VignetteAmount: -86
- VignetteMidpoint: 38
- WhiteBalance: As Shot
- XMP-dc
- Creator: unknown
- Format: image/jpeg
- XMP-exif
- DateTimeDigitized: 2010:05:16 12:34:21+04:00
- DateTimeOriginal: 2010:05:16 12:34:21+04:00
- FlashFired: False
- FlashFunction: False
- FlashMode: Off
- FlashRedEyeMode: False
- FlashReturn: No return detection
- XMP-tiff
- ImageHeight: 3456
- ImageWidth: 2304
- XMP-xmp
- CreateDate: 2010:05:26 09:35:28+04:00
- ModifyDate: 2010:05:26 09:35:28+04:00
- XMP-xmpMM
- DerivedFrom:
- Просмотров: 195
- Рейтинг: голосов еще нет
- Отзывов: 0