- Раздел: Автомобили
- Дата съёмки: 12.06.2010 14:32
- Дата загрузки фото: 13.06.2010 09:59
- Оригинальная фотография: 4288 x 2848 (2,1 Мб)
- Технические характеристики:
- Фотоаппарат: Nikon D5000
- Выдержка: 1/100
- Гиперфокальное расстояние: inf m
- Диафрагма: 5,6
- Светочувствительность: 400
- Фокусное расстояние: 55,0 mm (35 mm equivalent: 55,0 mm)
- Полный EXIF
- Adobe
- ColorTransform: YCbCr
- Composite
- Aperture: 5,6
- CircleOfConfusion: 0,020 mm
- DOF: inf (0,00 m - inf)
- FOV: 36,0 deg
- FocalLength35efl: 55,0 mm (35 mm equivalent: 55,0 mm)
- HyperfocalDistance: inf m
- ScaleFactor35efl: 1,5
- ShutterSpeed: 1/100
- ExifIFD
- ApertureValue: 5,6
- CFAPattern: [Green,Blue][Red,Green]
- Contrast: Normal
- CreateDate: 2010:06:12 14:32:32
- CustomRendered: Normal
- DateTimeOriginal: 2010:06:12 14:32:32
- DigitalZoomRatio: 1
- ExposureCompensation: 0
- ExposureMode: Auto
- ExposureProgram: Aperture-priority AE
- ExposureTime: 1/100
- FNumber: 5,6
- Flash: No Flash
- FocalLength: 55,0 mm
- FocalLengthIn35mmFormat: 82 mm
- GainControl: Low gain up
- ISO: 400
- LightSource: Unknown
- MaxApertureValue: 5,7
- MeteringMode: Multi-segment
- Saturation: Normal
- SceneCaptureType: Standard
- SceneType: Directly photographed
- SensingMethod: One-chip color area
- Sharpness: Normal
- ShutterSpeedValue: 1/100
- SubjectDistance: 4294967295 m
- SubjectDistanceRange: Unknown
- WhiteBalance: Auto
- ICC-header
- ICC-meas
- ICC-view
- IFD0
- Make: NIKON CORPORATION
- Model: NIKON D5000
- ModifyDate: 2010:06:12 19:20:58
- Software: Ver.1.00
- IFD1
- System
- XMP-aux
- ImageNumber: 884
- Lens: 18.0-55.0 mm f/3.5-5.6
- LensID: 154
- LensInfo: 180/10 550/10 35/10 56/10
- SerialNumber: 9093834
- XMP-crs
- AlreadyApplied: True
- BlueHue: 0
- BlueSaturation: 0
- Brightness: +36
- ChromaticAberrationB: 0
- ChromaticAberrationR: 0
- Clarity: +100
- ColorNoiseReduction: 25
- Contrast: -50
- ConvertToGrayscale: False
- Defringe: 0
- Exposure: +1.05
- FillLight: 0
- GreenHue: 0
- GreenSaturation: 0
- HasCrop: False
- HasSettings: True
- HighlightRecovery: 30
- HueAdjustmentAqua: 0
- HueAdjustmentBlue: 0
- HueAdjustmentGreen: 0
- HueAdjustmentMagenta: 0
- HueAdjustmentOrange: 0
- HueAdjustmentPurple: 0
- HueAdjustmentRed: 0
- HueAdjustmentYellow: 0
- LuminanceAdjustmentAqua: 0
- LuminanceAdjustmentBlue: 0
- LuminanceAdjustmentGreen: 0
- LuminanceAdjustmentMagenta: 0
- LuminanceAdjustmentOrange: 0
- LuminanceAdjustmentPurple: 0
- LuminanceAdjustmentRed: 0
- LuminanceAdjustmentYellow: 0
- LuminanceSmoothing: 69
- ParametricDarks: 0
- ParametricHighlightSplit: 75
- ParametricHighlights: 0
- ParametricLights: 0
- ParametricMidtoneSplit: 50
- ParametricShadowSplit: 25
- ParametricShadows: 0
- PostCropVignetteAmount: 0
- RedHue: 0
- RedSaturation: 0
- Saturation: 0
- SaturationAdjustmentAqua: 0
- SaturationAdjustmentBlue: 0
- SaturationAdjustmentGreen: 0
- SaturationAdjustmentMagenta: 0
- SaturationAdjustmentOrange: +50
- SaturationAdjustmentPurple: 0
- SaturationAdjustmentRed: -29
- SaturationAdjustmentYellow: +95
- ShadowTint: 0
- Shadows: 1
- SharpenDetail: 25
- SharpenEdgeMasking: 61
- SharpenRadius: +1.0
- Sharpness: 25
- SplitToningBalance: 0
- SplitToningHighlightHue: 0
- SplitToningHighlightSaturation: 0
- SplitToningShadowHue: 0
- SplitToningShadowSaturation: 0
- Temperature: 5250
- Tint: +9
- ToneCurve: 0, 0, 32, 22, 64, 56, 128, 128, 192, 196, 255, 255
- ToneCurveName: Medium Contrast
- Version: 5.7
- Vibrance: +36
- VignetteAmount: 0
- WhiteBalance: As Shot
- XMP-exif
- DateTimeDigitized: 2010:06:12 14:32:32.00+08:00
- DateTimeOriginal: 2010:06:12 14:32:32.00+08:00
- ExifImageHeight: 2848
- ExifImageWidth: 4288
- FlashFired: False
- FlashFunction: False
- FlashMode: Unknown
- FlashRedEyeMode: False
- FlashReturn: No return detection
- XMP-tiff
- ImageHeight: 2848
- ImageWidth: 4288
- XMP-xmp
- CreateDate: 2010:06:12 14:32:32.00+08:00
- ModifyDate: 2010:06:12 19:20:58+08:00
- Просмотров: 564
- Рейтинг: голосов еще нет
- Отзывов: 0