| » Участники » proba1 » Солнце » Солнце 8 августа 2010 года. |
Уважаемые друзья и участники проекта iXBT.photo! К сожалению, 1 марта 2026 года проект iXBT.photo прекратит свою работу и будет закрыт. Мы высоко ценим ваше участие и тот вклад, который вы внесли в развитие нашего сообщества. Пожалуйста, не забудьте сохранить ваши фотографии до этой даты.
С уважением, команда iXBT.com
| Солнце 8 августа 2010 года. |
Солнце 8 августа 2010 года.
Снято во время удушающего смога из-за торфяных пожаров в Москве.
Использовал фотоаппарат Lumix DMC-FZ50 + Raynox DCR-2020Pro 2.2x + штатив.
Снимал в RAW.
Видно три солнечных пятна!
- Раздел: Другое, разное
- Дата съёмки: 08.08.2010 18:39
- Дата загрузки фото: 08.08.2010 22:21
- Оригинальная фотография: 1264 x 996 (702 Кб)
- Технические характеристики:
- Фотоаппарат: LEICA V-LUX 1
- Выдержка: 1/1250
- Диафрагма: 5,6
- Светочувствительность: 100
- Фокусное расстояние: 88,0 mm
- Полный EXIF
- Adobe
- ColorTransform: YCbCr
- Composite
- Aperture: 5,6
- FocalLength35efl: 88,0 mm
- ShutterSpeed: 1/1250
- ExifIFD
- ApertureValue: 5,6
- ColorSpace: Uncalibrated
- CreateDate: 2010:08:08 18:39:28
- DateTimeOriginal: 2010:08:08 18:39:28
- ExifImageHeight: 996
- ExifImageWidth: 1264
- ExposureCompensation: 0
- ExposureProgram: Aperture-priority AE
- ExposureTime: 1/1250
- FNumber: 5,6
- Flash: Off, Did not fire
- FocalLength: 88,8 mm
- ISO: 100
- MaxApertureValue: 2,8
- MeteringMode: Spot
- ShutterSpeedValue: 1/1250
- IFD0
- Make: LEICA
- Model: V-LUX 1
- ModifyDate: 2010:08:08 22:09:00
- Orientation: Horizontal (normal)
- IFD1
- IPTC
- DateCreated: 2010:08:08
- System
- XMP-crs
- AlreadyApplied: True
- BlueHue: 0
- BlueSaturation: 0
- Brightness: +50
- ChromaticAberrationB: 0
- ChromaticAberrationR: 0
- Clarity: +22
- ColorNoiseReduction: 0
- Contrast: +25
- ConvertToGrayscale: False
- CropAngle: 0
- CropBottom: 0.744152
- CropConstrainToWarp: 1
- CropLeft: 0.263158
- CropRight: 0.609649
- CropTop: 0.380117
- Defringe: 0
- Exposure: -0.80
- FillLight: 0
- GrainAmount: 0
- GreenHue: 0
- GreenSaturation: 0
- HasCrop: True
- HasSettings: True
- HighlightRecovery: 0
- HueAdjustmentAqua: 0
- HueAdjustmentBlue: 0
- HueAdjustmentGreen: 0
- HueAdjustmentMagenta: 0
- HueAdjustmentOrange: 0
- HueAdjustmentPurple: 0
- HueAdjustmentRed: 0
- HueAdjustmentYellow: +21
- LensManualDistortionAmount: 0
- LensProfileEnable: 0
- LensProfileSetup: LensDefaults
- LuminanceAdjustmentAqua: 0
- LuminanceAdjustmentBlue: 0
- LuminanceAdjustmentGreen: 0
- LuminanceAdjustmentMagenta: 0
- LuminanceAdjustmentOrange: -10
- LuminanceAdjustmentPurple: 0
- LuminanceAdjustmentRed: -10
- LuminanceAdjustmentYellow: -10
- LuminanceSmoothing: 0
- ParametricDarks: -40
- ParametricHighlightSplit: 75
- ParametricHighlights: 0
- ParametricLights: 0
- ParametricMidtoneSplit: 50
- ParametricShadowSplit: 25
- ParametricShadows: 0
- PerspectiveHorizontal: 0
- PerspectiveRotate: 0.0
- PerspectiveScale: 100
- PerspectiveVertical: 0
- PostCropVignetteAmount: 0
- ProcessVersion: 5.7
- RawFileName: L1110574.RAW
- RedHue: 0
- RedSaturation: 0
- Saturation: 0
- SaturationAdjustmentAqua: 0
- SaturationAdjustmentBlue: 0
- SaturationAdjustmentGreen: 0
- SaturationAdjustmentMagenta: 0
- SaturationAdjustmentOrange: 0
- SaturationAdjustmentPurple: 0
- SaturationAdjustmentRed: 0
- SaturationAdjustmentYellow: 0
- ShadowTint: 0
- Shadows: 22
- SharpenDetail: 0
- SharpenEdgeMasking: 100
- SharpenRadius: +0.5
- Sharpness: 11
- SplitToningBalance: 0
- SplitToningHighlightHue: 0
- SplitToningHighlightSaturation: 0
- SplitToningShadowHue: 0
- SplitToningShadowSaturation: 0
- Temperature: 5500
- Tint: +10
- ToneCurve: 0, 0, 32, 16, 64, 50, 128, 128, 192, 202, 255, 255
- ToneCurveName: Strong Contrast
- Version: 6.1
- Vibrance: 0
- VignetteAmount: +24
- VignetteMidpoint: 50
- WhiteBalance: Daylight
- XMP-dc
- XMP-xmp
- CreateDate: 2010:08:08 18:39:28+04:00
- ModifyDate: 2010:08:08 22:09:00+04:00
- Rating: 0
- XMP-xmpMM
Получить код для блога
| Вставка фотографии в текущем разрешении |
Вставка миниатюры |
HTML (для вставки в блог):
BBCode (для вставки в форум):
Ссылка на фото:
Ссылка на миниатюру:
- Послать ссылку другу
| Комментарии к фотографии |