Уважаемые друзья и участники проекта iXBT.photo! К сожалению, 1 марта 2026 года проект iXBT.photo прекратит свою работу и будет закрыт. Мы высоко ценим ваше участие и тот вклад, который вы внесли в развитие нашего сообщества. Пожалуйста, не забудьте сохранить ваши фотографии до этой даты.
С уважением, команда iXBT.com
| DSC01362.jpg |
DSC01362.jpg
- Раздел: Другое, разное
- Дата съёмки: 10.10.2010 19:10
- Дата загрузки фото: 11.10.2010 02:42
- Оригинальная фотография: 4592 x 2576 (1,3 Мб)
- Технические характеристики:
- Фотоаппарат: Sony NEX-5
- Выдержка: 1/80
- Гиперфокальное расстояние: inf m
- Диафрагма: 5,6
- Светочувствительность: 200
- Фокусное расстояние: 18,0 mm (35 mm equivalent: 18,0 mm)
- Полный EXIF
- Adobe
- ColorTransform: YCbCr
- Composite
- Aperture: 5,6
- CircleOfConfusion: 0,020 mm
- FOV: 90,0 deg
- FocalLength35efl: 18,0 mm (35 mm equivalent: 18,0 mm)
- HyperfocalDistance: inf m
- ScaleFactor35efl: 1,5
- ShutterSpeed: 1/80
- ExifIFD
- ApertureValue: 5,6
- BrightnessValue: 5,75
- ColorSpace: Uncalibrated
- Contrast: Normal
- CreateDate: 2010:10:10 19:10:39
- CustomRendered: Normal
- DateTimeOriginal: 2010:10:10 19:10:39
- ExifImageHeight: 2576
- ExifImageWidth: 4592
- ExposureCompensation: 0
- ExposureMode: Auto
- ExposureProgram: Program AE
- ExposureTime: 1/80
- FNumber: 5,6
- Flash: Off, Did not fire
- FocalLength: 18,0 mm
- FocalLengthIn35mmFormat: 27 mm
- ISO: 200
- LensInfo: 18-55mm f/3.5-5.6
- LensModel: E 18-55mm F3.5-5.6 OSS
- LightSource: Unknown
- MaxApertureValue: 3,5
- MeteringMode: Multi-segment
- RecommendedExposureIndex: 200
- Saturation: High
- SceneCaptureType: Standard
- SceneType: Directly photographed
- SensitivityType: Recommended Exposure Index
- Sharpness: Hard
- ShutterSpeedValue: 1/80
- WhiteBalance: Auto
- ICC-header
- IFD0
- ImageDescription: SONY DSC
- Make: SONY
- Model: NEX-5
- ModifyDate: 2010:10:11 09:18:53
- Orientation: Horizontal (normal)
- IFD1
- IPTC
- Caption-Abstract: SONY DSC
- DateCreated: 2010:10:10
- System
- XMP-aux
- Lens: E 18-55mm F3.5-5.6 OSS
- XMP-crs
- AlreadyApplied: True
- BlueHue: 0
- BlueSaturation: 0
- Brightness: +50
- ChromaticAberrationB: 0
- ChromaticAberrationR: 0
- Clarity: +100
- ColorNoiseReduction: 25
- ColorNoiseReductionDetail: 50
- Contrast: +25
- ConvertToGrayscale: False
- Defringe: 0
- Exposure: 0.00
- FillLight: 21
- GrainAmount: 0
- GreenHue: 0
- GreenSaturation: 0
- HasCrop: False
- HasSettings: True
- HighlightRecovery: 0
- HueAdjustmentAqua: 0
- HueAdjustmentBlue: 0
- HueAdjustmentGreen: 0
- HueAdjustmentMagenta: 0
- HueAdjustmentOrange: 0
- HueAdjustmentPurple: 0
- HueAdjustmentRed: 0
- HueAdjustmentYellow: 0
- LensManualDistortionAmount: 0
- LensProfileEnable: 0
- LensProfileSetup: LensDefaults
- LuminanceAdjustmentAqua: 0
- LuminanceAdjustmentBlue: -73
- LuminanceAdjustmentGreen: 0
- LuminanceAdjustmentMagenta: +8
- LuminanceAdjustmentOrange: 0
- LuminanceAdjustmentPurple: +4
- LuminanceAdjustmentRed: 0
- LuminanceAdjustmentYellow: -9
- LuminanceSmoothing: 0
- ParametricDarks: -12
- ParametricHighlightSplit: 75
- ParametricHighlights: -30
- ParametricLights: +9
- ParametricMidtoneSplit: 50
- ParametricShadowSplit: 25
- ParametricShadows: +37
- PerspectiveHorizontal: 0
- PerspectiveRotate: 0.0
- PerspectiveScale: 100
- PerspectiveVertical: 0
- PostCropVignetteAmount: 0
- ProcessVersion: 5.7
- RawFileName: DSC01362.ARW
- RedHue: 0
- RedSaturation: 0
- Saturation: +53
- SaturationAdjustmentAqua: 0
- SaturationAdjustmentBlue: +25
- SaturationAdjustmentGreen: +48
- SaturationAdjustmentMagenta: 0
- SaturationAdjustmentOrange: 0
- SaturationAdjustmentPurple: 0
- SaturationAdjustmentRed: +37
- SaturationAdjustmentYellow: -41
- ShadowTint: 0
- Shadows: 7
- SharpenDetail: 42
- SharpenEdgeMasking: 13
- SharpenRadius: +1.0
- Sharpness: 31
- SplitToningBalance: 0
- SplitToningHighlightHue: 0
- SplitToningHighlightSaturation: 0
- SplitToningShadowHue: 0
- SplitToningShadowSaturation: 0
- Temperature: 7050
- Tint: +3
- ToneCurve: 0, 0, 32, 22, 64, 56, 128, 128, 192, 196, 255, 255
- ToneCurveName: Medium Contrast
- Version: 6.2
- Vibrance: +35
- VignetteAmount: 0
- WhiteBalance: As Shot
- XMP-dc
- Description: SONY DSC
- Format: image/jpeg
- XMP-xmp
- CreateDate: 2010:10:10 19:10:39+11:00
- CreatorTool: NEX-5 Ver.02
- ModifyDate: 2010:10:11 09:18:53+11:00
- Rating: 0
- XMP-xmpMM
- Просмотров: 376
- Рейтинг: голосов еще нет
- Отзывов: отключены
Получить код для блога
| Вставка фотографии в текущем разрешении |
Вставка миниатюры |
HTML (для вставки в блог):
BBCode (для вставки в форум):
Ссылка на фото:
Ссылка на миниатюру:
- Послать ссылку другу
| Комментарии к фотографии |