Уважаемые друзья и участники проекта iXBT.photo! К сожалению, 1 марта 2026 года проект iXBT.photo прекратит свою работу и будет закрыт. Мы высоко ценим ваше участие и тот вклад, который вы внесли в развитие нашего сообщества. Пожалуйста, не забудьте сохранить ваши фотографии до этой даты.
С уважением, команда iXBT.com
| *********** |
***********
- Раздел: Портрет
- Дата съёмки: 21.10.2010 21:15
- Дата загрузки фото: 23.10.2010 18:12
- Оригинальная фотография: 4368 x 2912 (7,4 Мб)
- Технические характеристики:
- Фотоаппарат: Canon EOS 5D
- Выдержка: 1/200
- Гиперфокальное расстояние: inf m
- Диафрагма: 1,6
- Светочувствительность: 800
- Фокусное расстояние: 35,0 mm (35 mm equivalent: 35,0 mm)
- Экспокоррекция: -2/3
- Полный EXIF
- Adobe
- ColorTransform: YCbCr
- Composite
- Aperture: 1,6
- CircleOfConfusion: 0,030 mm
- FOV: 54,0 deg
- FocalLength35efl: 35,0 mm (35 mm equivalent: 35,0 mm)
- HyperfocalDistance: inf m
- ScaleFactor35efl: 1,0
- ShutterSpeed: 1/200
- ExifIFD
- ApertureValue: 1,6
- CreateDate: 2010:10:21 21:15:58
- CustomRendered: Normal
- DateTimeOriginal: 2010:10:21 21:15:58
- ExposureCompensation: -2/3
- ExposureMode: Auto
- ExposureProgram: Aperture-priority AE
- ExposureTime: 1/200
- FNumber: 1,6
- Flash: Off, Did not fire
- FocalLength: 35,0 mm
- ISO: 800
- MaxApertureValue: 1,4
- MeteringMode: Partial
- SceneCaptureType: Standard
- ShutterSpeedValue: 1/200
- WhiteBalance: Auto
- ICC-header
- ICC-meas
- ICC-view
- IFD0
- Make: Canon
- Model: Canon EOS 5D
- ModifyDate: 2010:10:23 18:11:08
- IFD1
- System
- XMP-aux
- Firmware: 1.1.1
- FlashCompensation: 0
- ImageNumber: 5
- Lens: EF35mm f/1.4L USM
- LensInfo: 35mm f/?
- SerialNumber: 730507263
- XMP-crs
- AlreadyApplied: True
- BlueHue: 0
- BlueSaturation: 0
- Brightness: +18
- ChromaticAberrationB: 0
- ChromaticAberrationR: 0
- Clarity: +50
- ColorNoiseReduction: 25
- Contrast: -2
- ConvertToGrayscale: True
- Defringe: 0
- Exposure: +1.80
- FillLight: 0
- GrayMixerAqua: -21
- GrayMixerBlue: +2
- GrayMixerGreen: -21
- GrayMixerMagenta: +7
- GrayMixerOrange: -9
- GrayMixerPurple: +12
- GrayMixerRed: -1
- GrayMixerYellow: -13
- GreenHue: 0
- GreenSaturation: 0
- HasCrop: False
- HasSettings: True
- HighlightRecovery: 0
- LuminanceSmoothing: 0
- ParametricDarks: 0
- ParametricHighlightSplit: 75
- ParametricHighlights: +30
- ParametricLights: 0
- ParametricMidtoneSplit: 50
- ParametricShadowSplit: 25
- ParametricShadows: 0
- PostCropVignetteAmount: 0
- RedHue: 0
- RedSaturation: 0
- ShadowTint: 0
- Shadows: 0
- SharpenDetail: 25
- SharpenEdgeMasking: 0
- SharpenRadius: +1.0
- Sharpness: 25
- SplitToningBalance: -24
- SplitToningHighlightHue: 63
- SplitToningHighlightSaturation: 43
- SplitToningShadowHue: 21
- SplitToningShadowSaturation: 29
- Temperature: 2850
- Tint: 0
- ToneCurve: 0, 0, 32, 22, 64, 56, 128, 128, 192, 196, 255, 255
- ToneCurveName: Medium Contrast
- Version: 5.3
- VignetteAmount: 0
- XMP-exif
- DateTimeDigitized: 2010:10:21 21:15:58+04:00
- DateTimeOriginal: 2010:10:21 21:15:58+04:00
- ExifImageHeight: 2912
- ExifImageWidth: 4368
- FlashFired: False
- FlashFunction: False
- FlashMode: Off
- FlashRedEyeMode: False
- FlashReturn: No return detection
- XMP-tiff
- ImageHeight: 2912
- ImageWidth: 4368
- XMP-xmp
- CreateDate: 2010:10:21 21:15:58+04:00
- ModifyDate: 2010:10:23 18:11:08+04:00
- Просмотров: 1604
- Рейтинг: голосов еще нет
- Отзывов: 2
Получить код для блога
| Вставка фотографии в текущем разрешении |
Вставка миниатюры |
HTML (для вставки в блог):
BBCode (для вставки в форум):
Ссылка на фото:
Ссылка на миниатюру:
- Послать ссылку другу
| Комментарии к фотографии |