Уважаемые друзья и участники проекта iXBT.photo! К сожалению, 1 марта 2026 года проект iXBT.photo прекратит свою работу и будет закрыт. Мы высоко ценим ваше участие и тот вклад, который вы внесли в развитие нашего сообщества. Пожалуйста, не забудьте сохранить ваши фотографии до этой даты.
С уважением, команда iXBT.com
| DSCF2201-1-3.jpg |
DSCF2201-1-3.jpg
- Раздел: Другое, разное
- Дата съёмки: 09.01.2011 14:42
- Дата загрузки фото: 10.01.2011 01:46
- Оригинальная фотография: 3648 x 2736 (15,8 Мб)
- Технические характеристики:
- Фотоаппарат: FujiFilm FinePix HS10 HS11
- Выдержка: 1/30
- Гиперфокальное расстояние: inf m
- Диафрагма: 4,0
- Светочувствительность: 800
- Фокусное расстояние: 14,0 mm (35 mm equivalent: 42,0 mm)
- Полный EXIF
- Adobe
- ColorTransform: YCbCr
- Composite
- Aperture: 4,0
- CircleOfConfusion: 0,009 mm
- FOV: 46,0 deg
- FocalLength35efl: 14,0 mm (35 mm equivalent: 42,0 mm)
- HyperfocalDistance: inf m
- ScaleFactor35efl: 3,3
- ShutterSpeed: 1/30
- ExifIFD
- ApertureValue: 4,0
- BrightnessValue: 0
- CreateDate: 2011:01:09 14:42:51
- CustomRendered: Normal
- DateTimeOriginal: 2011:01:09 14:42:51
- ExposureCompensation: 0
- ExposureMode: Manual
- ExposureProgram: Manual
- ExposureTime: 1/30
- FNumber: 4,0
- Flash: Off, Did not fire
- FocalLength: 14,3 mm
- ISO: 800
- LightSource: Unknown
- MaxApertureValue: 2,8
- MeteringMode: Average
- SceneCaptureType: Standard
- SceneType: Directly photographed
- SensingMethod: One-chip color area
- SensitivityType: Unknown
- Sharpness: Normal
- ShutterSpeedValue: 1/30
- SubjectDistanceRange: Unknown
- WhiteBalance: Auto
- ICC-header
- ICC-meas
- ICC-view
- IFD0
- Make: FUJIFILM
- Model: FinePix HS10 HS11
- ModifyDate: 2011:01:09 15:21:10
- Software: Digital Camera FinePix HS10 HS11 Ver1.02
- IFD1
- System
- XMP-crs
- AlreadyApplied: True
- BlueHue: 0
- BlueSaturation: 0
- Brightness: +50
- ChromaticAberrationB: 0
- ChromaticAberrationR: 0
- Clarity: 0
- ColorNoiseReduction: 25
- ColorNoiseReductionDetail: 50
- Contrast: +25
- ConvertToGrayscale: False
- Defringe: 0
- Exposure: +2.00
- FillLight: 80
- GrainAmount: 0
- GreenHue: 0
- GreenSaturation: 0
- HasCrop: False
- HasSettings: True
- HighlightRecovery: 0
- HueAdjustmentAqua: 0
- HueAdjustmentBlue: -91
- HueAdjustmentGreen: 0
- HueAdjustmentMagenta: 0
- HueAdjustmentOrange: 0
- HueAdjustmentPurple: 0
- HueAdjustmentRed: 0
- HueAdjustmentYellow: 0
- LensManualDistortionAmount: 0
- LensProfileEnable: 0
- LensProfileSetup: LensDefaults
- LuminanceAdjustmentAqua: 0
- LuminanceAdjustmentBlue: +8
- LuminanceAdjustmentGreen: 0
- LuminanceAdjustmentMagenta: 0
- LuminanceAdjustmentOrange: 0
- LuminanceAdjustmentPurple: 0
- LuminanceAdjustmentRed: 0
- LuminanceAdjustmentYellow: 0
- LuminanceNoiseReductionContrast: 0
- LuminanceNoiseReductionDetail: 50
- LuminanceSmoothing: 12
- ParametricDarks: 0
- ParametricHighlightSplit: 75
- ParametricHighlights: +100
- ParametricLights: 0
- ParametricMidtoneSplit: 50
- ParametricShadowSplit: 25
- ParametricShadows: -42
- PerspectiveHorizontal: 0
- PerspectiveRotate: 0.0
- PerspectiveScale: 100
- PerspectiveVertical: 0
- PostCropVignetteAmount: 0
- ProcessVersion: 5.7
- RedHue: 0
- RedSaturation: 0
- Saturation: +50
- SaturationAdjustmentAqua: 0
- SaturationAdjustmentBlue: -100
- SaturationAdjustmentGreen: 0
- SaturationAdjustmentMagenta: 0
- SaturationAdjustmentOrange: 0
- SaturationAdjustmentPurple: 0
- SaturationAdjustmentRed: 0
- SaturationAdjustmentYellow: 0
- ShadowTint: 0
- Shadows: 60
- SharpenDetail: 25
- SharpenEdgeMasking: 0
- SharpenRadius: +1.0
- Sharpness: 25
- SplitToningBalance: 0
- SplitToningHighlightHue: 0
- SplitToningHighlightSaturation: 0
- SplitToningShadowHue: 0
- SplitToningShadowSaturation: 0
- Temperature: 4550
- Tint: +35
- ToneCurve: 0, 0, 32, 22, 64, 56, 128, 128, 192, 196, 255, 255
- ToneCurveName: Medium Contrast
- Version: 6.2
- Vibrance: 0
- VignetteAmount: 0
- WhiteBalance: As Shot
- XMP-exif
- DateTimeDigitized: 2011:01:09 14:42:51+03:00
- DateTimeOriginal: 2011:01:09 14:42:51+03:00
- ExifImageHeight: 2736
- ExifImageWidth: 3648
- FlashFired: False
- FlashFunction: False
- FlashMode: Off
- FlashRedEyeMode: False
- FlashReturn: No return detection
- XMP-tiff
- ImageHeight: 2736
- ImageWidth: 3648
- XMP-xmp
- CreateDate: 2011:01:09 14:42:51+03:00
- ModifyDate: 2011:01:09 15:21:10+03:00
- Просмотров: 248
- Рейтинг: голосов еще нет
- Отзывов: отключены
Получить код для блога
| Вставка фотографии в текущем разрешении |
Вставка миниатюры |
HTML (для вставки в блог):
BBCode (для вставки в форум):
Ссылка на фото:
Ссылка на миниатюру:
- Послать ссылку другу
| Комментарии к фотографии |