- Раздел: Пейзаж
- Дата съёмки: 01.09.2010 16:39
- Дата загрузки фото: 06.02.2011 19:31
- Оригинальная фотография: 1500 x 1000 (1,5 Мб)
- Технические характеристики:
- Фотоаппарат: Canon EOS 40D
- Выдержка: 1/500
- Гиперфокальное расстояние: inf m
- Диафрагма: 9,0
- Светочувствительность: 100
- Фокусное расстояние: 12,0 mm (35 mm equivalent: 48,0 mm)
- Полный EXIF
- Adobe
- ColorTransform: YCbCr
- Composite
- Aperture: 9,0
- CircleOfConfusion: 0,007 mm
- DOF: inf (0,00 m - inf)
- FOV: 41,0 deg
- FocalLength35efl: 12,0 mm (35 mm equivalent: 48,0 mm)
- HyperfocalDistance: inf m
- ScaleFactor35efl: 4,2
- ShutterSpeed: 1/500
- ExifIFD
- ApertureValue: 9,0
- ColorSpace: sRGB
- CreateDate: 2010:09:01 16:39:07
- CustomRendered: Normal
- DateTimeOriginal: 2010:09:01 16:39:07
- ExifImageHeight: 1000
- ExifImageWidth: 1500
- ExposureCompensation: 0
- ExposureMode: Manual
- ExposureProgram: Manual
- ExposureTime: 1/500
- FNumber: 9,0
- Flash: Off, Did not fire
- FocalLength: 12,0 mm
- ISO: 100
- LensInfo: 12-24mm f/?
- LensModel: 12-24mm
- MaxApertureValue: 4,0
- MeteringMode: Spot
- SceneCaptureType: Standard
- SensitivityType: Unknown
- SerialNumber: 2231214667
- ShutterSpeedValue: 1/500
- SubjectDistance: 2,66 m
- WhiteBalance: Manual
- ICC-header
- ICC-meas
- ICC-view
- IFD0
- BitsPerSample: 8 8 8
- ImageHeight: 2592
- ImageWidth: 3888
- Make: Canon
- Model: Canon EOS 40D
- ModifyDate: 2011:02:06 19:19:50
- Orientation: Horizontal (normal)
- PhotometricInterpretation: RGB
- SamplesPerPixel: 3
- IFD1
- IPTC
- DateCreated: 2010:09:01
- System
- XMP-aux
- ApproximateFocusDistance: 2,66
- Firmware: 1.1.1
- FlashCompensation: 0
- ImageNumber: 0
- Lens: 12-24mm
- LensID: 160
- XMP-crs
- AlreadyApplied: True
- BlueHue: -8
- BlueSaturation: +6
- Brightness: +41
- CameraProfile: Embedded
- ChromaticAberrationB: 0
- ChromaticAberrationR: 0
- Clarity: +96
- ColorNoiseReduction: 100
- Contrast: +45
- ConvertToGrayscale: False
- Defringe: 0
- Exposure: +0.33
- FillLight: 14
- GrainAmount: 0
- GreenHue: +31
- GreenSaturation: +23
- HasCrop: False
- HasSettings: True
- HighlightRecovery: 100
- HueAdjustmentAqua: 0
- HueAdjustmentBlue: 0
- HueAdjustmentGreen: 0
- HueAdjustmentMagenta: 0
- HueAdjustmentOrange: 0
- HueAdjustmentPurple: 0
- HueAdjustmentRed: 0
- HueAdjustmentYellow: 0
- IncrementalTemperature: -27
- IncrementalTint: -4
- LensManualDistortionAmount: 0
- LensProfileEnable: 0
- LensProfileSetup: LensDefaults
- LuminanceAdjustmentAqua: +13
- LuminanceAdjustmentBlue: +18
- LuminanceAdjustmentGreen: +8
- LuminanceAdjustmentMagenta: -11
- LuminanceAdjustmentOrange: +29
- LuminanceAdjustmentPurple: +19
- LuminanceAdjustmentRed: +16
- LuminanceAdjustmentYellow: -6
- LuminanceSmoothing: 25
- ParametricDarks: +6
- ParametricHighlightSplit: 75
- ParametricHighlights: +8
- ParametricLights: -30
- ParametricMidtoneSplit: 50
- ParametricShadowSplit: 25
- ParametricShadows: -16
- PerspectiveHorizontal: 0
- PerspectiveRotate: 0.0
- PerspectiveScale: 100
- PerspectiveVertical: 0
- PostCropVignetteAmount: +2
- PostCropVignetteFeather: 50
- PostCropVignetteMidpoint: 50
- PostCropVignetteRoundness: 0
- PostCropVignetteStyle: 1
- ProcessVersion: 5.0
- RedHue: +27
- RedSaturation: -42
- Saturation: +4
- SaturationAdjustmentAqua: 0
- SaturationAdjustmentBlue: 0
- SaturationAdjustmentGreen: 0
- SaturationAdjustmentMagenta: 0
- SaturationAdjustmentOrange: 0
- SaturationAdjustmentPurple: 0
- SaturationAdjustmentRed: 0
- SaturationAdjustmentYellow: 0
- ShadowTint: 0
- Shadows: 0
- SharpenDetail: 86
- SharpenEdgeMasking: 0
- SharpenRadius: +0.5
- Sharpness: 147
- SplitToningBalance: +12
- SplitToningHighlightHue: 109
- SplitToningHighlightSaturation: 19
- SplitToningShadowHue: 15
- SplitToningShadowSaturation: 5
- ToneCurve: 0, 0, 255, 255
- ToneCurveName: Linear
- Version: 6.2
- Vibrance: +60
- VignetteAmount: 0
- WhiteBalance: Custom
- XMP-dc
- XMP-xmp
- CreateDate: 2010:09:01 16:39:07.00+04:00
- ModifyDate: 2011:02:06 19:19:50+03:00
- XMP-xmpMM