| » Участники » Harumpel » Berlin » Alexanderplatz, Berlin |
Уважаемые друзья и участники проекта iXBT.photo! К сожалению, 5 марта 2026 года проект iXBT.photo прекратит свою работу и будет закрыт. Мы высоко ценим ваше участие и тот вклад, который вы внесли в развитие нашего сообщества. Пожалуйста, не забудьте сохранить ваши фотографии до этой даты.
С уважением, команда iXBT.com
| Alexanderplatz, Berlin |
Alexanderplatz, Berlin
- Раздел: Город
- Дата съёмки: 17.03.2007 17:37
- Дата загрузки фото: 20.03.2007 19:36
- Оригинальная фотография: 648 x 968 (194 Кб)
- Технические характеристики:
- Фотоаппарат: Sony DSLR-A100
- Выдержка: 1/500
- Гиперфокальное расстояние: 7,19 m
- Диафрагма: 4,0
- Светочувствительность: 200
- Фокусное расстояние: 24,0mm (35mm эквивалент: 36,0mm)
- Экспокоррекция: +2
- Полный EXIF
- ColorTransform: YCbCr
- Composite
- Aperture: 4,0
- CircleOfConfusion: 0,020 mm
- EV: 12,0
- FocalLength35efl: 24,0mm (35mm equivalent: 36,0mm)
- HyperfocalDistance: 7,19 m
- ScaleFactor35efl: 1,5
- ShutterSpeed: 1/500
- ExifIFD
- ApertureValue: 4,0
- BrightnessValue: 8,87
- ColorSpace: sRGB
- Contrast: High
- CreateDate: 2007:03:17 17:37:21
- CustomRendered: Normal
- DateTimeOriginal: 2007:03:17 17:37:21
- DigitalZoomRatio: 0
- ExifImageLength: 968
- ExifImageWidth: 648
- ExposureCompensation: +2
- ExposureMode: Auto
- ExposureProgram: Aperture-priority AE
- ExposureTime: 1/500
- FNumber: 4,0
- Flash: Off
- FocalLength: 24,0mm
- FocalLengthIn35mmFormat: 36
- GainControl: None
- ISO: 200
- LightSource: Unknown (0)
- MaxApertureValue: 2,8
- MeteringMode: Center-weighted average
- Saturation: Normal
- SceneCaptureType: Standard
- SceneType: Directly photographed
- Sharpness: Hard
- ShutterSpeedValue: 1/500
- SubjectLocation: 1936 1296 329 393
- WhiteBalance: Auto
- ICC-header
- ICC-meas
- ICC-view
- IFD0
- ImageDescription: SONY DSC
- Make: SONY
- Model: DSLR-A100
- ModifyDate: 2007:03:20 17:32:55
- Orientation: Horizontal (normal)
- IFD1
- IPTC
- Caption-Abstract: SONY DSC
- XMP-crs
- AlreadyApplied: True
- BlueHue: 0
- BlueSaturation: 0
- Brightness: 0
- CameraProfile: ACR 2.4
- ChromaticAberrationB: 0
- ChromaticAberrationR: 0
- Contrast: +20
- ConvertToGrayscale: True
- Exposure: -0.20
- FillLight: 15
- GrayMixerAqua: -18
- GrayMixerBlue: +8
- GrayMixerGreen: -26
- GrayMixerMagenta: +3
- GrayMixerOrange: -18
- GrayMixerPurple: +14
- GrayMixerRed: -9
- GrayMixerYellow: -22
- GreenHue: 0
- GreenSaturation: 0
- HasCrop: False
- HasSettings: True
- HighlightRecovery: 18
- IncrementalTemperature: +46
- IncrementalTint: +21
- LuminanceSmoothing: 0
- ParametricDarks: 0
- ParametricHighlightSplit: 75
- ParametricHighlights: 0
- ParametricLights: 0
- ParametricMidtoneSplit: 50
- ParametricShadowSplit: 25
- ParametricShadows: 0
- RedHue: 0
- RedSaturation: 0
- ShadowTint: 0
- Shadows: 1
- Sharpness: 25
- SplitToningBalance: 0
- SplitToningHighlightHue: 0
- SplitToningHighlightSaturation: 0
- SplitToningShadowHue: 0
- SplitToningShadowSaturation: 0
- ToneCurve: 0, 0, 255, 255
- ToneCurveName: Linear
- Version: 1.0
- VignetteAmount: 0
- XMP-dc
- XMP-exif
- DateTimeDigitized: 2007:03:17 17:37:21+01:00
- DateTimeOriginal: 2007:03:17 17:37:21+01:00
- FlashFired: False
- FlashFunction: False
- FlashMode: Off
- FlashRedEyeMode: False
- FlashReturn: No return detection
- SubjectArea: 1936, 1296, 329, 393
- XMP-tiff
- ImageHeight: 3872
- ImageWidth: 2592
- XMP-xmp
- ModifyDate: 2007:03:19 17:08:49+01:00
- Просмотров: 494
- Рейтинг: голосов еще нет
- Отзывов: 0
Получить код для блога
| Вставка фотографии в текущем разрешении |
Вставка миниатюры |
HTML (для вставки в блог):
BBCode (для вставки в форум):
Ссылка на фото:
Ссылка на миниатюру:
- Послать ссылку другу
| Комментарии к фотографии |