Уважаемые друзья и участники проекта iXBT.photo! К сожалению, 1 марта 2026 года проект iXBT.photo прекратит свою работу и будет закрыт. Мы высоко ценим ваше участие и тот вклад, который вы внесли в развитие нашего сообщества. Пожалуйста, не забудьте сохранить ваши фотографии до этой даты.
С уважением, команда iXBT.com
| MAV_0062.jpg |
MAV_0062.jpg
- Раздел: Семья, личное
- Дата съёмки: 10.09.2010 10:35
- Дата загрузки фото: 24.06.2011 16:12
- Оригинальная фотография: 598 x 900 (138 Кб)
- Технические характеристики:
- Фотоаппарат: Nikon D300
- Выдержка: 1/30
- Гиперфокальное расстояние: inf m
- Диафрагма: 2,8
- Светочувствительность: 800
- Фокусное расстояние: 160,0 mm (35 mm equivalent: 160,0 mm)
- Полный EXIF
- Composite
- Aperture: 2,8
- CircleOfConfusion: 0,020 mm
- DOF: inf (0,00 m - inf)
- FOV: 12,0 deg
- FocalLength35efl: 160,0 mm (35 mm equivalent: 160,0 mm)
- HyperfocalDistance: inf m
- ScaleFactor35efl: 1,5
- ShutterSpeed: 1/30
- ExifIFD
- ApertureValue: 2,8
- CFAPattern: [Red,Green][Green,Blue]
- ColorSpace: sRGB
- Contrast: Normal
- CreateDate: 2010:09:10 10:35:23
- CustomRendered: Normal
- DateTimeOriginal: 2010:09:10 10:35:23
- DigitalZoomRatio: 1
- ExifImageHeight: 900
- ExifImageWidth: 598
- ExposureCompensation: 0
- ExposureMode: Auto
- ExposureProgram: Aperture-priority AE
- ExposureTime: 1/30
- FNumber: 2,8
- Flash: No Flash
- FocalLength: 160,0 mm
- FocalLengthIn35mmFormat: 240 mm
- GainControl: Low gain up
- ISO: 800
- LensInfo: 70-200mm f/2.8
- LensModel: 70.0-200.0 mm f/2.8
- LightSource: Unknown
- MaxApertureValue: 2,8
- MeteringMode: Multi-segment
- Saturation: Normal
- SceneCaptureType: Standard
- SceneType: Directly photographed
- SensingMethod: One-chip color area
- SensitivityType: Unknown
- SerialNumber: 4113881
- Sharpness: Normal
- ShutterSpeedValue: 1/30
- SubjectDistance: 5,96 m
- SubjectDistanceRange: Unknown
- WhiteBalance: Auto
- ICC-header
- ICC-meas
- ICC-view
- IFD0
- Artist: ANDREW MAVRITSKY
- Copyright: ANDREW MAVRITSKY
- Make: NIKON CORPORATION
- Model: NIKON D300
- ModifyDate: 2010:11:26 10:29:12
- Orientation: Horizontal (normal)
- IFD1
- IPTC
- By-line: ANDREW MAVRITSKY
- CopyrightNotice: ANDREW MAVRITSKY
- System
- XMP-aux
- ApproximateFocusDistance: 5,96
- ImageNumber: 141510
- Lens: 70.0-200.0 mm f/2.8
- LensID: 238
- XMP-crs
- AlreadyApplied: True
- BlueHue: 0
- BlueSaturation: 0
- Brightness: +57
- CameraProfile: ACR 4.4
- ChromaticAberrationB: 0
- ChromaticAberrationR: 0
- Clarity: +20
- ColorNoiseReduction: 40
- ColorNoiseReductionDetail: 50
- Contrast: +81
- ConvertToGrayscale: False
- CropAngle: -2.95591
- CropBottom: 0.927864
- CropConstrainToWarp: 0
- CropHeight: 2646
- CropLeft: 0.020157
- CropRight: 0.979843
- CropTop: 0.072136
- CropUnit: pixels
- CropWidth: 3984
- Defringe: 0
- Exposure: +0.39
- FillLight: 17
- GrainAmount: 0
- GreenHue: 0
- GreenSaturation: 0
- HasCrop: True
- HasSettings: True
- HighlightRecovery: 50
- HueAdjustmentAqua: 0
- HueAdjustmentBlue: 0
- HueAdjustmentGreen: +6
- HueAdjustmentMagenta: 0
- HueAdjustmentOrange: 0
- HueAdjustmentPurple: 0
- HueAdjustmentRed: +39
- HueAdjustmentYellow: 0
- LensManualDistortionAmount: 0
- LensProfileEnable: 0
- LensProfileSetup: LensDefaults
- LuminanceAdjustmentAqua: 0
- LuminanceAdjustmentBlue: +28
- LuminanceAdjustmentGreen: -5
- LuminanceAdjustmentMagenta: 0
- LuminanceAdjustmentOrange: -7
- LuminanceAdjustmentPurple: 0
- LuminanceAdjustmentRed: -8
- LuminanceAdjustmentYellow: -4
- LuminanceNoiseReductionContrast: 0
- LuminanceNoiseReductionDetail: 50
- LuminanceSmoothing: 34
- ParametricDarks: -8
- ParametricHighlightSplit: 75
- ParametricHighlights: +21
- ParametricLights: -5
- ParametricMidtoneSplit: 50
- ParametricShadowSplit: 25
- ParametricShadows: -27
- PerspectiveHorizontal: 0
- PerspectiveRotate: 0.0
- PerspectiveScale: 100
- PerspectiveVertical: 0
- PostCropVignetteAmount: 0
- ProcessVersion: 5.7
- RedHue: 0
- RedSaturation: 0
- Saturation: +8
- SaturationAdjustmentAqua: 0
- SaturationAdjustmentBlue: +19
- SaturationAdjustmentGreen: +28
- SaturationAdjustmentMagenta: 0
- SaturationAdjustmentOrange: +14
- SaturationAdjustmentPurple: 0
- SaturationAdjustmentRed: +15
- SaturationAdjustmentYellow: +16
- ShadowTint: 0
- Shadows: 23
- SharpenDetail: 25
- SharpenEdgeMasking: 50
- SharpenRadius: +1.9
- Sharpness: 49
- SplitToningBalance: 0
- SplitToningHighlightHue: 33
- SplitToningHighlightSaturation: 23
- SplitToningShadowHue: 238
- SplitToningShadowSaturation: 6
- Temperature: 2097
- Tint: -12
- ToneCurve: 0, 0, 255, 255
- ToneCurveName: Linear
- Version: 6.2
- Vibrance: +3
- VignetteAmount: -65
- VignetteMidpoint: 19
- WhiteBalance: Custom
- XMP-dc
- Creator: ANDREW MAVRITSKY
- Format: image/jpeg
- Rights: ANDREW MAVRITSKY
- XMP-exif
- DateTimeDigitized: 2010:09:10 10:35:23.24+04:00
- DateTimeOriginal: 2010:09:10 10:35:23.24+04:00
- ExifImageHeight: 3984
- ExifImageWidth: 2646
- FlashFired: False
- FlashFunction: False
- FlashMode: Unknown
- FlashRedEyeMode: False
- FlashReturn: No return detection
- XMP-tiff
- ImageHeight: 3984
- ImageWidth: 2646
- XMP-xmp
- CreateDate: 2010:09:10 10:35:23.24+04:00
- ModifyDate: 2010:11:26 10:29:12+03:00
- XMP-xmpMM
- Просмотров: 149
- Рейтинг: голосов еще нет
- Отзывов: 0
Получить код для блога
| Вставка фотографии в текущем разрешении |
Вставка миниатюры |
HTML (для вставки в блог):
BBCode (для вставки в форум):
Ссылка на фото:
Ссылка на миниатюру:
- Послать ссылку другу
| Комментарии к фотографии |