Уважаемые друзья и участники проекта iXBT.photo! К сожалению, 1 марта 2026 года проект iXBT.photo прекратит свою работу и будет закрыт. Мы высоко ценим ваше участие и тот вклад, который вы внесли в развитие нашего сообщества. Пожалуйста, не забудьте сохранить ваши фотографии до этой даты.
С уважением, команда iXBT.com
| MAV_0049.jpg |
MAV_0049.jpg
- Раздел: Семья, личное
- Дата съёмки: 10.09.2010 10:31
- Дата загрузки фото: 24.06.2011 16:12
- Оригинальная фотография: 598 x 900 (115 Кб)
- Технические характеристики:
- Фотоаппарат: Nikon D300
- Выдержка: 1/160
- Гиперфокальное расстояние: inf m
- Диафрагма: 2,8
- Светочувствительность: 800
- Фокусное расстояние: 112,0 mm (35 mm equivalent: 112,0 mm)
- Экспокоррекция: +1/3
- Полный EXIF
- Composite
- Aperture: 2,8
- CircleOfConfusion: 0,020 mm
- DOF: inf (0,00 m - inf)
- FOV: 18,0 deg
- FocalLength35efl: 112,0 mm (35 mm equivalent: 112,0 mm)
- HyperfocalDistance: inf m
- ScaleFactor35efl: 1,5
- ShutterSpeed: 1/160
- ExifIFD
- ApertureValue: 2,8
- CFAPattern: [Red,Green][Green,Blue]
- ColorSpace: sRGB
- Contrast: Normal
- CreateDate: 2010:09:10 10:31:26
- CustomRendered: Normal
- DateTimeOriginal: 2010:09:10 10:31:26
- DigitalZoomRatio: 1
- ExifImageHeight: 900
- ExifImageWidth: 598
- ExposureCompensation: +1/3
- ExposureMode: Auto
- ExposureProgram: Aperture-priority AE
- ExposureTime: 1/160
- FNumber: 2,8
- Flash: No Flash
- FocalLength: 112,0 mm
- FocalLengthIn35mmFormat: 168 mm
- GainControl: Low gain up
- ISO: 800
- LensInfo: 70-200mm f/2.8
- LensModel: 70.0-200.0 mm f/2.8
- LightSource: Unknown
- MaxApertureValue: 2,8
- MeteringMode: Multi-segment
- Saturation: Normal
- SceneCaptureType: Standard
- SceneType: Directly photographed
- SensingMethod: One-chip color area
- SensitivityType: Unknown
- SerialNumber: 4113881
- Sharpness: Normal
- ShutterSpeedValue: 1/160
- SubjectDistance: 1,33 m
- SubjectDistanceRange: Unknown
- WhiteBalance: Auto
- ICC-header
- ICC-meas
- ICC-view
- IFD0
- Artist: ANDREW MAVRITSKY
- Copyright: ANDREW MAVRITSKY
- Make: NIKON CORPORATION
- Model: NIKON D300
- ModifyDate: 2010:11:26 10:25:21
- Orientation: Horizontal (normal)
- IFD1
- IPTC
- By-line: ANDREW MAVRITSKY
- CopyrightNotice: ANDREW MAVRITSKY
- System
- XMP-aux
- ApproximateFocusDistance: 1,33
- ImageNumber: 141492
- Lens: 70.0-200.0 mm f/2.8
- LensID: 238
- XMP-crs
- AlreadyApplied: True
- BlueHue: 0
- BlueSaturation: 0
- Brightness: +99
- ChromaticAberrationB: 0
- ChromaticAberrationR: 0
- Clarity: 0
- ColorNoiseReduction: 40
- ColorNoiseReductionDetail: 50
- Contrast: +53
- ConvertToGrayscale: False
- Defringe: 0
- Exposure: +0.93
- FillLight: 30
- GrainAmount: 0
- GreenHue: 0
- GreenSaturation: 0
- HasCrop: False
- HasSettings: True
- HighlightRecovery: 40
- HueAdjustmentAqua: 0
- HueAdjustmentBlue: 0
- HueAdjustmentGreen: 0
- HueAdjustmentMagenta: +8
- HueAdjustmentOrange: 0
- HueAdjustmentPurple: 0
- HueAdjustmentRed: +33
- HueAdjustmentYellow: 0
- LensManualDistortionAmount: 0
- LensProfileEnable: 0
- LensProfileSetup: LensDefaults
- LuminanceAdjustmentAqua: 0
- LuminanceAdjustmentBlue: 0
- LuminanceAdjustmentGreen: 0
- LuminanceAdjustmentMagenta: 0
- LuminanceAdjustmentOrange: 0
- LuminanceAdjustmentPurple: 0
- LuminanceAdjustmentRed: 0
- LuminanceAdjustmentYellow: 0
- LuminanceNoiseReductionContrast: 0
- LuminanceNoiseReductionDetail: 50
- LuminanceSmoothing: 38
- ParametricDarks: 0
- ParametricHighlightSplit: 75
- ParametricHighlights: 0
- ParametricLights: 0
- ParametricMidtoneSplit: 50
- ParametricShadowSplit: 25
- ParametricShadows: 0
- PerspectiveHorizontal: 0
- PerspectiveRotate: 0.0
- PerspectiveScale: 100
- PerspectiveVertical: 0
- PostCropVignetteAmount: 0
- ProcessVersion: 5.7
- RedHue: 0
- RedSaturation: 0
- Saturation: +10
- SaturationAdjustmentAqua: 0
- SaturationAdjustmentBlue: 0
- SaturationAdjustmentGreen: 0
- SaturationAdjustmentMagenta: 0
- SaturationAdjustmentOrange: 0
- SaturationAdjustmentPurple: 0
- SaturationAdjustmentRed: 0
- SaturationAdjustmentYellow: 0
- ShadowTint: 0
- Shadows: 25
- SharpenDetail: 25
- SharpenEdgeMasking: 50
- SharpenRadius: +1.7
- Sharpness: 59
- SplitToningBalance: 0
- SplitToningHighlightHue: 37
- SplitToningHighlightSaturation: 37
- SplitToningShadowHue: 42
- SplitToningShadowSaturation: 32
- Temperature: 4136
- Tint: +23
- ToneCurve: 0, 0, 32, 22, 64, 56, 128, 128, 192, 196, 255, 255
- ToneCurveName: Medium Contrast
- Version: 6.2
- Vibrance: -73
- VignetteAmount: -93
- VignetteMidpoint: 7
- WhiteBalance: Custom
- XMP-dc
- Creator: ANDREW MAVRITSKY
- Format: image/jpeg
- Rights: ANDREW MAVRITSKY
- XMP-exif
- DateTimeDigitized: 2010:09:10 10:31:26.60+04:00
- DateTimeOriginal: 2010:09:10 10:31:26.60+04:00
- ExifImageHeight: 4288
- ExifImageWidth: 2848
- FlashFired: False
- FlashFunction: False
- FlashMode: Unknown
- FlashRedEyeMode: False
- FlashReturn: No return detection
- XMP-tiff
- ImageHeight: 4288
- ImageWidth: 2848
- XMP-xmp
- CreateDate: 2010:09:10 10:31:26.60+04:00
- ModifyDate: 2010:11:26 10:25:21+03:00
- XMP-xmpMM
- Просмотров: 170
- Рейтинг: голосов еще нет
- Отзывов: 0
Получить код для блога
| Вставка фотографии в текущем разрешении |
Вставка миниатюры |
HTML (для вставки в блог):
BBCode (для вставки в форум):
Ссылка на фото:
Ссылка на миниатюру:
- Послать ссылку другу
| Комментарии к фотографии |