Уважаемые друзья и участники проекта iXBT.photo! К сожалению, 5 марта 2026 года проект iXBT.photo прекратит свою работу и будет закрыт. Мы высоко ценим ваше участие и тот вклад, который вы внесли в развитие нашего сообщества. Пожалуйста, не забудьте сохранить ваши фотографии до этой даты.
С уважением, команда iXBT.com
| IMGP3198.jpg |
IMGP3198.jpg
- Раздел: Репортаж
- Дата съёмки: 09.04.2007 23:45
- Дата загрузки фото: 09.04.2007 23:50
- Оригинальная фотография: 900 x 1012 (171 Кб)
- Технические характеристики:
- Фотоаппарат: Pentax K100D
- Выдержка: 1/60
- Гиперфокальное расстояние: 25,09 m
- Диафрагма: 4,0
- Светочувствительность: 200
- Фокусное расстояние: 45,0mm (35mm эквивалент: 67,0mm)
- Полный EXIF
- ColorTransform: YCbCr
- Composite
- Aperture: 4,0
- CircleOfConfusion: 0,020 mm
- EV: 8,9
- FocalLength35efl: 45,0mm (35mm equivalent: 67,0mm)
- HyperfocalDistance: 25,09 m
- ScaleFactor35efl: 1,5
- ShutterSpeed: 1/60
- ExifIFD
- ApertureValue: 4,0
- CFAPattern: [Red,Green][Green,Blue]
- ColorSpace: Uncalibrated
- Contrast: Low
- CreateDate: 2007:04:07 16:01:48
- CustomRendered: Normal
- DateTimeOriginal: 2007:04:07 16:01:48
- ExifImageLength: 1012
- ExifImageWidth: 900
- ExposureCompensation: 0
- ExposureMode: Auto
- ExposureProgram: Aperture-priority AE
- ExposureTime: 1/60
- FNumber: 4,0
- Flash: On
- FocalLength: 45,0mm
- FocalLengthIn35mmFormat: 67
- ISO: 200
- MeteringMode: Center-weighted average
- Saturation: Normal
- SceneCaptureType: Standard
- SceneType: Directly photographed
- SensingMethod: One-chip color area
- Sharpness: Normal
- ShutterSpeedValue: 1/60
- SubjectDistanceRange: Close
- WhiteBalance: Auto
- IFD0
- Make: PENTAX Corporation
- Model: PENTAX K100D
- ModifyDate: 2007:04:09 23:45:51
- Orientation: Horizontal (normal)
- IFD1
- IPTC
- XMP-aux
- Lens: smc PENTAX-DA 16-45mm F4 ED AL
- LensID: 4 254
- LensInfo: 16
- XMP-crs
- AlreadyApplied: True
- BlueHue: 0
- BlueSaturation: 0
- Brightness: +50
- CameraProfile: ACR 3.6
- ChromaticAberrationB: 0
- ChromaticAberrationR: 0
- ColorNoiseReduction: 1
- Contrast: +25
- ConvertToGrayscale: False
- Exposure: +0.71
- FillLight: 9
- GreenHue: 0
- GreenSaturation: 0
- HasCrop: False
- HasSettings: True
- HighlightRecovery: 0
- HueAdjustmentAqua: 0
- HueAdjustmentBlue: 0
- HueAdjustmentGreen: 0
- HueAdjustmentMagenta: 0
- HueAdjustmentOrange: 0
- HueAdjustmentPurple: 0
- HueAdjustmentRed: 0
- HueAdjustmentYellow: 0
- LuminanceAdjustmentAqua: 0
- LuminanceAdjustmentBlue: 0
- LuminanceAdjustmentGreen: 0
- LuminanceAdjustmentMagenta: 0
- LuminanceAdjustmentOrange: 0
- LuminanceAdjustmentPurple: 0
- LuminanceAdjustmentRed: 0
- LuminanceAdjustmentYellow: 0
- LuminanceSmoothing: 1
- ParametricDarks: 0
- ParametricHighlightSplit: 75
- ParametricHighlights: 0
- ParametricLights: 0
- ParametricMidtoneSplit: 50
- ParametricShadowSplit: 25
- ParametricShadows: 0
- RedHue: 0
- RedSaturation: 0
- Saturation: 0
- SaturationAdjustmentAqua: 0
- SaturationAdjustmentBlue: 0
- SaturationAdjustmentGreen: 0
- SaturationAdjustmentMagenta: 0
- SaturationAdjustmentOrange: 0
- SaturationAdjustmentPurple: 0
- SaturationAdjustmentRed: 0
- SaturationAdjustmentYellow: 0
- ShadowTint: 0
- Shadows: 2
- Sharpness: 7
- SplitToningBalance: 0
- SplitToningHighlightHue: 0
- SplitToningHighlightSaturation: 0
- SplitToningShadowHue: 0
- SplitToningShadowSaturation: 0
- Temperature: 5300
- Tint: +2
- ToneCurve: 0, 0, 32, 22, 64, 56, 128, 128, 192, 196, 255, 255
- ToneCurveName: Medium Contrast
- Version: 1.0
- Vibrance: 0
- VignetteAmount: 0
- WhiteBalance: As Shot
- XMP-dc
- XMP-exif
- ColorSpace: Unknown (-1)
- DateTimeDigitized: 2007:04:07 16:01:48+04:00
- DateTimeOriginal: 2007:04:07 16:01:48+04:00
- ExifImageHeight: 1012
- FlashFired: True
- FlashFunction: False
- FlashMode: On
- FlashRedEyeMode: False
- FlashReturn: No return detection
- XMP-tiff
- ImageHeight: 3008
- ImageWidth: 2008
- XMP-xmp
- CreateDate: 2007:04:09 23:45:51+04:00
- ModifyDate: 2007:04:09 23:45:51+04:00
- XMP-xmpMM
- Просмотров: 621
- Рейтинг: голосов еще нет
- Отзывов: 0
Получить код для блога
| Вставка фотографии в текущем разрешении |
Вставка миниатюры |
HTML (для вставки в блог):
BBCode (для вставки в форум):
Ссылка на фото:
Ссылка на миниатюру:
- Послать ссылку другу
| Комментарии к фотографии |