- Раздел: Пейзаж
- Дата съёмки: 20.08.2011 07:23
- Дата загрузки фото: 20.08.2011 17:55
- Оригинальная фотография: 813 x 1200 (708 Кб)
- Технические характеристики:
- Фотоаппарат: Canon EOS 40D
- Выдержка: 1/4
- Гиперфокальное расстояние: inf m
- Диафрагма: 9,0
- Светочувствительность: 100
- Фокусное расстояние: 15,0 mm (35 mm equivalent: 75,0 mm)
- Полный EXIF
- Adobe
- ColorTransform: YCbCr
- Composite
- Aperture: 9,0
- CircleOfConfusion: 0,006 mm
- DOF: inf (0,00 m - inf)
- FOV: 26,0 deg
- FocalLength35efl: 15,0 mm (35 mm equivalent: 75,0 mm)
- HyperfocalDistance: inf m
- ScaleFactor35efl: 5,2
- ShutterSpeed: 1/4
- ExifIFD
- ApertureValue: 9,0
- ColorSpace: sRGB
- CreateDate: 2011:08:20 07:23:08
- CustomRendered: Normal
- DateTimeOriginal: 2011:08:20 07:23:08
- ExifImageHeight: 1200
- ExifImageWidth: 813
- ExposureCompensation: 0
- ExposureMode: Manual
- ExposureProgram: Manual
- ExposureTime: 1/4
- FNumber: 9,0
- Flash: Off, Did not fire
- FocalLength: 15,0 mm
- ISO: 100
- MaxApertureValue: 4,0
- MeteringMode: Spot
- SceneCaptureType: Standard
- ShutterSpeedValue: 1/4
- SubjectDistance: 1,13 m
- WhiteBalance: Manual
- ICC-header
- ICC-meas
- ICC-view
- IFD0
- BitsPerSample: 8 8 8
- ImageHeight: 4016
- ImageWidth: 2720
- Make: Canon
- Model: Canon EOS 40D
- ModifyDate: 2011:08:20 17:00:10
- Orientation: Horizontal (normal)
- PhotometricInterpretation: RGB
- SamplesPerPixel: 3
- IFD1
- IPTC
- DateCreated: 2011:08:20
- System
- XMP-aux
- ApproximateFocusDistance: 1,13
- Firmware: 1.1.1
- FlashCompensation: 0
- ImageNumber: 0
- Lens: 12-24mm
- LensID: 160
- LensInfo: 12-24mm f/?
- SerialNumber: 2231214667
- XMP-crs
- AlreadyApplied: True
- BlueHue: +69
- BlueSaturation: 0
- Brightness: +114
- ChromaticAberrationB: 0
- ChromaticAberrationR: 0
- Clarity: +78
- ColorNoiseReduction: 84
- ColorNoiseReductionDetail: 50
- Contrast: +80
- ConvertToGrayscale: True
- Defringe: 0
- Exposure: -1.84
- FillLight: 15
- GrainAmount: 25
- GrainFrequency: 50
- GrainSize: 69
- GrayMixerAqua: -10
- GrayMixerBlue: +9
- GrayMixerGreen: -38
- GrayMixerMagenta: +47
- GrayMixerOrange: +24
- GrayMixerPurple: +6
- GrayMixerRed: +13
- GrayMixerYellow: +26
- GreenHue: 0
- GreenSaturation: 0
- HasCrop: False
- HasSettings: True
- HighlightRecovery: 79
- LensManualDistortionAmount: 0
- LensProfileEnable: 0
- LensProfileSetup: LensDefaults
- LuminanceSmoothing: 0
- ParametricDarks: +17
- ParametricHighlightSplit: 75
- ParametricHighlights: +66
- ParametricLights: -19
- ParametricMidtoneSplit: 50
- ParametricShadowSplit: 25
- ParametricShadows: -56
- PerspectiveHorizontal: 0
- PerspectiveRotate: 0.0
- PerspectiveScale: 100
- PerspectiveVertical: 0
- PostCropVignetteAmount: -28
- PostCropVignetteFeather: 97
- PostCropVignetteHighlightContrast: 0
- PostCropVignetteMidpoint: 0
- PostCropVignetteRoundness: -34
- PostCropVignetteStyle: 1
- ProcessVersion: 5.7
- RedHue: 0
- RedSaturation: 0
- ShadowTint: 0
- Shadows: 15
- SharpenDetail: 25
- SharpenEdgeMasking: 0
- SharpenRadius: +0.5
- Sharpness: 150
- SplitToningBalance: +38
- SplitToningHighlightHue: 39
- SplitToningHighlightSaturation: 0
- SplitToningShadowHue: 28
- SplitToningShadowSaturation: 11
- Temperature: 5000
- Tint: +36
- ToneCurve: 0, 0, 32, 22, 64, 56, 128, 128, 192, 196, 255, 255
- ToneCurveName: Medium Contrast
- Version: 6.4.1
- VignetteAmount: 0
- WhiteBalance: Custom
- XMP-dc
- XMP-xmp
- CreateDate: 2011:08:20 07:23:08.59
- CreatorTool: Программа цифровой обработки изображений компании ACD Systems
- ModifyDate: 2011:08:20 17:00:10+04:00
- XMP-xmpMM
- Просмотров: 347
- Рейтинг: голосов еще нет
- Отзывов: 0