- Раздел: Пейзаж
- Дата съёмки: 20.08.2011 06:30
- Дата загрузки фото: 20.08.2011 18:12
- Оригинальная фотография: 2543 x 976 (1,9 Мб)
- Технические характеристики:
- Фотоаппарат: Canon EOS 40D
- Выдержка: 0,4
- Диафрагма: 13,0
- Светочувствительность: 100
- Фокусное расстояние: 12,0 mm
- Полный EXIF
- Adobe
- ColorTransform: YCbCr
- Composite
- Aperture: 13,0
- FocalLength35efl: 12,0 mm
- ShutterSpeed: 0,4
- ExifIFD
- ApertureValue: 13,0
- ColorSpace: sRGB
- CreateDate: 2011:08:20 06:30:30
- CustomRendered: Normal
- DateTimeOriginal: 2011:08:20 06:30:30
- ExifImageHeight: 976
- ExifImageWidth: 2543
- ExposureCompensation: 0
- ExposureMode: Manual
- ExposureProgram: Manual
- ExposureTime: 0,4
- FNumber: 13,0
- Flash: Off, Did not fire
- FocalLength: 12,0 mm
- ISO: 100
- MaxApertureValue: 4,0
- MeteringMode: Spot
- SceneCaptureType: Standard
- ShutterSpeedValue: 0,4
- SubjectDistance: 1,13 m
- WhiteBalance: Manual
- ICC-header
- ICC-meas
- ICC-view
- IFD0
- BitsPerSample: 8 8 8
- ImageHeight: 976
- ImageWidth: 2543
- Make: Canon
- Model: Canon EOS 40D
- ModifyDate: 2011:08:20 18:11:21
- Orientation: Horizontal (normal)
- PhotometricInterpretation: RGB
- SamplesPerPixel: 3
- IFD1
- IPTC
- DateCreated: 2011:08:20
- System
- XMP-aux
- ApproximateFocusDistance: 1,13
- Firmware: 1.1.1
- FlashCompensation: 0
- ImageNumber: 0
- Lens: 12-24mm
- LensID: 160
- LensInfo: 12-24mm f/?
- SerialNumber: 2231214667
- XMP-crs
- AlreadyApplied: True
- BlueHue: 0
- BlueSaturation: +87
- Brightness: 0
- CameraProfile: Embedded
- ChromaticAberrationB: 0
- ChromaticAberrationR: 0
- Clarity: +75
- ColorNoiseReduction: 86
- ColorNoiseReductionDetail: 50
- Contrast: 0
- ConvertToGrayscale: False
- Defringe: 0
- Exposure: -1.21
- FillLight: 15
- GrainAmount: 0
- GreenHue: 0
- GreenSaturation: +100
- HasCrop: False
- HasSettings: True
- HighlightRecovery: 0
- HueAdjustmentAqua: 0
- HueAdjustmentBlue: 0
- HueAdjustmentGreen: 0
- HueAdjustmentMagenta: 0
- HueAdjustmentOrange: 0
- HueAdjustmentPurple: 0
- HueAdjustmentRed: 0
- HueAdjustmentYellow: 0
- IncrementalTemperature: -15
- IncrementalTint: -10
- LensManualDistortionAmount: 0
- LensProfileEnable: 0
- LensProfileSetup: LensDefaults
- LuminanceAdjustmentAqua: 0
- LuminanceAdjustmentBlue: 0
- LuminanceAdjustmentGreen: 0
- LuminanceAdjustmentMagenta: 0
- LuminanceAdjustmentOrange: 0
- LuminanceAdjustmentPurple: 0
- LuminanceAdjustmentRed: 0
- LuminanceAdjustmentYellow: 0
- LuminanceNoiseReductionContrast: 0
- LuminanceNoiseReductionDetail: 50
- LuminanceSmoothing: 8
- ParametricDarks: +56
- ParametricHighlightSplit: 75
- ParametricHighlights: +100
- ParametricLights: +6
- ParametricMidtoneSplit: 50
- ParametricShadowSplit: 25
- ParametricShadows: 0
- PerspectiveHorizontal: 0
- PerspectiveRotate: 0.0
- PerspectiveScale: 100
- PerspectiveVertical: 0
- PostCropVignetteAmount: 0
- ProcessVersion: 5.7
- RedHue: 0
- RedSaturation: -3
- Saturation: 0
- SaturationAdjustmentAqua: 0
- SaturationAdjustmentBlue: 0
- SaturationAdjustmentGreen: 0
- SaturationAdjustmentMagenta: 0
- SaturationAdjustmentOrange: 0
- SaturationAdjustmentPurple: 0
- SaturationAdjustmentRed: 0
- SaturationAdjustmentYellow: 0
- ShadowTint: 0
- Shadows: 3
- SharpenDetail: 25
- SharpenEdgeMasking: 0
- SharpenRadius: +0.5
- Sharpness: 49
- SplitToningBalance: 0
- SplitToningHighlightHue: 0
- SplitToningHighlightSaturation: 0
- SplitToningShadowHue: 0
- SplitToningShadowSaturation: 0
- ToneCurve: 0, 0, 255, 255
- ToneCurveName: Linear
- Version: 6.4.1
- Vibrance: +39
- VignetteAmount: 0
- WhiteBalance: Custom
- XMP-dc
- XMP-xmp
- CreateDate: 2011:08:20 06:30:30.62
- CreatorTool: Программа цифровой обработки изображений компании ACD Systems
- ModifyDate: 2011:08:20 18:11:21+04:00
- XMP-xmpMM