Уважаемые друзья и участники проекта iXBT.photo! К сожалению, 1 марта 2026 года проект iXBT.photo прекратит свою работу и будет закрыт. Мы высоко ценим ваше участие и тот вклад, который вы внесли в развитие нашего сообщества. Пожалуйста, не забудьте сохранить ваши фотографии до этой даты.
С уважением, команда iXBT.com
| DSCF1500.jpg |
DSCF1500.jpg
- Раздел: Путешествия
- Дата съёмки: 10.09.2011 00:56
- Дата загрузки фото: 24.09.2011 14:38
- Оригинальная фотография: 1800 x 1196 (1,0 Мб)
- Технические характеристики:
- Фотоаппарат: FujiFilm FinePix X100
- Выдержка: 1/50
- Гиперфокальное расстояние: inf m
- Диафрагма: 2,8
- Светочувствительность: 1600
- Фокусное расстояние: 23,0 mm (35 mm equivalent: 23,0 mm)
- Экспокоррекция: -0,67
- Полный EXIF
- Adobe
- ColorTransform: YCbCr
- Composite
- Aperture: 2,8
- CircleOfConfusion: 0,016 mm
- FOV: 76,0 deg
- FocalLength35efl: 23,0 mm (35 mm equivalent: 23,0 mm)
- HyperfocalDistance: inf m
- ScaleFactor35efl: 1,8
- ShutterSpeed: 1/50
- ExifIFD
- ApertureValue: 2,8
- BrightnessValue: -0,4
- CreateDate: 2011:09:10 00:56:37
- CustomRendered: Normal
- DateTimeOriginal: 2011:09:10 00:56:37
- ExposureCompensation: -0,67
- ExposureMode: Auto
- ExposureProgram: Aperture-priority AE
- ExposureTime: 1/50
- FNumber: 2,8
- Flash: Off, Did not fire
- FocalLength: 23,0 mm
- ISO: 1600
- LightSource: Unknown
- MaxApertureValue: 2,0
- MeteringMode: Multi-segment
- SceneCaptureType: Standard
- SceneType: Directly photographed
- SensingMethod: One-chip color area
- SensitivityType: Standard Output Sensitivity
- Sharpness: Normal
- ShutterSpeedValue: 1/50
- SubjectDistanceRange: Unknown
- WhiteBalance: Auto
- ICC-header
- ICC-meas
- ICC-view
- IFD0
- Make: FUJIFILM
- Model: FinePix X100
- ModifyDate: 2011:09:21 11:24:25
- IFD1
- IPTC
- DateCreated: 2011:09:10
- System
- XMP-crs
- AlreadyApplied: True
- BlueHue: 0
- BlueSaturation: 0
- Brightness: +67
- ChromaticAberrationB: 0
- ChromaticAberrationR: 0
- Clarity: +45
- ColorNoiseReduction: 25
- ColorNoiseReductionDetail: 50
- Contrast: +32
- ConvertToGrayscale: False
- CropAngle: 0
- CropBottom: 0.973705
- CropConstrainToWarp: 0
- CropHeight: 1196
- CropLeft: 0.052591
- CropRight: 1
- CropTop: 0.026295
- CropUnit: pixels
- CropWidth: 1800
- Defringe: 0
- Exposure: 0.00
- FillLight: 0
- GrainAmount: 0
- GreenHue: 0
- GreenSaturation: 0
- HasCrop: True
- HasSettings: True
- HighlightRecovery: 80
- HueAdjustmentAqua: 0
- HueAdjustmentBlue: 0
- HueAdjustmentGreen: 0
- HueAdjustmentMagenta: 0
- HueAdjustmentOrange: 0
- HueAdjustmentPurple: 0
- HueAdjustmentRed: 0
- HueAdjustmentYellow: 0
- LensManualDistortionAmount: 0
- LensProfileEnable: 0
- LensProfileSetup: LensDefaults
- LuminanceAdjustmentAqua: 0
- LuminanceAdjustmentBlue: 0
- LuminanceAdjustmentGreen: 0
- LuminanceAdjustmentMagenta: 0
- LuminanceAdjustmentOrange: 0
- LuminanceAdjustmentPurple: 0
- LuminanceAdjustmentRed: 0
- LuminanceAdjustmentYellow: 0
- LuminanceNoiseReductionContrast: 0
- LuminanceNoiseReductionDetail: 50
- LuminanceSmoothing: 34
- ParametricDarks: 0
- ParametricHighlightSplit: 75
- ParametricHighlights: 0
- ParametricLights: 0
- ParametricMidtoneSplit: 50
- ParametricShadowSplit: 25
- ParametricShadows: 0
- PerspectiveHorizontal: 0
- PerspectiveRotate: 0.0
- PerspectiveScale: 100
- PerspectiveVertical: 0
- PostCropVignetteAmount: 0
- ProcessVersion: 5.7
- RedHue: 0
- RedSaturation: 0
- Saturation: 0
- SaturationAdjustmentAqua: 0
- SaturationAdjustmentBlue: 0
- SaturationAdjustmentGreen: 0
- SaturationAdjustmentMagenta: 0
- SaturationAdjustmentOrange: 0
- SaturationAdjustmentPurple: 0
- SaturationAdjustmentRed: 0
- SaturationAdjustmentYellow: 0
- ShadowTint: 0
- Shadows: 1
- SharpenDetail: 25
- SharpenEdgeMasking: 0
- SharpenRadius: +0.5
- Sharpness: 59
- SplitToningBalance: 0
- SplitToningHighlightHue: 0
- SplitToningHighlightSaturation: 0
- SplitToningShadowHue: 0
- SplitToningShadowSaturation: 0
- Temperature: 2575
- Tint: +4
- ToneCurve: 0, 0, 32, 22, 64, 56, 128, 128, 192, 196, 255, 255
- ToneCurveName: Medium Contrast
- Version: 6.4.1
- Vibrance: +15
- VignetteAmount: 0
- WhiteBalance: Custom
- XMP-xmp
- ModifyDate: 2011:09:21 11:24:25+04:00
- Просмотров: 475
- Рейтинг: голосов еще нет
- Отзывов: 0
Получить код для блога
| Вставка фотографии в текущем разрешении |
Вставка миниатюры |
HTML (для вставки в блог):
BBCode (для вставки в форум):
Ссылка на фото:
Ссылка на миниатюру:
- Послать ссылку другу
| Комментарии к фотографии |