Уважаемые друзья и участники проекта iXBT.photo! К сожалению, 1 марта 2026 года проект iXBT.photo прекратит свою работу и будет закрыт. Мы высоко ценим ваше участие и тот вклад, который вы внесли в развитие нашего сообщества. Пожалуйста, не забудьте сохранить ваши фотографии до этой даты.
С уважением, команда iXBT.com
| Горсть счастья |
Горсть счастья
- Раздел: Другое, разное
- Дата съёмки: 09.07.2011 12:21
- Дата загрузки фото: 04.11.2011 12:53
- Оригинальная фотография: 3888 x 2430 (3,2 Мб)
- Технические характеристики:
- Фотоаппарат: Canon EOS 1000D
- Выдержка: 1/320
- Гиперфокальное расстояние: inf m
- Диафрагма: 2,8
- Светочувствительность: 200
- Фокусное расстояние: 50,0 mm (35 mm equivalent: 50,0 mm)
- Полный EXIF
- Adobe
- ColorTransform: YCbCr
- Composite
- Aperture: 2,8
- CircleOfConfusion: 0,018 mm
- FOV: 39,0 deg
- FocalLength35efl: 50,0 mm (35 mm equivalent: 50,0 mm)
- HyperfocalDistance: inf m
- ScaleFactor35efl: 1,6
- ShutterSpeed: 1/320
- ExifIFD
- ApertureValue: 2,8
- ColorSpace: Uncalibrated
- CreateDate: 2011:07:09 12:21:47
- CustomRendered: Normal
- DateTimeOriginal: 2011:07:09 12:21:47
- ExifImageHeight: 2430
- ExifImageWidth: 3888
- ExposureCompensation: 0
- ExposureMode: Manual
- ExposureProgram: Manual
- ExposureTime: 1/320
- FNumber: 2,8
- Flash: Off, Did not fire
- FocalLength: 50,0 mm
- ISO: 200
- LensInfo: 50mm f/?
- LensModel: EF50mm f/1.8 II
- MaxApertureValue: 1,8
- MeteringMode: Partial
- SceneCaptureType: Standard
- SerialNumber: 3450607133
- ShutterSpeedValue: 1/320
- WhiteBalance: Manual
- IFD0
- Artist: vaLLy
- BitsPerSample: 8 8 8
- ImageDescription: vaLLy
- ImageHeight: 2592
- ImageWidth: 3888
- Make: Canon
- Model: Canon EOS 1000D
- ModifyDate: 2011:07:13 23:12:53
- Orientation: Horizontal (normal)
- PhotometricInterpretation: RGB
- SamplesPerPixel: 3
- IFD1
- IPTC
- By-line: vaLLy
- Caption-Abstract: vaLLy
- DateCreated: 2011:07:09
- System
- XMP-aux
- Firmware: 1.0.7
- FlashCompensation: 0
- ImageNumber: 0
- Lens: EF50mm f/1.8 II
- LensID: 29
- XMP-crs
- AlreadyApplied: True
- BlueHue: +24
- BlueSaturation: +24
- Brightness: +46
- ChromaticAberrationB: 0
- ChromaticAberrationR: 0
- Clarity: +66
- ColorNoiseReduction: 62
- ColorNoiseReductionDetail: 52
- Contrast: +43
- ConvertToGrayscale: False
- Defringe: 0
- Exposure: +0.26
- FillLight: 0
- GrainAmount: 0
- GreenHue: +31
- GreenSaturation: -31
- HasCrop: False
- HasSettings: True
- HighlightRecovery: 34
- HueAdjustmentAqua: 0
- HueAdjustmentBlue: 0
- HueAdjustmentGreen: 0
- HueAdjustmentMagenta: 0
- HueAdjustmentOrange: 0
- HueAdjustmentPurple: 0
- HueAdjustmentRed: 0
- HueAdjustmentYellow: 0
- LensManualDistortionAmount: -38
- LensProfileEnable: 0
- LensProfileSetup: LensDefaults
- LuminanceAdjustmentAqua: 0
- LuminanceAdjustmentBlue: 0
- LuminanceAdjustmentGreen: 0
- LuminanceAdjustmentMagenta: 0
- LuminanceAdjustmentOrange: 0
- LuminanceAdjustmentPurple: 0
- LuminanceAdjustmentRed: 0
- LuminanceAdjustmentYellow: 0
- LuminanceNoiseReductionContrast: 39
- LuminanceNoiseReductionDetail: 78
- LuminanceSmoothing: 51
- ParametricDarks: +31
- ParametricHighlightSplit: 75
- ParametricHighlights: +3
- ParametricLights: +18
- ParametricMidtoneSplit: 50
- ParametricShadowSplit: 25
- ParametricShadows: +22
- PerspectiveHorizontal: 0
- PerspectiveRotate: 0.0
- PerspectiveScale: 102
- PerspectiveVertical: 0
- PostCropVignetteAmount: -24
- PostCropVignetteFeather: 50
- PostCropVignetteHighlightContrast: 0
- PostCropVignetteMidpoint: 50
- PostCropVignetteRoundness: 0
- PostCropVignetteStyle: 1
- ProcessVersion: 5.7
- RedHue: +2
- RedSaturation: +18
- Saturation: +7
- SaturationAdjustmentAqua: 0
- SaturationAdjustmentBlue: 0
- SaturationAdjustmentGreen: 0
- SaturationAdjustmentMagenta: 0
- SaturationAdjustmentOrange: 0
- SaturationAdjustmentPurple: 0
- SaturationAdjustmentRed: 0
- SaturationAdjustmentYellow: 0
- ShadowTint: -7
- Shadows: 8
- SharpenDetail: 47
- SharpenEdgeMasking: 49
- SharpenRadius: +1.9
- Sharpness: 87
- SplitToningBalance: +33
- SplitToningHighlightHue: 244
- SplitToningHighlightSaturation: 22
- SplitToningShadowHue: 280
- SplitToningShadowSaturation: 27
- Temperature: 5178
- Tint: -7
- ToneCurve: 0, 0, 32, 22, 64, 56, 128, 128, 192, 196, 255, 255
- ToneCurveName: Medium Contrast
- Version: 6.4.1
- Vibrance: +40
- VignetteAmount: -47
- VignetteMidpoint: 0
- WhiteBalance: Custom
- XMP-dc
- Creator: vaLLy
- Description: vaLLy
- Format: image/jpeg
- XMP-xmp
- CreateDate: 2011:07:09 12:21:47.02
- ModifyDate: 2011:07:13 23:12:53+04:00
- Rating: 5
- XMP-xmpMM
- XMP-xmpRights
Получить код для блога
| Вставка фотографии в текущем разрешении |
Вставка миниатюры |
HTML (для вставки в блог):
BBCode (для вставки в форум):
Ссылка на фото:
Ссылка на миниатюру:
- Послать ссылку другу
| Комментарии к фотографии |