Уважаемые друзья и участники проекта iXBT.photo! К сожалению, 1 марта 2026 года проект iXBT.photo прекратит свою работу и будет закрыт. Мы высоко ценим ваше участие и тот вклад, который вы внесли в развитие нашего сообщества. Пожалуйста, не забудьте сохранить ваши фотографии до этой даты.
С уважением, команда iXBT.com
| Булавка |
Булавка
- Раздел: Макро
- Дата съёмки: 22.12.2011 15:47
- Дата загрузки фото: 22.12.2011 17:55
- Оригинальная фотография: 1200 x 1200 (256 Кб)
- Технические характеристики:
- Фотоаппарат: Sony NEX-5
- Выдержка: 1/160
- Диафрагма: 1,0
- Светочувствительность: 200
- Полный EXIF
- Adobe
- ColorTransform: YCbCr
- Composite
- Aperture: 1,0
- ShutterSpeed: 1/160
- ExifIFD
- ApertureValue: 1,0
- BrightnessValue: -4,88
- ColorSpace: sRGB
- Contrast: Normal
- CreateDate: 2011:12:22 15:47:03
- CustomRendered: Normal
- DateTimeOriginal: 2011:12:22 15:47:03
- ExifImageHeight: 1200
- ExifImageWidth: 1200
- ExposureCompensation: 0
- ExposureMode: Auto
- ExposureProgram: Shutter speed priority AE
- ExposureTime: 1/160
- FNumber: 1,0
- Flash: On, Fired
- ISO: 200
- LensModel: ----
- LightSource: Unknown
- MaxApertureValue: 1,0
- MeteringMode: Multi-segment
- RecommendedExposureIndex: 200
- Saturation: Normal
- SceneCaptureType: Standard
- SceneType: Directly photographed
- SensitivityType: Recommended Exposure Index
- Sharpness: Normal
- ShutterSpeedValue: 1/160
- WhiteBalance: Auto
- ICC-header
- ICC-meas
- ICC-view
- IFD0
- BitsPerSample: 8 8 8
- ImageDescription: SONY DSC
- ImageHeight: 1631
- ImageWidth: 2451
- Make: SONY
- Model: NEX-5
- ModifyDate: 2011:12:22 17:32:58
- Orientation: Horizontal (normal)
- PhotometricInterpretation: RGB
- SamplesPerPixel: 3
- IFD1
- IPTC
- Caption-Abstract: SONY DSC
- DateCreated: 2011:12:22
- System
- XMP-aux
- XMP-crs
- AlreadyApplied: True
- BlueHue: 0
- BlueSaturation: 0
- Brightness: +77
- ChromaticAberrationB: 0
- ChromaticAberrationR: 0
- Clarity: 0
- ColorNoiseReduction: 25
- ColorNoiseReductionDetail: 50
- Contrast: +50
- ConvertToGrayscale: False
- Defringe: 2
- Exposure: +0.70
- FillLight: 0
- GrainAmount: 0
- GreenHue: 0
- GreenSaturation: 0
- HasCrop: False
- HasSettings: True
- HighlightRecovery: 37
- HueAdjustmentAqua: 0
- HueAdjustmentBlue: 0
- HueAdjustmentGreen: 0
- HueAdjustmentMagenta: 0
- HueAdjustmentOrange: 0
- HueAdjustmentPurple: 0
- HueAdjustmentRed: 0
- HueAdjustmentYellow: 0
- LensManualDistortionAmount: 0
- LensProfileEnable: 0
- LensProfileSetup: LensDefaults
- LuminanceAdjustmentAqua: 0
- LuminanceAdjustmentBlue: 0
- LuminanceAdjustmentGreen: 0
- LuminanceAdjustmentMagenta: 0
- LuminanceAdjustmentOrange: 0
- LuminanceAdjustmentPurple: 0
- LuminanceAdjustmentRed: 0
- LuminanceAdjustmentYellow: 0
- LuminanceNoiseReductionContrast: 0
- LuminanceNoiseReductionDetail: 50
- LuminanceSmoothing: 10
- ParametricDarks: 0
- ParametricHighlightSplit: 75
- ParametricHighlights: 0
- ParametricLights: 0
- ParametricMidtoneSplit: 50
- ParametricShadowSplit: 25
- ParametricShadows: 0
- PerspectiveHorizontal: 0
- PerspectiveRotate: 0.0
- PerspectiveScale: 100
- PerspectiveVertical: 0
- PostCropVignetteAmount: 0
- ProcessVersion: 5.7
- RawFileName: DSC07728.ARW
- RedHue: 0
- RedSaturation: 0
- Saturation: +8
- SaturationAdjustmentAqua: 0
- SaturationAdjustmentBlue: 0
- SaturationAdjustmentGreen: 0
- SaturationAdjustmentMagenta: 0
- SaturationAdjustmentOrange: 0
- SaturationAdjustmentPurple: 0
- SaturationAdjustmentRed: 0
- SaturationAdjustmentYellow: 0
- ShadowTint: 0
- Shadows: 5
- SharpenDetail: 25
- SharpenEdgeMasking: 0
- SharpenRadius: +0.8
- Sharpness: 30
- SplitToningBalance: 0
- SplitToningHighlightHue: 0
- SplitToningHighlightSaturation: 0
- SplitToningShadowHue: 0
- SplitToningShadowSaturation: 0
- Temperature: 5550
- Tint: +1
- ToneCurve: 0, 0, 32, 22, 64, 56, 128, 128, 192, 196, 255, 255
- ToneCurveName: Medium Contrast
- Version: 6.2
- Vibrance: +7
- VignetteAmount: 0
- WhiteBalance: Custom
- XMP-dc
- Description: SONY DSC
- Format: image/jpeg
- XMP-xmp
- CreateDate: 2011:12:22 15:47:03+03:00
- ModifyDate: 2011:12:22 17:32:58+03:00
- Rating: 0
- XMP-xmpMM
- Просмотров: 904
- Рейтинг: голосов еще нет
- Отзывов: 0
Получить код для блога
| Вставка фотографии в текущем разрешении |
Вставка миниатюры |
HTML (для вставки в блог):
BBCode (для вставки в форум):
Ссылка на фото:
Ссылка на миниатюру:
- Послать ссылку другу
| Комментарии к фотографии |