- Раздел: Пейзаж
- Дата съёмки: 18.01.2012 18:37
- Дата загрузки фото: 18.01.2012 23:20
- Оригинальная фотография: 1275 x 850 (358 Кб)
- Технические характеристики:
- Фотоаппарат: Canon EOS 40D
- Выдержка: 20,0
- Гиперфокальное расстояние: inf m
- Диафрагма: 16,0
- Светочувствительность: 100
- Фокусное расстояние: 12,0 mm (35 mm equivalent: 48,0 mm)
- Полный EXIF
- Adobe
- ColorTransform: YCbCr
- Composite
- Aperture: 16,0
- CircleOfConfusion: 0,006 mm
- DOF: inf (0,00 m - inf)
- FOV: 41,0 deg
- FocalLength35efl: 12,0 mm (35 mm equivalent: 48,0 mm)
- HyperfocalDistance: inf m
- LightValue: 3,7
- ScaleFactor35efl: 4,9
- ShutterSpeed: 20,0
- ExifIFD
- ApertureValue: 16,0
- ColorSpace: sRGB
- CreateDate: 2012:01:18 18:37:55
- CustomRendered: Normal
- DateTimeOriginal: 2012:01:18 18:37:55
- ExifImageHeight: 850
- ExifImageWidth: 1275
- ExposureCompensation: 0
- ExposureMode: Manual
- ExposureProgram: Manual
- ExposureTime: 20,0
- FNumber: 16,0
- Flash: Off, Did not fire
- FocalLength: 12,0 mm
- ISO: 100
- LensInfo: 12-24mm f/?
- LensModel: 12-24mm
- MaxApertureValue: 4,0
- MeteringMode: Spot
- SceneCaptureType: Standard
- SerialNumber: 2231214667
- ShutterSpeedValue: 20,0
- SubjectDistance: 4294967295 m
- WhiteBalance: Auto
- ICC-header
- ICC-meas
- ICC-view
- IFD0
- BitsPerSample: 8 8 8
- ImageHeight: 1000
- ImageWidth: 1500
- Make: Canon
- Model: Canon EOS 40D
- ModifyDate: 2012:01:18 22:15:32
- Orientation: Horizontal (normal)
- PhotometricInterpretation: RGB
- SamplesPerPixel: 3
- IFD1
- IPTC
- DateCreated: 2012:01:18
- System
- XMP-aux
- ApproximateFocusDistance: 4294967295
- Firmware: 1.1.1
- FlashCompensation: 0
- ImageNumber: 0
- Lens: 12-24mm
- LensID: 160
- XMP-crs
- AlreadyApplied: True
- BlueHue: 0
- BlueSaturation: +12
- Brightness: +19
- CameraProfile: Embedded
- ChromaticAberrationB: 0
- ChromaticAberrationR: 0
- Clarity: 0
- ColorNoiseReduction: 0
- Contrast: +9
- ConvertToGrayscale: False
- Defringe: 0
- Exposure: 0.00
- FillLight: 9
- GrainAmount: 0
- GreenHue: 0
- GreenSaturation: 0
- HasCrop: False
- HasSettings: True
- HighlightRecovery: 60
- HueAdjustmentAqua: 0
- HueAdjustmentBlue: 0
- HueAdjustmentGreen: 0
- HueAdjustmentMagenta: 0
- HueAdjustmentOrange: 0
- HueAdjustmentPurple: 0
- HueAdjustmentRed: 0
- HueAdjustmentYellow: 0
- IncrementalTemperature: 0
- IncrementalTint: 0
- LensManualDistortionAmount: 0
- LensProfileEnable: 0
- LensProfileSetup: LensDefaults
- LuminanceAdjustmentAqua: 0
- LuminanceAdjustmentBlue: 0
- LuminanceAdjustmentGreen: 0
- LuminanceAdjustmentMagenta: 0
- LuminanceAdjustmentOrange: 0
- LuminanceAdjustmentPurple: 0
- LuminanceAdjustmentRed: 0
- LuminanceAdjustmentYellow: 0
- LuminanceSmoothing: 0
- ParametricDarks: +6
- ParametricHighlightSplit: 75
- ParametricHighlights: -30
- ParametricLights: +9
- ParametricMidtoneSplit: 50
- ParametricShadowSplit: 25
- ParametricShadows: -12
- PerspectiveHorizontal: 0
- PerspectiveRotate: 0.0
- PerspectiveScale: 100
- PerspectiveVertical: 0
- PostCropVignetteAmount: 0
- ProcessVersion: 5.7
- RedHue: 0
- RedSaturation: 0
- Saturation: 0
- SaturationAdjustmentAqua: 0
- SaturationAdjustmentBlue: -8
- SaturationAdjustmentGreen: 0
- SaturationAdjustmentMagenta: 0
- SaturationAdjustmentOrange: 0
- SaturationAdjustmentPurple: 0
- SaturationAdjustmentRed: 0
- SaturationAdjustmentYellow: 0
- ShadowTint: 0
- Shadows: 0
- SharpenDetail: 25
- SharpenEdgeMasking: 0
- SharpenRadius: +1.0
- Sharpness: 0
- SplitToningBalance: 0
- SplitToningHighlightHue: 0
- SplitToningHighlightSaturation: 0
- SplitToningShadowHue: 0
- SplitToningShadowSaturation: 0
- ToneCurve: 0, 0, 255, 255
- ToneCurveName: Linear
- Version: 6.4.1
- Vibrance: 0
- VignetteAmount: 0
- WhiteBalance: As Shot
- XMP-dc
- XMP-xmp
- CreateDate: 2012:01:18 18:37:55.38
- ModifyDate: 2012:01:18 22:15:32+04:00
- XMP-xmpMM
- Просмотров: 424
- Рейтинг: голосов еще нет
- Отзывов: 0