- Раздел: Тесты фототехники
- Дата съёмки: неизвестно
- Дата загрузки фото: 04.02.2012 21:55
- Оригинальная фотография: 4072 x 4072 (1,2 Мб)
- Технические характеристики:
- Фотоаппарат: Kodak ProBack645
- Выдержка: 30,0
- Диафрагма: 1,0
- Светочувствительность: 100
- Полный EXIF
- Adobe
- ColorTransform: YCbCr
- Composite
- Aperture: 1,0
- LightValue: -4,9
- ShutterSpeed: 30,0
- ExifIFD
- ApertureValue: 1,0
- ColorSpace: sRGB
- DateTimeOriginal: 2036:08:18 22:35:56
- ExifImageHeight: 4072
- ExifImageWidth: 4072
- ExposureCompensation: 0
- ExposureIndex: 100
- ExposureProgram: Aperture-priority AE
- ExposureTime: 30,0
- FNumber: 1,0
- ISO: 100
- LightSource: Unknown
- MeteringMode: Unknown
- SensingMethod: One-chip color area
- SerialNumber: PB645M-00152
- ShutterSpeedValue: 30,0
- ICC-header
- ICC-meas
- ICC-view
- IFD0
- Artist: Craig Robertson
- Copyright: Craig Robertson Photogaphy
- Make: Kodak
- Model: ProBack645
- ModifyDate: 2012:02:04 18:25:02
- Orientation: Horizontal (normal)
- IFD1
- IPTC
- By-line: Craig Robertson
- CopyrightNotice: Craig Robertson Photogaphy
- DateCreated: 2036:08:18
- System
- XMP-aux
- ImageNumber: 28741
- XMP-crs
- AlreadyApplied: True
- BlueHue: 0
- BlueSaturation: 0
- Brightness: +50
- CameraProfile: ACR 4.4
- ChromaticAberrationB: 0
- ChromaticAberrationR: 0
- Clarity: 0
- ColorNoiseReduction: 25
- ColorNoiseReductionDetail: 50
- Contrast: +25
- ConvertToGrayscale: False
- Defringe: 0
- Exposure: 0.00
- FillLight: 0
- GrainAmount: 0
- GreenHue: 0
- GreenSaturation: 0
- HasCrop: False
- HasSettings: True
- HighlightRecovery: 52
- HueAdjustmentAqua: 0
- HueAdjustmentBlue: 0
- HueAdjustmentGreen: 0
- HueAdjustmentMagenta: 0
- HueAdjustmentOrange: 0
- HueAdjustmentPurple: 0
- HueAdjustmentRed: 0
- HueAdjustmentYellow: 0
- LensManualDistortionAmount: 0
- LensProfileEnable: 0
- LensProfileSetup: LensDefaults
- LuminanceAdjustmentAqua: 0
- LuminanceAdjustmentBlue: 0
- LuminanceAdjustmentGreen: 0
- LuminanceAdjustmentMagenta: 0
- LuminanceAdjustmentOrange: 0
- LuminanceAdjustmentPurple: 0
- LuminanceAdjustmentRed: 0
- LuminanceAdjustmentYellow: 0
- LuminanceSmoothing: 0
- ParametricDarks: -38
- ParametricHighlightSplit: 75
- ParametricHighlights: 0
- ParametricLights: 0
- ParametricMidtoneSplit: 50
- ParametricShadowSplit: 25
- ParametricShadows: 0
- PerspectiveHorizontal: 0
- PerspectiveRotate: 0.0
- PerspectiveScale: 100
- PerspectiveVertical: 0
- PostCropVignetteAmount: 0
- ProcessVersion: 5.7
- RawFileName: 4G3L8741.DCR
- RedHue: 0
- RedSaturation: 0
- Saturation: 0
- SaturationAdjustmentAqua: 0
- SaturationAdjustmentBlue: 0
- SaturationAdjustmentGreen: 0
- SaturationAdjustmentMagenta: 0
- SaturationAdjustmentOrange: 0
- SaturationAdjustmentPurple: 0
- SaturationAdjustmentRed: 0
- SaturationAdjustmentYellow: 0
- ShadowTint: 0
- Shadows: 0
- SharpenDetail: 25
- SharpenEdgeMasking: 0
- SharpenRadius: +1.0
- Sharpness: 25
- SplitToningBalance: 0
- SplitToningHighlightHue: 0
- SplitToningHighlightSaturation: 0
- SplitToningShadowHue: 0
- SplitToningShadowSaturation: 0
- Temperature: 3900
- Tint: +10
- ToneCurve: 0, 0, 32, 22, 64, 56, 128, 128, 192, 196, 255, 255
- ToneCurveName: Medium Contrast
- Version: 6.4
- Vibrance: 0
- VignetteAmount: 0
- WhiteBalance: Custom
- XMP-dc
- Creator: Craig Robertson
- Format: image/jpeg
- Rights: Craig Robertson Photogaphy
- XMP-xmp
- CreateDate: 2036:08:18 22:35:56
- CreatorTool: 3.3.7
- ModifyDate: 2012:02:04 18:25:02+03:00
- Rating: 0
- XMP-xmpMM
- Просмотров: 285
- Рейтинг: голосов еще нет
- Отзывов: отключены