Уважаемые друзья и участники проекта iXBT.photo! К сожалению, 1 марта 2026 года проект iXBT.photo прекратит свою работу и будет закрыт. Мы высоко ценим ваше участие и тот вклад, который вы внесли в развитие нашего сообщества. Пожалуйста, не забудьте сохранить ваши фотографии до этой даты.
С уважением, команда iXBT.com
| *** |
***
- Раздел: Другое, разное
- Дата съёмки: 02.10.2011 03:44
- Дата загрузки фото: 12.02.2012 21:11
- Оригинальная фотография: 900 x 1279 (942 Кб)
- Технические характеристики:
- Фотоаппарат: Canon EOS 40D
- Выдержка: 1,3
- Светочувствительность: 100
- Полный EXIF
- Composite
- CircleOfConfusion: 0,006 mm
- ScaleFactor35efl: 4,8
- ShutterSpeed: 1,3
- ExifIFD
- ColorSpace: sRGB
- CreateDate: 2011:10:02 03:44:53
- CustomRendered: Normal
- DateTimeOriginal: 2011:10:02 03:44:53
- ExifImageHeight: 1279
- ExifImageWidth: 900
- ExposureCompensation: 0
- ExposureMode: Manual
- ExposureProgram: Manual
- ExposureTime: 1,3
- Flash: Off, Did not fire
- ISO: 100
- MeteringMode: Partial
- SceneCaptureType: Standard
- ShutterSpeedValue: 1,3
- WhiteBalance: Auto
- IFD0
- Make: Canon
- Model: Canon EOS 40D
- ModifyDate: 2012:02:12 20:59:14
- Orientation: Horizontal (normal)
- Software: Программа цифровой обработки изображений компании ACD Systems
- IFD1
- IPTC
- DateCreated: 2011:10:02
- System
- XMP-aux
- Firmware: 1.1.1
- FlashCompensation: 0
- ImageNumber: 0
- SerialNumber: 2231214667
- XMP-crs
- AlreadyApplied: True
- BlueHue: 0
- BlueSaturation: +9
- Brightness: +5
- ChromaticAberrationB: 0
- ChromaticAberrationR: 0
- Clarity: -17
- ColorNoiseReduction: 91
- ColorNoiseReductionDetail: 50
- Contrast: +6
- ConvertToGrayscale: False
- CropAngle: 0
- CropBottom: 1
- CropConstrainToWarp: 0
- CropHeight: 2412
- CropLeft: 0.118519
- CropRight: 1
- CropTop: 0.069445
- CropUnit: pixels
- CropWidth: 3427
- Defringe: 0
- Exposure: -0.23
- FillLight: 52
- GrainAmount: 0
- GreenHue: 0
- GreenSaturation: -66
- HasCrop: True
- HasSettings: True
- HighlightRecovery: 52
- HueAdjustmentAqua: 0
- HueAdjustmentBlue: +10
- HueAdjustmentGreen: 0
- HueAdjustmentMagenta: 0
- HueAdjustmentOrange: 0
- HueAdjustmentPurple: 0
- HueAdjustmentRed: 0
- HueAdjustmentYellow: -3
- LensManualDistortionAmount: 0
- LensProfileEnable: 0
- LensProfileSetup: LensDefaults
- LuminanceAdjustmentAqua: 0
- LuminanceAdjustmentBlue: 0
- LuminanceAdjustmentGreen: 0
- LuminanceAdjustmentMagenta: 0
- LuminanceAdjustmentOrange: 0
- LuminanceAdjustmentPurple: 0
- LuminanceAdjustmentRed: 0
- LuminanceAdjustmentYellow: +38
- LuminanceNoiseReductionContrast: 0
- LuminanceNoiseReductionDetail: 50
- LuminanceSmoothing: 39
- ParametricDarks: -61
- ParametricHighlightSplit: 75
- ParametricHighlights: +4
- ParametricLights: +79
- ParametricMidtoneSplit: 50
- ParametricShadowSplit: 25
- ParametricShadows: -77
- PerspectiveHorizontal: 0
- PerspectiveRotate: 0.0
- PerspectiveScale: 100
- PerspectiveVertical: 0
- PostCropVignetteAmount: -38
- PostCropVignetteFeather: 100
- PostCropVignetteHighlightContrast: 0
- PostCropVignetteMidpoint: 0
- PostCropVignetteRoundness: 0
- PostCropVignetteStyle: 1
- ProcessVersion: 5.7
- RedHue: 0
- RedSaturation: -38
- Saturation: -3
- SaturationAdjustmentAqua: 0
- SaturationAdjustmentBlue: -13
- SaturationAdjustmentGreen: +40
- SaturationAdjustmentMagenta: 0
- SaturationAdjustmentOrange: 0
- SaturationAdjustmentPurple: 0
- SaturationAdjustmentRed: 0
- SaturationAdjustmentYellow: -4
- ShadowTint: 0
- Shadows: 0
- SharpenDetail: 12
- SharpenEdgeMasking: 0
- SharpenRadius: +2.6
- Sharpness: 138
- SplitToningBalance: 0
- SplitToningHighlightHue: 0
- SplitToningHighlightSaturation: 0
- SplitToningShadowHue: 0
- SplitToningShadowSaturation: 0
- Temperature: 3900
- Tint: +43
- ToneCurve: 0, 0, 255, 255
- ToneCurveName: Linear
- Version: 6.4.1
- Vibrance: +66
- VignetteAmount: 0
- WhiteBalance: As Shot
- XMP-dc
- XMP-x
- XMP-xmp
- CreateDate: 2011:10:02 03:44:53.75
- ModifyDate: 2012:02:12 20:58:56+04:00
- XMP-xmpMM
Получить код для блога
| Вставка фотографии в текущем разрешении |
Вставка миниатюры |
HTML (для вставки в блог):
BBCode (для вставки в форум):
Ссылка на фото:
Ссылка на миниатюру:
- Послать ссылку другу
| Комментарии к фотографии |