- Раздел: Пейзаж
- Дата съёмки: 29.02.2012 19:48
- Дата загрузки фото: 01.03.2012 04:21
- Оригинальная фотография: 1211 x 850 (472 Кб)
- Технические характеристики:
- Фотоаппарат: Canon EOS 40D
- Выдержка: 20,0
- Гиперфокальное расстояние: inf m
- Диафрагма: 18,0
- Светочувствительность: 100
- Фокусное расстояние: 12,0 mm (35 mm equivalent: 60,0 mm)
- Полный EXIF
- Adobe
- ColorTransform: YCbCr
- Composite
- Aperture: 18,0
- CircleOfConfusion: 0,006 mm
- DOF: inf (0,00 m - inf)
- FOV: 33,0 deg
- FocalLength35efl: 12,0 mm (35 mm equivalent: 60,0 mm)
- HyperfocalDistance: inf m
- LightValue: 4,0
- ScaleFactor35efl: 5,1
- ShutterSpeed: 20,0
- ExifIFD
- ApertureValue: 18,0
- ColorSpace: sRGB
- CreateDate: 2012:02:29 19:48:53
- CustomRendered: Normal
- DateTimeOriginal: 2012:02:29 19:48:53
- ExifImageHeight: 850
- ExifImageWidth: 1211
- ExposureCompensation: 0
- ExposureMode: Manual
- ExposureProgram: Manual
- ExposureTime: 20,0
- FNumber: 18,0
- Flash: Off, Did not fire
- FocalLength: 12,0 mm
- ISO: 100
- LensInfo: 12-24mm f/?
- LensModel: 12-24mm
- MaxApertureValue: 4,0
- MeteringMode: Spot
- SceneCaptureType: Standard
- SerialNumber: 2231214667
- ShutterSpeedValue: 20,0
- SubjectDistance: 4294967295 m
- WhiteBalance: Auto
- ICC-header
- ICC-meas
- ICC-view
- IFD0
- BitsPerSample: 8 8 8
- ImageHeight: 2592
- ImageWidth: 3694
- Make: Canon
- Model: Canon EOS 40D
- ModifyDate: 2012:03:01 03:44:36
- Orientation: Horizontal (normal)
- PhotometricInterpretation: RGB
- SamplesPerPixel: 3
- IFD1
- IPTC
- DateCreated: 2012:02:29
- System
- XMP-aux
- ApproximateFocusDistance: 4294967295
- Firmware: 1.1.1
- FlashCompensation: 0
- ImageNumber: 0
- Lens: 12-24mm
- LensID: 160
- XMP-crs
- AlreadyApplied: True
- BlueHue: 0
- BlueSaturation: -66
- Brightness: +83
- ChromaticAberrationB: 0
- ChromaticAberrationR: 0
- Clarity: +100
- ColorNoiseReduction: 25
- ColorNoiseReductionDetail: 50
- Contrast: +36
- ConvertToGrayscale: False
- CropAngle: 0
- CropBottom: 1
- CropConstrainToWarp: 0
- CropHeight: 2592
- CropLeft: 0.037037
- CropRight: 0.987037
- CropTop: 0
- CropUnit: pixels
- CropWidth: 3694
- Defringe: 0
- Exposure: +0.58
- FillLight: 0
- GrainAmount: 0
- GreenHue: 0
- GreenSaturation: -28
- HasCrop: True
- HasSettings: True
- HighlightRecovery: 90
- HueAdjustmentAqua: 0
- HueAdjustmentBlue: 0
- HueAdjustmentGreen: 0
- HueAdjustmentMagenta: 0
- HueAdjustmentOrange: 0
- HueAdjustmentPurple: 0
- HueAdjustmentRed: 0
- HueAdjustmentYellow: -1
- LensManualDistortionAmount: 0
- LensProfileEnable: 0
- LensProfileSetup: LensDefaults
- LuminanceAdjustmentAqua: 0
- LuminanceAdjustmentBlue: 0
- LuminanceAdjustmentGreen: 0
- LuminanceAdjustmentMagenta: 0
- LuminanceAdjustmentOrange: +45
- LuminanceAdjustmentPurple: 0
- LuminanceAdjustmentRed: 0
- LuminanceAdjustmentYellow: +47
- LuminanceNoiseReductionContrast: 0
- LuminanceNoiseReductionDetail: 50
- LuminanceSmoothing: 73
- ParametricDarks: +4
- ParametricHighlightSplit: 75
- ParametricHighlights: +27
- ParametricLights: +51
- ParametricMidtoneSplit: 50
- ParametricShadowSplit: 25
- ParametricShadows: +30
- PerspectiveHorizontal: 0
- PerspectiveRotate: 0.0
- PerspectiveScale: 100
- PerspectiveVertical: 0
- PostCropVignetteAmount: -44
- PostCropVignetteFeather: 91
- PostCropVignetteHighlightContrast: 97
- PostCropVignetteMidpoint: 22
- PostCropVignetteRoundness: 0
- PostCropVignetteStyle: 1
- ProcessVersion: 5.7
- RedHue: 0
- RedSaturation: 0
- Saturation: -8
- SaturationAdjustmentAqua: 0
- SaturationAdjustmentBlue: 0
- SaturationAdjustmentGreen: 0
- SaturationAdjustmentMagenta: 0
- SaturationAdjustmentOrange: +54
- SaturationAdjustmentPurple: 0
- SaturationAdjustmentRed: +1
- SaturationAdjustmentYellow: +22
- ShadowTint: 0
- Shadows: 1
- SharpenDetail: 25
- SharpenEdgeMasking: 0
- SharpenRadius: +2.5
- Sharpness: 115
- SplitToningBalance: +3
- SplitToningHighlightHue: 231
- SplitToningHighlightSaturation: 44
- SplitToningShadowHue: 219
- SplitToningShadowSaturation: 9
- Temperature: 6600
- Tint: -10
- ToneCurve: 0, 0, 32, 22, 64, 56, 128, 128, 192, 196, 255, 255
- ToneCurveName: Medium Contrast
- Version: 6.4.1
- Vibrance: -53
- VignetteAmount: 0
- WhiteBalance: As Shot
- XMP-dc
- XMP-xmp
- CreateDate: 2012:02:29 19:48:53.15
- ModifyDate: 2012:03:01 03:44:36+04:00
- XMP-xmpMM
- Просмотров: 353
- Рейтинг: голосов еще нет
- Отзывов: 0