Уважаемые друзья и участники проекта iXBT.photo! К сожалению, 1 марта 2026 года проект iXBT.photo прекратит свою работу и будет закрыт. Мы высоко ценим ваше участие и тот вклад, который вы внесли в развитие нашего сообщества. Пожалуйста, не забудьте сохранить ваши фотографии до этой даты.
С уважением, команда iXBT.com
| IMG_0739.jpg |
IMG_0739.jpg
- Раздел: Тесты фототехники
- Дата съёмки: 09.07.2012 20:49
- Дата загрузки фото: 10.07.2012 11:18
- Оригинальная фотография: 4319 x 2879 (6,5 Мб)
- Технические характеристики:
- Фотоаппарат: Canon PowerShot G1 X
- Выдержка: 1/25
- Гиперфокальное расстояние: inf m
- Диафрагма: 4,5
- Светочувствительность: 800
- Фокусное расстояние: 15,0 mm (35 mm equivalent: 15,0 mm)
- Полный EXIF
- Adobe
- ColorTransform: YCbCr
- Composite
- Aperture: 4,5
- CircleOfConfusion: 0,016 mm
- FOV: 100,0 deg
- FocalLength35efl: 15,0 mm (35 mm equivalent: 15,0 mm)
- HyperfocalDistance: inf m
- ScaleFactor35efl: 1,9
- ShutterSpeed: 1/25
- ExifIFD
- ApertureValue: 4,5
- CreateDate: 2012:07:09 20:49:42
- CustomRendered: Normal
- DateTimeOriginal: 2012:07:09 20:49:42
- DigitalZoomRatio: 1
- ExposureCompensation: 0
- ExposureMode: Auto
- ExposureTime: 1/25
- FNumber: 4,5
- Flash: Off, Did not fire
- FocalLength: 15,1 mm
- ISO: 800
- LensInfo: 15.1-60.4mm f/?
- LensModel: 15.1-60.4 mm
- MaxApertureValue: 2,8
- MeteringMode: Center-weighted average
- SceneCaptureType: Standard
- SensingMethod: One-chip color area
- SensitivityType: Standard Output Sensitivity and Recommended Exposure Index
- ShutterSpeedValue: 1/25
- WhiteBalance: Auto
- ICC-header
- ICC-meas
- ICC-view
- IFD0
- Make: Canon
- Model: Canon PowerShot G1 X
- ModifyDate: 2012:07:10 10:15:43
- IFD1
- IPTC
- DateCreated: 2012:07:09
- System
- XMP-aux
- ApproximateFocusDistance: 2,79
- Firmware: 1.00
- FlashCompensation: 0
- Lens: 15.1-60.4 mm
- XMP-crs
- AlreadyApplied: True
- AutoLateralCA: 0
- Blacks2012: 0
- BlueHue: 0
- BlueSaturation: 0
- Clarity2012: 0
- ColorNoiseReduction: 25
- ColorNoiseReductionDetail: 50
- Contrast2012: -20
- ConvertToGrayscale: True
- CropAngle: 0.656768
- CropBottom: 0.948657
- CropConstrainToWarp: 0
- CropHeight: 2879
- CropLeft: 0.007584
- CropRight: 0.992416
- CropTop: 0.051343
- CropUnit: pixels
- CropWidth: 4319
- Exposure2012: 0.00
- GrainAmount: 13
- GrainFrequency: 50
- GrainSize: 25
- GrayMixerAqua: -18
- GrayMixerBlue: +10
- GrayMixerGreen: -27
- GrayMixerMagenta: +4
- GrayMixerOrange: -19
- GrayMixerPurple: +16
- GrayMixerRed: -10
- GrayMixerYellow: -23
- GreenHue: 0
- GreenSaturation: 0
- HasCrop: True
- HasSettings: True
- Highlights2012: -50
- LensManualDistortionAmount: 0
- LensProfileEnable: 0
- LensProfileSetup: LensDefaults
- LuminanceSmoothing: 0
- PaintBasedCorrectionsLocalClarity2012: 0.000000
- PaintBasedCorrectionsLocalContrast2012: 0.000000
- PaintBasedCorrectionsLocalDefringe: 0.000000
- PaintBasedCorrectionsLocalExposure2012: 0.062500
- PaintBasedCorrectionsLocalHighlights2012: 0.000000
- PaintBasedCorrectionsLocalLuminanceNoise: 0.000000
- PaintBasedCorrectionsLocalMoire: 0.000000
- PaintBasedCorrectionsLocalShadows2012: 0.000000
- PaintBasedCorrectionsLocalTemperature: 0.000000
- PaintBasedCorrectionsLocalTint: 0.000000
- PaintCorrectionActive: true
- PaintCorrectionAmount: 1.000000
- PaintCorrectionBrightness: 0.000000
- PaintCorrectionHue: 240.000000
- PaintCorrectionMaskCenterWeight: 0.000000
- PaintCorrectionMaskFlow: 1.000000
- PaintCorrectionMaskRadius: 0.023690
- PaintCorrectionMaskValue: 1.000000
- PaintCorrectionMaskWhat: Mask/Paint
- PaintCorrectionSaturation: 0.000000
- PaintCorrectionSharpness: 0.000000
- PaintCorrectionWhat: Correction
- ParametricDarks: 0
- ParametricHighlightSplit: 75
- ParametricHighlights: 0
- ParametricLights: 0
- ParametricMidtoneSplit: 50
- ParametricShadowSplit: 25
- ParametricShadows: 0
- PerspectiveHorizontal: 0
- PerspectiveRotate: 0.0
- PerspectiveScale: 100
- PerspectiveVertical: 0
- PostCropVignetteAmount: 0
- ProcessVersion: 6.7
- RedHue: 0
- RedSaturation: 0
- ShadowTint: 0
- Shadows2012: +15
- SharpenDetail: 25
- SharpenEdgeMasking: 0
- SharpenRadius: +1.0
- Sharpness: 25
- SplitToningBalance: 0
- SplitToningHighlightHue: 0
- SplitToningHighlightSaturation: 0
- SplitToningShadowHue: 0
- SplitToningShadowSaturation: 0
- Temperature: 5200
- Tint: +7
- ToneCurveName2012: Linear
- ToneCurvePV2012: 0, 0, 255, 255
- ToneCurvePV2012Blue: 0, 0, 255, 255
- ToneCurvePV2012Green: 0, 0, 255, 255
- ToneCurvePV2012Red: 0, 0, 255, 255
- Version: 7.1
- VignetteAmount: 0
- WhiteBalance: As Shot
- Whites2012: 0
- XMP-dc
- XMP-xmp
- ModifyDate: 2012:07:10 10:15:43+04:00
- XMP-xmpMM
- Просмотров: 372
- Рейтинг: голосов еще нет
- Отзывов: 0
Получить код для блога
| Вставка фотографии в текущем разрешении |
Вставка миниатюры |
HTML (для вставки в блог):
BBCode (для вставки в форум):
Ссылка на фото:
Ссылка на миниатюру:
- Послать ссылку другу
| Комментарии к фотографии |