| » Участники » Harumpel » Urlaub 2012 » IMG_0015-10005.jpg |
Уважаемые друзья и участники проекта iXBT.photo! К сожалению, 5 марта 2026 года проект iXBT.photo прекратит свою работу и будет закрыт. Мы высоко ценим ваше участие и тот вклад, который вы внесли в развитие нашего сообщества. Пожалуйста, не забудьте сохранить ваши фотографии до этой даты.
С уважением, команда iXBT.com
| IMG_0015-10005.jpg |
IMG_0015-10005.jpg
- Раздел: Другое, разное
- Дата съёмки: 23.07.2012 21:03
- Дата загрузки фото: 30.07.2012 15:56
- Оригинальная фотография: 720 x 1080 (410 Кб)
- Технические характеристики:
- Фотоаппарат: Canon EOS 5D Mark II
- Выдержка: 1/125
- Гиперфокальное расстояние: inf m
- Диафрагма: 9,0
- Светочувствительность: 200
- Фокусное расстояние: 20,0 mm (35 mm equivalent: 100,0 mm)
- Экспокоррекция: -2/3
- Полный EXIF
- Composite
- Aperture: 9,0
- CircleOfConfusion: 0,006 mm
- DOF: inf (0,00 m - inf)
- FOV: 20,0 deg
- FocalLength35efl: 20,0 mm (35 mm equivalent: 100,0 mm)
- HyperfocalDistance: inf m
- ScaleFactor35efl: 5,1
- ShutterSpeed: 1/125
- ExifIFD
- ApertureValue: 9,0
- CreateDate: 2012:07:23 21:03:45
- CustomRendered: Normal
- DateTimeOriginal: 2012:07:23 21:03:45
- ExposureCompensation: -2/3
- ExposureMode: Auto
- ExposureProgram: Aperture-priority AE
- ExposureTime: 1/125
- FNumber: 9,0
- Flash: Off, Did not fire
- FocalLength: 20,0 mm
- ISO: 200
- LensInfo: 20-35mm f/?
- LensModel: EF20-35mm f/3.5-4.5 USM
- MaxApertureValue: 3,5
- MeteringMode: Multi-segment
- SceneCaptureType: Standard
- SerialNumber: 330223042
- ShutterSpeedValue: 1/125
- SubjectDistance: 4294967295 m
- WhiteBalance: Auto
- IFD0
- Make: Canon
- Model: Canon EOS 5D Mark II
- ModifyDate: 2012:07:25 21:03:44
- IFD1
- IPTC
- DateCreated: 2012:07:23
- System
- XMP-aux
- ApproximateFocusDistance: 4294967295
- Firmware: 2.0.7
- FlashCompensation: 0
- ImageNumber: 0
- Lens: EF20-35mm f/3.5-4.5 USM
- LensID: 160
- XMP-crs
- AlreadyApplied: True
- BlueHue: 0
- BlueSaturation: 0
- Brightness: +50
- ChromaticAberrationB: 0
- ChromaticAberrationR: 0
- Clarity: +85
- ColorNoiseReduction: 25
- ColorNoiseReductionDetail: 50
- Contrast: +25
- ConvertToGrayscale: False
- Defringe: 0
- Exposure: 0.00
- FillLight: 0
- GradientBasedCorrActive: true
- GradientBasedCorrAmount: 1.000000
- GradientBasedCorrBrightness: 0.000000
- GradientBasedCorrClarity: 0.000000
- GradientBasedCorrContrast: 0.000000
- GradientBasedCorrExposure: 0.500000
- GradientBasedCorrHue: 0.000000
- GradientBasedCorrMaskFullX: 0.468085
- GradientBasedCorrMaskFullY: 0.486702
- GradientBasedCorrMaskValue: 1.000000
- GradientBasedCorrMaskWhat: Mask/Gradient
- GradientBasedCorrMaskZeroX: 0.794326
- GradientBasedCorrMaskZeroY: 0.500000
- GradientBasedCorrSaturation: 0.000000
- GradientBasedCorrSharpness: 0.000000
- GradientBasedCorrWhat: Correction
- GrainAmount: 0
- GreenHue: 0
- GreenSaturation: 0
- HasCrop: False
- HasSettings: True
- HighlightRecovery: 0
- HueAdjustmentAqua: 0
- HueAdjustmentBlue: +13
- HueAdjustmentGreen: +29
- HueAdjustmentMagenta: 0
- HueAdjustmentOrange: 0
- HueAdjustmentPurple: 0
- HueAdjustmentRed: 0
- HueAdjustmentYellow: -44
- LensManualDistortionAmount: 0
- LensProfileEnable: 0
- LensProfileSetup: LensDefaults
- LuminanceAdjustmentAqua: 0
- LuminanceAdjustmentBlue: 0
- LuminanceAdjustmentGreen: -10
- LuminanceAdjustmentMagenta: 0
- LuminanceAdjustmentOrange: +17
- LuminanceAdjustmentPurple: 0
- LuminanceAdjustmentRed: 0
- LuminanceAdjustmentYellow: -48
- LuminanceSmoothing: 0
- ParametricDarks: 0
- ParametricHighlightSplit: 75
- ParametricHighlights: 0
- ParametricLights: 0
- ParametricMidtoneSplit: 50
- ParametricShadowSplit: 25
- ParametricShadows: 0
- PerspectiveHorizontal: 0
- PerspectiveRotate: 0.0
- PerspectiveScale: 100
- PerspectiveVertical: 0
- PostCropVignetteAmount: 0
- ProcessVersion: 5.7
- RedHue: 0
- RedSaturation: 0
- Saturation: 0
- SaturationAdjustmentAqua: 0
- SaturationAdjustmentBlue: +31
- SaturationAdjustmentGreen: +38
- SaturationAdjustmentMagenta: 0
- SaturationAdjustmentOrange: +46
- SaturationAdjustmentPurple: 0
- SaturationAdjustmentRed: 0
- SaturationAdjustmentYellow: +2
- ShadowTint: 0
- Shadows: 18
- SharpenDetail: 25
- SharpenEdgeMasking: 0
- SharpenRadius: +1.0
- Sharpness: 25
- SplitToningBalance: 0
- SplitToningHighlightHue: 38
- SplitToningHighlightSaturation: 0
- SplitToningShadowHue: 219
- SplitToningShadowSaturation: 19
- Temperature: 4813
- Tint: -13
- ToneCurve: 0, 0, 32, 22, 64, 56, 128, 128, 192, 196, 255, 255
- ToneCurveName: Medium Contrast
- Version: 6.6
- Vibrance: -10
- VignetteAmount: 0
- WhiteBalance: Custom
- XMP-dc
- XMP-xmp
- CreateDate: 2012:07:23 21:03:45.27
- ModifyDate: 2012:07:25 21:03:44+02:00
- XMP-xmpMM
- Просмотров: 140
- Рейтинг: голосов еще нет
- Отзывов: отключены
Получить код для блога
| Вставка фотографии в текущем разрешении |
Вставка миниатюры |
HTML (для вставки в блог):
BBCode (для вставки в форум):
Ссылка на фото:
Ссылка на миниатюру:
- Послать ссылку другу
| Комментарии к фотографии |