Уважаемые друзья и участники проекта iXBT.photo! К сожалению, 5 марта 2026 года проект iXBT.photo прекратит свою работу и будет закрыт. Мы высоко ценим ваше участие и тот вклад, который вы внесли в развитие нашего сообщества. Пожалуйста, не забудьте сохранить ваши фотографии до этой даты.
С уважением, команда iXBT.com
| _IGP2776.JPG |
_IGP2776.JPG
- Раздел: Другое, разное
- Дата съёмки: 18.08.2012 19:32
- Дата загрузки фото: 18.08.2012 21:09
- Оригинальная фотография: 3314 x 2111 (3,9 Мб)
- Технические характеристики:
- Фотоаппарат: Pentax K10D
- Выдержка: 1/160
- Светочувствительность: 100
- Полный EXIF
- Adobe
- ColorTransform: YCbCr
- Composite
- ShutterSpeed: 1/160
- ExifIFD
- Contrast: Normal
- CreateDate: 2012:08:18 19:32:43
- CustomRendered: Normal
- DateTimeOriginal: 2012:08:18 19:32:43
- ExposureCompensation: 0
- ExposureMode: Manual
- ExposureProgram: Manual
- ExposureTime: 1/160
- Flash: Off, Did not fire
- ISO: 100
- LensModel: K or M Lens
- MeteringMode: Center-weighted average
- Saturation: Normal
- SceneCaptureType: Standard
- SensingMethod: One-chip color area
- Sharpness: Normal
- ShutterSpeedValue: 1/160
- SubjectDistanceRange: Distant
- WhiteBalance: Auto
- ICC-header
- ICC-meas
- ICC-view
- IFD0
- Make: PENTAX Corporation
- Model: PENTAX K10D
- ModifyDate: 2012:08:18 20:09:06
- IFD1
- IPTC
- DateCreated: 2012:08:18
- System
- XMP-aux
- Lens: K or M Lens
- LensID: 1 0
- XMP-crs
- AlreadyApplied: True
- BlueHue: 0
- BlueSaturation: 0
- Brightness: +50
- ChromaticAberrationB: 0
- ChromaticAberrationR: 0
- Clarity: +43
- ColorNoiseReduction: 25
- ColorNoiseReductionDetail: 50
- Contrast: +61
- ConvertToGrayscale: False
- CropAngle: 0.729164
- CropBottom: 0.962651
- CropConstrainToWarp: 0
- CropHeight: 2111
- CropLeft: 0.008041
- CropRight: 0.991959
- CropTop: 0
- CropUnit: pixels
- CropWidth: 3314
- Defringe: 0
- Exposure: -0.33
- FillLight: 17
- GrainAmount: 0
- GreenHue: 0
- GreenSaturation: 0
- HasCrop: True
- HasSettings: True
- HighlightRecovery: 62
- HueAdjustmentAqua: 0
- HueAdjustmentBlue: 0
- HueAdjustmentGreen: 0
- HueAdjustmentMagenta: 0
- HueAdjustmentOrange: 0
- HueAdjustmentPurple: 0
- HueAdjustmentRed: 0
- HueAdjustmentYellow: 0
- LensManualDistortionAmount: 0
- LensProfileEnable: 0
- LensProfileSetup: LensDefaults
- LuminanceAdjustmentAqua: 0
- LuminanceAdjustmentBlue: 0
- LuminanceAdjustmentGreen: 0
- LuminanceAdjustmentMagenta: 0
- LuminanceAdjustmentOrange: 0
- LuminanceAdjustmentPurple: 0
- LuminanceAdjustmentRed: 0
- LuminanceAdjustmentYellow: 0
- LuminanceSmoothing: 0
- ParametricDarks: 0
- ParametricHighlightSplit: 75
- ParametricHighlights: 0
- ParametricLights: 0
- ParametricMidtoneSplit: 50
- ParametricShadowSplit: 25
- ParametricShadows: 0
- PerspectiveHorizontal: 0
- PerspectiveRotate: 0.0
- PerspectiveScale: 100
- PerspectiveVertical: 0
- PostCropVignetteAmount: 0
- ProcessVersion: 5.7
- RedHue: 0
- RedSaturation: 0
- Saturation: 0
- SaturationAdjustmentAqua: 0
- SaturationAdjustmentBlue: 0
- SaturationAdjustmentGreen: 0
- SaturationAdjustmentMagenta: 0
- SaturationAdjustmentOrange: 0
- SaturationAdjustmentPurple: 0
- SaturationAdjustmentRed: 0
- SaturationAdjustmentYellow: 0
- ShadowTint: 0
- Shadows: 5
- SharpenDetail: 25
- SharpenEdgeMasking: 0
- SharpenRadius: +1.0
- Sharpness: 25
- SplitToningBalance: 0
- SplitToningHighlightHue: 0
- SplitToningHighlightSaturation: 0
- SplitToningShadowHue: 0
- SplitToningShadowSaturation: 0
- Temperature: 8322
- Tint: 0
- ToneCurve: 0, 0, 32, 22, 64, 56, 128, 128, 192, 196, 255, 255
- ToneCurveName: Medium Contrast
- Version: 6.6
- Vibrance: 0
- VignetteAmount: 0
- WhiteBalance: Custom
- XMP-dc
- XMP-xmp
- ModifyDate: 2012:08:18 20:09:06+03:00
- XMP-xmpMM
- Просмотров: 167
- Рейтинг: голосов еще нет
- Отзывов: 0
Получить код для блога
| Вставка фотографии в текущем разрешении |
Вставка миниатюры |
HTML (для вставки в блог):
BBCode (для вставки в форум):
Ссылка на фото:
Ссылка на миниатюру:
- Послать ссылку другу
| Комментарии к фотографии |