| » Участники » IG » захід 2012 » IMG_7404.jpg |
Уважаемые друзья и участники проекта iXBT.photo! К сожалению, 1 марта 2026 года проект iXBT.photo прекратит свою работу и будет закрыт. Мы высоко ценим ваше участие и тот вклад, который вы внесли в развитие нашего сообщества. Пожалуйста, не забудьте сохранить ваши фотографии до этой даты.
С уважением, команда iXBT.com
| IMG_7404.jpg |
IMG_7404.jpg
- Раздел: Другое, разное
- Дата съёмки: 21.08.2012 20:51
- Дата загрузки фото: 17.09.2012 12:09
- Оригинальная фотография: 3083 x 4623 (9,2 Мб)
- Технические характеристики:
- Фотоаппарат: Canon EOS 50D
- Выдержка: 13,0
- Гиперфокальное расстояние: inf m
- Диафрагма: 8,0
- Светочувствительность: 100
- Фокусное расстояние: 85,0 mm (35 mm equivalent: 85,0 mm)
- Полный EXIF
- Adobe
- ColorTransform: YCbCr
- Composite
- Aperture: 8,0
- CircleOfConfusion: 0,018 mm
- DOF: inf (0,00 m - inf)
- FOV: 23,0 deg
- FocalLength35efl: 85,0 mm (35 mm equivalent: 85,0 mm)
- HyperfocalDistance: inf m
- LightValue: 2,3
- ScaleFactor35efl: 1,6
- ShutterSpeed: 13,0
- ExifIFD
- ApertureValue: 8,0
- CreateDate: 2012:08:21 20:51:43
- CustomRendered: Normal
- DateTimeOriginal: 2012:08:21 20:51:43
- ExposureCompensation: 0
- ExposureMode: Manual
- ExposureProgram: Manual
- ExposureTime: 13,0
- FNumber: 8,0
- Flash: Off, Did not fire
- FocalLength: 85,0 mm
- ISO: 100
- LensInfo: 85mm f/?
- LensModel: EF85mm f/1.8 USM
- MaxApertureValue: 1,8
- MeteringMode: Spot
- OwnerName: Igor Popovych
- SceneCaptureType: Standard
- SensitivityType: Unknown
- SerialNumber: 430208369
- ShutterSpeedValue: 13,0
- SubjectDistance: 4294967295 m
- WhiteBalance: Auto
- ICC-header
- ICC-meas
- ICC-view
- IFD0
- Artist: Photographer: Igor Popovych
- Copyright: Copyright: Igor Popovych
- Make: Canon
- Model: Canon EOS 50D
- ModifyDate: 2012:09:17 10:47:27
- IFD1
- IPTC
- By-line: Photographer: Igor Popovych
- CopyrightNotice: Copyright: Igor Popovych
- System
- XMP-aux
- ApproximateFocusDistance: 4294967295
- Firmware: 1.0.7
- FlashCompensation: 0
- ImageNumber: 0
- Lens: EF85mm f/1.8 USM
- LensID: 155
- XMP-crs
- AlreadyApplied: True
- BlueHue: 0
- BlueSaturation: 0
- Brightness: 0
- CameraProfile: Embedded
- ChromaticAberrationB: 0
- ChromaticAberrationR: 0
- Clarity: +31
- ColorNoiseReduction: 0
- Contrast: +10
- ConvertToGrayscale: False
- CropAngle: 1.071
- CropBottom: 1
- CropConstrainToWarp: 0
- CropHeight: 3083
- CropLeft: 0.019701
- CropRight: 0.980299
- CropTop: 0
- CropUnit: pixels
- CropWidth: 4623
- Defringe: 0
- Exposure: +0.32
- FillLight: 18
- GrainAmount: 0
- GreenHue: 0
- GreenSaturation: 0
- HasCrop: True
- HasSettings: True
- HighlightRecovery: 66
- HueAdjustmentAqua: 0
- HueAdjustmentBlue: 0
- HueAdjustmentGreen: 0
- HueAdjustmentMagenta: 0
- HueAdjustmentOrange: -9
- HueAdjustmentPurple: 0
- HueAdjustmentRed: -25
- HueAdjustmentYellow: 0
- IncrementalTemperature: -15
- IncrementalTint: 0
- LensManualDistortionAmount: 0
- LensProfileEnable: 0
- LensProfileSetup: LensDefaults
- LuminanceAdjustmentAqua: 0
- LuminanceAdjustmentBlue: 0
- LuminanceAdjustmentGreen: 0
- LuminanceAdjustmentMagenta: 0
- LuminanceAdjustmentOrange: +11
- LuminanceAdjustmentPurple: 0
- LuminanceAdjustmentRed: +20
- LuminanceAdjustmentYellow: +14
- LuminanceSmoothing: 0
- ParametricDarks: 0
- ParametricHighlightSplit: 75
- ParametricHighlights: 0
- ParametricLights: 0
- ParametricMidtoneSplit: 50
- ParametricShadowSplit: 25
- ParametricShadows: 0
- PerspectiveHorizontal: 0
- PerspectiveRotate: 0.0
- PerspectiveScale: 100
- PerspectiveVertical: 0
- PostCropVignetteAmount: 0
- ProcessVersion: 5.7
- RedHue: 0
- RedSaturation: 0
- Saturation: +8
- SaturationAdjustmentAqua: 0
- SaturationAdjustmentBlue: 0
- SaturationAdjustmentGreen: 0
- SaturationAdjustmentMagenta: 0
- SaturationAdjustmentOrange: +2
- SaturationAdjustmentPurple: 0
- SaturationAdjustmentRed: -18
- SaturationAdjustmentYellow: 0
- ShadowTint: 0
- Shadows: 7
- SharpenDetail: 35
- SharpenEdgeMasking: 0
- SharpenRadius: +1.0
- Sharpness: 52
- SplitToningBalance: 0
- SplitToningHighlightHue: 0
- SplitToningHighlightSaturation: 0
- SplitToningShadowHue: 232
- SplitToningShadowSaturation: 23
- ToneCurve: 0, 0, 255, 255
- ToneCurveName: Linear
- Version: 6.3
- Vibrance: -17
- VignetteAmount: 0
- WhiteBalance: Custom
- XMP-dc
- Creator: Photographer: Igor Popovych
- Rights: Copyright: Igor Popovych
- XMP-exif
- DateTimeDigitized: 2012:08:21 20:51:43.39+03:00
- DateTimeOriginal: 2012:08:21 20:51:43.39+03:00
- ExifImageHeight: 4623
- ExifImageWidth: 3083
- FlashFired: False
- FlashFunction: False
- FlashMode: Off
- FlashRedEyeMode: False
- FlashReturn: No return detection
- XMP-tiff
- ImageHeight: 4623
- ImageWidth: 3083
- XMP-xmp
- CreateDate: 2012:08:21 20:51:43.39+03:00
- ModifyDate: 2012:09:17 10:47:27+03:00
- Просмотров: 301
- Рейтинг: голосов еще нет
- Отзывов: 0
Получить код для блога
| Вставка фотографии в текущем разрешении |
Вставка миниатюры |
HTML (для вставки в блог):
BBCode (для вставки в форум):
Ссылка на фото:
Ссылка на миниатюру:
- Послать ссылку другу
| Комментарии к фотографии |