| » Участники » IG » захід 2012 » IMG_7466.jpg |
Уважаемые друзья и участники проекта iXBT.photo! К сожалению, 1 марта 2026 года проект iXBT.photo прекратит свою работу и будет закрыт. Мы высоко ценим ваше участие и тот вклад, который вы внесли в развитие нашего сообщества. Пожалуйста, не забудьте сохранить ваши фотографии до этой даты.
С уважением, команда iXBT.com
| IMG_7466.jpg |
IMG_7466.jpg
Церковь Трех Святителей. Черновецкий университет.
- Раздел: Другое, разное
- Дата съёмки: 22.08.2012 13:37
- Дата загрузки фото: 17.09.2012 18:45
- Оригинальная фотография: 2927 x 4390 (13,6 Мб)
- Технические характеристики:
- Фотоаппарат: Canon EOS 50D
- Выдержка: 2,0
- Гиперфокальное расстояние: inf m
- Диафрагма: 8,0
- Светочувствительность: 100
- Фокусное расстояние: 20,0 mm (35 mm equivalent: 20,0 mm)
- Полный EXIF
- Adobe
- ColorTransform: YCbCr
- Composite
- Aperture: 8,0
- CircleOfConfusion: 0,018 mm
- FOV: 83,0 deg
- FocalLength35efl: 20,0 mm (35 mm equivalent: 20,0 mm)
- HyperfocalDistance: inf m
- LightValue: 5,0
- ScaleFactor35efl: 1,7
- ShutterSpeed: 2,0
- ExifIFD
- ApertureValue: 8,0
- CreateDate: 2012:08:22 13:37:09
- CustomRendered: Normal
- DateTimeOriginal: 2012:08:22 13:37:09
- ExposureCompensation: 0
- ExposureMode: Manual
- ExposureProgram: Manual
- ExposureTime: 2,0
- FNumber: 8,0
- Flash: Off, Did not fire
- FocalLength: 20,0 mm
- ISO: 100
- LensInfo: 17-50mm f/?
- LensModel: 17-50mm
- MaxApertureValue: 2,8
- MeteringMode: Spot
- OwnerName: Igor Popovych
- SceneCaptureType: Standard
- SensitivityType: Unknown
- SerialNumber: 430208369
- ShutterSpeedValue: 2,0
- WhiteBalance: Auto
- ICC-header
- ICC-meas
- ICC-view
- IFD0
- Artist: Photographer: Igor Popovych
- Copyright: Copyright: Igor Popovych
- Make: Canon
- Model: Canon EOS 50D
- ModifyDate: 2012:09:17 16:53:52
- IFD1
- IPTC
- By-line: Photographer: Igor Popovych
- CopyrightNotice: Copyright: Igor Popovych
- System
- XMP-aux
- Firmware: 1.0.7
- FlashCompensation: 0
- ImageNumber: 0
- Lens: 17-50mm
- LensID: 161
- XMP-crs
- AlreadyApplied: True
- BlueHue: 0
- BlueSaturation: 0
- Brightness: +12
- CameraProfile: Embedded
- ChromaticAberrationB: 0
- ChromaticAberrationR: 0
- Clarity: +10
- ColorNoiseReduction: 0
- Contrast: +10
- ConvertToGrayscale: False
- CropAngle: -3.214
- CropBottom: 0.922313
- CropConstrainToWarp: 0
- CropHeight: 2927
- CropLeft: 0.02158
- CropRight: 0.97842
- CropTop: 0.077687
- CropUnit: pixels
- CropWidth: 4390
- Defringe: 0
- Exposure: +0.78
- FillLight: 0
- GrainAmount: 0
- GreenHue: 0
- GreenSaturation: 0
- HasCrop: True
- HasSettings: True
- HighlightRecovery: 0
- HueAdjustmentAqua: 0
- HueAdjustmentBlue: 0
- HueAdjustmentGreen: 0
- HueAdjustmentMagenta: 0
- HueAdjustmentOrange: 0
- HueAdjustmentPurple: 0
- HueAdjustmentRed: 0
- HueAdjustmentYellow: 0
- IncrementalTemperature: 0
- IncrementalTint: 0
- LensManualDistortionAmount: 0
- LensProfileEnable: 0
- LensProfileSetup: LensDefaults
- LuminanceAdjustmentAqua: 0
- LuminanceAdjustmentBlue: 0
- LuminanceAdjustmentGreen: 0
- LuminanceAdjustmentMagenta: 0
- LuminanceAdjustmentOrange: 0
- LuminanceAdjustmentPurple: 0
- LuminanceAdjustmentRed: 0
- LuminanceAdjustmentYellow: 0
- LuminanceSmoothing: 0
- ParametricDarks: 0
- ParametricHighlightSplit: 75
- ParametricHighlights: 0
- ParametricLights: 0
- ParametricMidtoneSplit: 50
- ParametricShadowSplit: 25
- ParametricShadows: 0
- PerspectiveHorizontal: 0
- PerspectiveRotate: 0.0
- PerspectiveScale: 100
- PerspectiveVertical: 0
- PostCropVignetteAmount: 0
- ProcessVersion: 5.7
- RedHue: 0
- RedSaturation: 0
- Saturation: +8
- SaturationAdjustmentAqua: 0
- SaturationAdjustmentBlue: 0
- SaturationAdjustmentGreen: 0
- SaturationAdjustmentMagenta: 0
- SaturationAdjustmentOrange: 0
- SaturationAdjustmentPurple: 0
- SaturationAdjustmentRed: 0
- SaturationAdjustmentYellow: 0
- ShadowTint: 0
- Shadows: 5
- SharpenDetail: 25
- SharpenEdgeMasking: 0
- SharpenRadius: +1.0
- Sharpness: 21
- SplitToningBalance: 0
- SplitToningHighlightHue: 0
- SplitToningHighlightSaturation: 0
- SplitToningShadowHue: 0
- SplitToningShadowSaturation: 0
- ToneCurve: 0, 0, 255, 255
- ToneCurveName: Linear
- Version: 6.3
- Vibrance: +10
- VignetteAmount: 0
- WhiteBalance: As Shot
- XMP-dc
- Creator: Photographer: Igor Popovych
- Rights: Copyright: Igor Popovych
- XMP-exif
- DateTimeDigitized: 2012:08:22 13:37:09.27+03:00
- DateTimeOriginal: 2012:08:22 13:37:09.27+03:00
- ExifImageHeight: 4390
- ExifImageWidth: 2927
- FlashFired: False
- FlashFunction: False
- FlashMode: Off
- FlashRedEyeMode: False
- FlashReturn: No return detection
- XMP-tiff
- ImageHeight: 4390
- ImageWidth: 2927
- XMP-xmp
- CreateDate: 2012:08:22 13:37:09.27+03:00
- ModifyDate: 2012:09:17 16:53:52+03:00
Получить код для блога
| Вставка фотографии в текущем разрешении |
Вставка миниатюры |
HTML (для вставки в блог):
BBCode (для вставки в форум):
Ссылка на фото:
Ссылка на миниатюру:
- Послать ссылку другу
| Комментарии к фотографии |