- Раздел: Тесты фототехники
- Дата съёмки: 20.10.2012 14:44
- Дата загрузки фото: 20.10.2012 16:53
- Оригинальная фотография: 4072 x 4072 (1,4 Мб)
- Технические характеристики:
- Фотоаппарат: Kodak ProBack645
- Выдержка: 1/200
- Диафрагма: 4,0
- Светочувствительность: 100
- Экспокоррекция: -0,2
- Полный EXIF
- Adobe
- ColorTransform: YCbCr
- Composite
- Aperture: 4,0
- ShutterSpeed: 1/200
- ExifIFD
- ApertureValue: 4,0
- ColorSpace: sRGB
- DateTimeOriginal: 2012:10:20 14:44:29
- ExifImageHeight: 4072
- ExifImageWidth: 4072
- ExposureCompensation: -0,2
- ExposureIndex: 100
- ExposureProgram: Program AE
- ExposureTime: 1/200
- FNumber: 4,0
- ISO: 100
- LightSource: Unknown
- MeteringMode: Unknown
- SensingMethod: One-chip color area
- SerialNumber: PB645H-00218
- ShutterSpeedValue: 1/200
- ICC-header
- ICC-meas
- ICC-view
- IFD0
- Make: Kodak
- Model: ProBack645
- ModifyDate: 2012:10:20 15:40:33
- Orientation: Horizontal (normal)
- IFD1
- IPTC
- DateCreated: 2012:10:20
- System
- XMP-aux
- ImageNumber: 3194
- XMP-crs
- AlreadyApplied: True
- BlueHue: 0
- BlueSaturation: 0
- Brightness: +50
- CameraProfile: ACR 4.4
- ChromaticAberrationB: 0
- ChromaticAberrationR: 0
- Clarity: 0
- ColorNoiseReduction: 25
- ColorNoiseReductionDetail: 50
- Contrast: +25
- ConvertToGrayscale: False
- Defringe: 0
- Exposure: -0.50
- FillLight: 0
- GrainAmount: 0
- GreenHue: 0
- GreenSaturation: 0
- HasCrop: False
- HasSettings: True
- HighlightRecovery: 33
- HueAdjustmentAqua: 0
- HueAdjustmentBlue: 0
- HueAdjustmentGreen: 0
- HueAdjustmentMagenta: 0
- HueAdjustmentOrange: 0
- HueAdjustmentPurple: 0
- HueAdjustmentRed: 0
- HueAdjustmentYellow: 0
- LensManualDistortionAmount: 0
- LensProfileEnable: 0
- LensProfileSetup: LensDefaults
- LuminanceAdjustmentAqua: 0
- LuminanceAdjustmentBlue: 0
- LuminanceAdjustmentGreen: 0
- LuminanceAdjustmentMagenta: 0
- LuminanceAdjustmentOrange: 0
- LuminanceAdjustmentPurple: 0
- LuminanceAdjustmentRed: 0
- LuminanceAdjustmentYellow: 0
- LuminanceSmoothing: 0
- ParametricDarks: -56
- ParametricHighlightSplit: 75
- ParametricHighlights: 0
- ParametricLights: 0
- ParametricMidtoneSplit: 50
- ParametricShadowSplit: 25
- ParametricShadows: 0
- PerspectiveHorizontal: 0
- PerspectiveRotate: 0.0
- PerspectiveScale: 100
- PerspectiveVertical: 0
- PostCropVignetteAmount: 0
- ProcessVersion: 5.7
- RawFileName: 7D2C3194.DCR
- RedHue: 0
- RedSaturation: 0
- Saturation: 0
- SaturationAdjustmentAqua: 0
- SaturationAdjustmentBlue: 0
- SaturationAdjustmentGreen: 0
- SaturationAdjustmentMagenta: 0
- SaturationAdjustmentOrange: 0
- SaturationAdjustmentPurple: 0
- SaturationAdjustmentRed: 0
- SaturationAdjustmentYellow: 0
- ShadowTint: 0
- Shadows: 0
- SharpenDetail: 25
- SharpenEdgeMasking: 0
- SharpenRadius: +1.0
- Sharpness: 25
- SplitToningBalance: 0
- SplitToningHighlightHue: 0
- SplitToningHighlightSaturation: 0
- SplitToningShadowHue: 0
- SplitToningShadowSaturation: 0
- Temperature: 5200
- Tint: -8
- ToneCurve: 0, 0, 32, 22, 64, 56, 128, 128, 192, 196, 255, 255
- ToneCurveName: Medium Contrast
- Version: 6.6
- Vibrance: 0
- VignetteAmount: 0
- WhiteBalance: As Shot
- XMP-dc
- XMP-xmp
- CreateDate: 2012:10:20 14:44:29
- CreatorTool: 3.3.7
- ModifyDate: 2012:10:20 15:40:33+04:00
- Rating: 0
- XMP-xmpMM
- Просмотров: 478
- Рейтинг: голосов еще нет
- Отзывов: отключены