Уважаемые друзья и участники проекта iXBT.photo! К сожалению, 1 марта 2026 года проект iXBT.photo прекратит свою работу и будет закрыт. Мы высоко ценим ваше участие и тот вклад, который вы внесли в развитие нашего сообщества. Пожалуйста, не забудьте сохранить ваши фотографии до этой даты.
С уважением, команда iXBT.com
| IMG_1248.jpg |
IMG_1248.jpg
- Раздел: Другое, разное
- Дата съёмки: 27.01.2013 13:37
- Дата загрузки фото: 28.01.2013 00:34
- Оригинальная фотография: 4000 x 2667 (4,7 Мб)
- Технические характеристики:
- Фотоаппарат: Canon EOS 6D
- Выдержка: 1/800
- Гиперфокальное расстояние: inf m
- Диафрагма: 2,0
- Светочувствительность: 50
- Фокусное расстояние: 85,0 mm (35 mm equivalent: 85,0 mm)
- Экспокоррекция: +1/3
- Полный EXIF
- Adobe
- ColorTransform: YCbCr
- Composite
- Aperture: 2,0
- CircleOfConfusion: 0,022 mm
- FOV: 23,0 deg
- FocalLength35efl: 85,0 mm (35 mm equivalent: 85,0 mm)
- GPSAltitude: 144,9 m Above Sea Level
- GPSDateTime: 2013:01:27 09:35:53Z
- GPSLatitude: 55 deg 49' 12,00" N
- GPSLongitude: 38 deg 54' 36,00" E
- GPSPosition: 55 deg 49' 12,00" N, 38 deg 54' 36,00" E
- HyperfocalDistance: inf m
- ScaleFactor35efl: 1,4
- ShutterSpeed: 1/800
- ExifIFD
- ApertureValue: 2,0
- CreateDate: 2013:01:27 13:37:43
- CustomRendered: Normal
- DateTimeOriginal: 2013:01:27 13:37:43
- ExposureCompensation: +1/3
- ExposureMode: Auto
- ExposureProgram: Aperture-priority AE
- ExposureTime: 1/800
- FNumber: 2,0
- Flash: Off, Did not fire
- FocalLength: 85,0 mm
- ISO: 50
- LensInfo: 85mm f/?
- LensModel: EF85mm f/1.8 USM
- LensSerialNumber: 00000034d4
- MaxApertureValue: 1,8
- MeteringMode: Spot
- OwnerName: Dmitry Vorobyev
- RecommendedExposureIndex: 50
- SceneCaptureType: Standard
- SensitivityType: Recommended Exposure Index
- SerialNumber: 022023006951
- ShutterSpeedValue: 1/800
- WhiteBalance: Auto
- GPS
- GPSAltitude: 144,9 m
- GPSAltitudeRef: Above Sea Level
- GPSDOP: 4,9
- GPSDateStamp: 2013:01:27
- GPSLatitude: 55 deg 49' 12,00"
- GPSLatitudeRef: North
- GPSLongitude: 38 deg 54' 36,00"
- GPSLongitudeRef: East
- GPSMapDatum: WGS-84
- GPSMeasureMode: 3-Dimensional Measurement
- GPSSatellites: 12
- GPSStatus: Measurement Active
- GPSTimeStamp: 09:35:53
- GPSVersionID: 2.3.0.0
- ICC-header
- ICC-meas
- ICC-view
- IFD0
- Artist: Dmitry Vorobyev
- http://vk.com/dmitry_vorobyev:
- Copyright: Dmitry Vorobyev
- Make: Canon
- Model: Canon EOS 6D
- ModifyDate: 2013:01:27 20:16:53
- IFD1
- IPTC
- By-line: Dmitry Vorobyev
http://vk.com/dm
- City: Moscow
- CopyrightNotice: Dmitry Vorobyev
- Country-PrimaryLocationName: Russia
- DateCreated: 2013:01:27
- Province-State: Moscow
- Sub-location: Southern Administrative Okrug
- System
- XMP-aux
- ApproximateFocusDistance: 7,27
- Firmware: 1.1.2
- FlashCompensation: 0
- ImageNumber: 0
- Lens: EF85mm f/1.8 USM
- LensID: 155
- XMP-crs
- AlreadyApplied: True
- AutoLateralCA: 0
- Blacks2012: -50
- BlueHue: 0
- BlueSaturation: 0
- Clarity2012: +27
- ColorNoiseReduction: 25
- ColorNoiseReductionDetail: 50
- Contrast2012: +30
- ConvertToGrayscale: False
- CropAngle: 2.77222
- CropBottom: 0.952711
- CropConstrainToWarp: 0
- CropHeight: 2667
- CropLeft: 0.063312
- CropRight: 0.893748
- CropTop: 0.032243
- CropUnit: pixels
- CropWidth: 4000
- DefringeGreenAmount: 0
- DefringeGreenHueHi: 60
- DefringeGreenHueLo: 40
- DefringePurpleAmount: 0
- DefringePurpleHueHi: 70
- DefringePurpleHueLo: 30
- Exposure2012: +0.20
- GrainAmount: 8
- GrainFrequency: 60
- GrainSize: 40
- GreenHue: 0
- GreenSaturation: 0
- HasCrop: True
- HasSettings: True
- Highlights2012: +5
- HueAdjustmentAqua: 0
- HueAdjustmentBlue: 0
- HueAdjustmentGreen: 0
- HueAdjustmentMagenta: 0
- HueAdjustmentOrange: 0
- HueAdjustmentPurple: 0
- HueAdjustmentRed: 0
- HueAdjustmentYellow: 0
- LensManualDistortionAmount: 0
- LensProfileEnable: 0
- LensProfileSetup: LensDefaults
- LuminanceAdjustmentAqua: -11
- LuminanceAdjustmentBlue: -11
- LuminanceAdjustmentGreen: 0
- LuminanceAdjustmentMagenta: 0
- LuminanceAdjustmentOrange: +16
- LuminanceAdjustmentPurple: 0
- LuminanceAdjustmentRed: -14
- LuminanceAdjustmentYellow: 0
- LuminanceSmoothing: 0
- ParametricDarks: 0
- ParametricHighlightSplit: 75
- ParametricHighlights: 0
- ParametricLights: 0
- ParametricMidtoneSplit: 50
- ParametricShadowSplit: 25
- ParametricShadows: 0
- PerspectiveHorizontal: 0
- PerspectiveRotate: 0.0
- PerspectiveScale: 100
- PerspectiveVertical: 0
- PostCropVignetteAmount: -15
- PostCropVignetteFeather: 60
- PostCropVignetteHighlightContrast: 80
- PostCropVignetteMidpoint: 70
- PostCropVignetteRoundness: +7
- PostCropVignetteStyle: 1
- ProcessVersion: 6.7
- RedHue: 0
- RedSaturation: 0
- Saturation: +18
- SaturationAdjustmentAqua: +36
- SaturationAdjustmentBlue: +50
- SaturationAdjustmentGreen: -55
- SaturationAdjustmentMagenta: -16
- SaturationAdjustmentOrange: +27
- SaturationAdjustmentPurple: -20
- SaturationAdjustmentRed: -34
- SaturationAdjustmentYellow: 0
- ShadowTint: 0
- Shadows2012: -5
- SharpenDetail: 25
- SharpenEdgeMasking: 0
- SharpenRadius: +1.4
- Sharpness: 61
- SplitToningBalance: 0
- SplitToningHighlightHue: 189
- SplitToningHighlightSaturation: 12
- SplitToningShadowHue: 184
- SplitToningShadowSaturation: 6
- Temperature: 5700
- Tint: 0
- ToneCurveName2012: Custom
- ToneCurvePV2012: 0, 27, 38, 56, 117, 124, 255, 249
- ToneCurvePV2012Blue: 0, 24, 255, 255
- ToneCurvePV2012Green: 0, 14, 255, 255
- ToneCurvePV2012Red: 0, 20, 255, 255
- Version: 7.3
- Vibrance: +32
- VignetteAmount: 0
- WhiteBalance: As Shot
- Whites2012: -25
- XMP-dc
- Creator: Dmitry Vorobyev
- :
- Format: image/jpeg
- Rights: Dmitry Vorobyev
- XMP-iptcCore
- Location: Southern Administrative Okrug
- XMP-xmp
- CreateDate: 2013:01:27 13:37:43.51
- ModifyDate: 2013:01:27 20:16:53+04:00
- XMP-xmpMM
Получить код для блога
| Вставка фотографии в текущем разрешении |
Вставка миниатюры |
HTML (для вставки в блог):
BBCode (для вставки в форум):
Ссылка на фото:
Ссылка на миниатюру:
- Послать ссылку другу
| Комментарии к фотографии |