- Раздел: Другое, разное
- Дата съёмки: 01.12.2012 14:04
- Дата загрузки фото: 28.01.2013 21:17
- Оригинальная фотография: 4928 x 3096 (7,5 Мб)
- Технические характеристики:
- Фотоаппарат: Nikon D7000
- Выдержка: 1/20
- Гиперфокальное расстояние: inf m
- Диафрагма: 2,8
- Светочувствительность: 800
- Фокусное расстояние: 50,0 mm (35 mm equivalent: 50,0 mm)
- Полный EXIF
- Adobe
- ColorTransform: YCbCr
- Composite
- Aperture: 2,8
- CircleOfConfusion: 0,020 mm
- FOV: 39,0 deg
- FocalLength35efl: 50,0 mm (35 mm equivalent: 50,0 mm)
- HyperfocalDistance: inf m
- ScaleFactor35efl: 1,5
- ShutterSpeed: 1/20
- ExifIFD
- ApertureValue: 2,8
- CFAPattern: [Red,Green][Green,Blue]
- Contrast: Normal
- CreateDate: 2012:12:01 14:04:54
- CustomRendered: Normal
- DateTimeOriginal: 2012:12:01 14:04:54
- DigitalZoomRatio: 1
- ExposureCompensation: 0
- ExposureMode: Auto
- ExposureProgram: Program AE
- ExposureTime: 1/20
- FNumber: 2,8
- Flash: Off, Did not fire
- FocalLength: 50,0 mm
- FocalLengthIn35mmFormat: 75 mm
- GainControl: Low gain up
- ISO: 800
- LensInfo: 18-50mm f/2.8
- LensModel: 18.0-50.0 mm f/2.8
- LightSource: Unknown
- MaxApertureValue: 2,8
- MeteringMode: Multi-segment
- Saturation: Normal
- SceneCaptureType: Standard
- SceneType: Directly photographed
- SensingMethod: One-chip color area
- SensitivityType: Recommended Exposure Index
- SerialNumber: 6377238
- Sharpness: Normal
- ShutterSpeedValue: 1/20
- SubjectDistanceRange: Unknown
- WhiteBalance: Auto
- ICC-header
- ICC-meas
- ICC-view
- IFD0
- Make: NIKON CORPORATION
- Model: NIKON D7000
- ModifyDate: 2013:01:28 20:02:54
- IFD1
- IPTC
- DateCreated: 2012:12:01
- System
- XMP-aux
- ApproximateFocusDistance: 0,5
- ImageNumber: 825
- Lens: 18.0-50.0 mm f/2.8
- LensID: 246
- XMP-crs
- AlreadyApplied: True
- AutoLateralCA: 0
- Blacks2012: 0
- BlueHue: 0
- BlueSaturation: 0
- Clarity2012: 0
- ColorNoiseReduction: 25
- ColorNoiseReductionDetail: 50
- Contrast2012: 0
- ConvertToGrayscale: True
- CropAngle: 0
- CropBottom: 1
- CropConstrainToWarp: 0
- CropHeight: 3096
- CropLeft: 0
- CropRight: 1
- CropTop: 0.051546
- CropUnit: pixels
- CropWidth: 4928
- Exposure2012: 0.00
- GrainAmount: 0
- GrayMixerAqua: -17
- GrayMixerBlue: +10
- GrayMixerGreen: -27
- GrayMixerMagenta: +3
- GrayMixerOrange: -19
- GrayMixerPurple: +15
- GrayMixerRed: -10
- GrayMixerYellow: -23
- GreenHue: 0
- GreenSaturation: 0
- HasCrop: True
- HasSettings: True
- Highlights2012: -50
- LensManualDistortionAmount: 0
- LensProfileChromaticAberrationScale: 100
- LensProfileDistortionScale: 100
- LensProfileEnable: 1
- LensProfileFilename: NIKON CORPORATION (Sigma_18-50mm_F2.8_EX_DC_MACRO_HSM ) - RAW.lcp
- LensProfileSetup: Custom
- LensProfileVignettingScale: 100
- LuminanceSmoothing: 0
- ParametricDarks: 0
- ParametricHighlightSplit: 75
- ParametricHighlights: 0
- ParametricLights: 0
- ParametricMidtoneSplit: 50
- ParametricShadowSplit: 25
- ParametricShadows: 0
- PerspectiveHorizontal: 0
- PerspectiveRotate: 0.0
- PerspectiveScale: 100
- PerspectiveVertical: 0
- PostCropVignetteAmount: 0
- ProcessVersion: 6.7
- RedHue: 0
- RedSaturation: 0
- ShadowTint: 0
- Shadows2012: +15
- SharpenDetail: 25
- SharpenEdgeMasking: 0
- SharpenRadius: +1.0
- Sharpness: 25
- SplitToningBalance: 0
- SplitToningHighlightHue: 0
- SplitToningHighlightSaturation: 0
- SplitToningShadowHue: 0
- SplitToningShadowSaturation: 0
- Temperature: 4450
- Tint: +1
- ToneCurveName2012: Strong Contrast
- ToneCurvePV2012: 0, 0, 32, 16, 64, 50, 128, 128, 192, 202, 255, 255
- ToneCurvePV2012Blue: 0, 0, 255, 255
- ToneCurvePV2012Green: 0, 0, 255, 255
- ToneCurvePV2012Red: 0, 0, 255, 255
- Version: 7.3
- VignetteAmount: 0
- WhiteBalance: As Shot
- Whites2012: 0
- XMP-dc
- XMP-xmp
- CreateDate: 2012:12:01 14:04:54.10
- ModifyDate: 2013:01:28 20:02:54+04:00
- XMP-xmpMM
- Просмотров: 182
- Рейтинг: голосов еще нет
- Отзывов: 0