Уважаемые друзья и участники проекта iXBT.photo! К сожалению, 5 марта 2026 года проект iXBT.photo прекратит свою работу и будет закрыт. Мы высоко ценим ваше участие и тот вклад, который вы внесли в развитие нашего сообщества. Пожалуйста, не забудьте сохранить ваши фотографии до этой даты.
С уважением, команда iXBT.com
| _IGP8837.jpg |
_IGP8837.jpg
- Раздел: Другое, разное
- Дата съёмки: 19.05.2013 17:24
- Дата загрузки фото: 19.05.2013 22:11
- Оригинальная фотография: 1405 x 712 (699 Кб)
- Технические характеристики:
- Фотоаппарат: Pentax K10D
- Выдержка: 1/250
- Диафрагма: 5,6
- Светочувствительность: 100
- Экспокоррекция: -1/2
- Полный EXIF
- Adobe
- ColorTransform: YCbCr
- Composite
- Aperture: 5,6
- LensID: A Series Lens
- ShutterSpeed: 1/250
- ExifIFD
- ApertureValue: 5,6
- Contrast: Normal
- CreateDate: 2013:05:19 17:24:44
- CustomRendered: Normal
- DateTimeOriginal: 2013:05:19 17:24:44
- ExposureCompensation: -1/2
- ExposureMode: Manual
- ExposureProgram: Aperture-priority AE
- ExposureTime: 1/250
- FNumber: 5,6
- Flash: Off, Did not fire
- ISO: 100
- LensModel: A Series Lens
- MeteringMode: Spot
- Saturation: Normal
- SceneCaptureType: Standard
- SensingMethod: One-chip color area
- Sharpness: Normal
- ShutterSpeedValue: 1/250
- SubjectDistanceRange: Distant
- WhiteBalance: Manual
- ICC-header
- IFD0
- Make: PENTAX Corporation
- Model: PENTAX K10D
- ModifyDate: 2013:05:19 20:09:21
- IFD1
- IPTC
- DateCreated: 2013:05:19
- System
- XMP-aux
- Lens: A Series Lens
- LensID: 2 0
- XMP-crs
- AlreadyApplied: True
- BlueHue: 0
- BlueSaturation: 0
- Brightness: +50
- ChromaticAberrationB: 0
- ChromaticAberrationR: 0
- Clarity: 0
- ColorNoiseReduction: 25
- ColorNoiseReductionDetail: 50
- ColorTemperature: 5350
- Contrast: +52
- ConvertToGrayscale: False
- CropAngle: 0
- CropBottom: 0.826667
- CropConstrainToWarp: 0
- CropHeight: 712
- CropLeft: 0
- CropRight: 1
- CropTop: 0.07
- CropUnit: pixels
- CropWidth: 1405
- Defringe: 0
- Exposure: +0.83
- FillLight: 0
- GrainAmount: 0
- GreenHue: 0
- GreenSaturation: 0
- HasCrop: True
- HasSettings: True
- HighlightRecovery: 0
- HueAdjustmentAqua: 0
- HueAdjustmentBlue: 0
- HueAdjustmentGreen: 0
- HueAdjustmentMagenta: 0
- HueAdjustmentOrange: 0
- HueAdjustmentPurple: 0
- HueAdjustmentRed: 0
- HueAdjustmentYellow: 0
- LensManualDistortionAmount: 0
- LensProfileEnable: 0
- LensProfileSetup: LensDefaults
- LuminanceAdjustmentAqua: 0
- LuminanceAdjustmentBlue: 0
- LuminanceAdjustmentGreen: 0
- LuminanceAdjustmentMagenta: 0
- LuminanceAdjustmentOrange: 0
- LuminanceAdjustmentPurple: 0
- LuminanceAdjustmentRed: 0
- LuminanceAdjustmentYellow: 0
- LuminanceSmoothing: 0
- ParametricDarks: 0
- ParametricHighlightSplit: 75
- ParametricHighlights: 0
- ParametricLights: 0
- ParametricMidtoneSplit: 50
- ParametricShadowSplit: 25
- ParametricShadows: 0
- PerspectiveHorizontal: 0
- PerspectiveRotate: 0.0
- PerspectiveScale: 100
- PerspectiveVertical: 0
- PostCropVignetteAmount: 0
- ProcessVersion: 5.7
- RedHue: 0
- RedSaturation: 0
- Saturation: +10
- SaturationAdjustmentAqua: 0
- SaturationAdjustmentBlue: 0
- SaturationAdjustmentGreen: 0
- SaturationAdjustmentMagenta: 0
- SaturationAdjustmentOrange: 0
- SaturationAdjustmentPurple: 0
- SaturationAdjustmentRed: 0
- SaturationAdjustmentYellow: 0
- ShadowTint: 0
- Shadows: 10
- SharpenDetail: 25
- SharpenEdgeMasking: 0
- SharpenRadius: +1.0
- Sharpness: 25
- SplitToningBalance: 0
- SplitToningHighlightHue: 0
- SplitToningHighlightSaturation: 0
- SplitToningShadowHue: 0
- SplitToningShadowSaturation: 0
- Tint: -11
- ToneCurve: 0, 0, 32, 22, 64, 56, 128, 128, 192, 196, 255, 255
- ToneCurveName: Medium Contrast
- Version: 6.6
- Vibrance: +20
- VignetteAmount: 0
- WhiteBalance: As Shot
- XMP-dc
- XMP-xmp
- ModifyDate: 2013:05:19 20:09:21+03:00
- XMP-xmpMM
- Просмотров: 155
- Рейтинг: голосов еще нет
- Отзывов: 0
Получить код для блога
| Вставка фотографии в текущем разрешении |
Вставка миниатюры |
HTML (для вставки в блог):
BBCode (для вставки в форум):
Ссылка на фото:
Ссылка на миниатюру:
- Послать ссылку другу
| Комментарии к фотографии |