Уважаемые друзья и участники проекта iXBT.photo! К сожалению, 1 марта 2026 года проект iXBT.photo прекратит свою работу и будет закрыт. Мы высоко ценим ваше участие и тот вклад, который вы внесли в развитие нашего сообщества. Пожалуйста, не забудьте сохранить ваши фотографии до этой даты.
С уважением, команда iXBT.com
| DSC_0060.JPG |
DSC_0060.JPG
- Раздел: Другое, разное
- Дата съёмки: 07.08.2013 13:34
- Дата загрузки фото: 07.08.2013 18:10
- Оригинальная фотография: 4928 x 3264 (3,2 Мб)
- Технические характеристики:
- Фотоаппарат: Nikon D5100
- Выдержка: 1/800
- Гиперфокальное расстояние: inf m
- Диафрагма: 7,1
- Светочувствительность: 400
- Фокусное расстояние: 42,0 mm (35 mm equivalent: 42,0 mm)
- Экспокоррекция: +1/3
- Полный EXIF
- Adobe
- ColorTransform: YCbCr
- Composite
- Aperture: 7,1
- CircleOfConfusion: 0,020 mm
- FOV: 46,0 deg
- FocalLength35efl: 42,0 mm (35 mm equivalent: 42,0 mm)
- HyperfocalDistance: inf m
- LensID: AF-S DX VR Zoom-Nikkor 18-105mm f/3.5-5.6G ED
- ScaleFactor35efl: 1,5
- ShutterSpeed: 1/800
- ExifIFD
- ApertureValue: 7,1
- CFAPattern: [Red,Green][Green,Blue]
- Contrast: Normal
- CreateDate: 2013:08:07 13:34:52
- CustomRendered: Normal
- DateTimeOriginal: 2013:08:07 13:34:52
- DigitalZoomRatio: 1
- ExposureCompensation: +1/3
- ExposureMode: Auto
- ExposureProgram: Aperture-priority AE
- ExposureTime: 1/800
- FNumber: 7,1
- Flash: No Flash
- FocalLength: 42,0 mm
- FocalLengthIn35mmFormat: 63 mm
- GainControl: Low gain up
- ISO: 400
- LensInfo: 18-105mm f/3.5-5.6
- LensModel: 18.0-105.0 mm f/3.5-5.6
- LightSource: Unknown
- MaxApertureValue: 4,8
- MeteringMode: Multi-segment
- Saturation: High
- SceneCaptureType: Standard
- SceneType: Directly photographed
- SensingMethod: One-chip color area
- SensitivityType: Recommended Exposure Index
- SerialNumber: 5627134
- Sharpness: Hard
- ShutterSpeedValue: 1/800
- SubjectDistanceRange: Unknown
- UserComment: Bladimir Belov
- WhiteBalance: Auto
- ICC-header
- IFD0
- Make: NIKON CORPORATION
- Model: NIKON D5100
- ModifyDate: 2013:08:07 15:51:02
- IFD1
- IPTC
- DateCreated: 2013:08:07
- System
- XMP-aux
- ApproximateFocusDistance: 4294967295
- ImageNumber: 4605
- Lens: 18.0-105.0 mm f/3.5-5.6
- LensID: 158
- XMP-crs
- AlreadyApplied: True
- AutoLateralCA: 0
- Blacks2012: -17
- BlueHue: 0
- BlueSaturation: 0
- Clarity2012: 0
- ColorNoiseReduction: 25
- ColorNoiseReductionDetail: 50
- ColorTemperature: 5150
- Contrast2012: -15
- ConvertToGrayscale: False
- DefringeGreenAmount: 0
- DefringeGreenHueHi: 60
- DefringeGreenHueLo: 40
- DefringePurpleAmount: 0
- DefringePurpleHueHi: 70
- DefringePurpleHueLo: 30
- Exposure2012: -0.75
- GrainAmount: 0
- GreenHue: 0
- GreenSaturation: 0
- HasCrop: False
- HasSettings: True
- Highlights2012: -40
- HueAdjustmentAqua: 0
- HueAdjustmentBlue: 0
- HueAdjustmentGreen: 0
- HueAdjustmentMagenta: 0
- HueAdjustmentOrange: 0
- HueAdjustmentPurple: 0
- HueAdjustmentRed: 0
- HueAdjustmentYellow: 0
- LensManualDistortionAmount: 0
- LensProfileEnable: 0
- LensProfileSetup: LensDefaults
- LuminanceAdjustmentAqua: 0
- LuminanceAdjustmentBlue: 0
- LuminanceAdjustmentGreen: 0
- LuminanceAdjustmentMagenta: 0
- LuminanceAdjustmentOrange: 0
- LuminanceAdjustmentPurple: 0
- LuminanceAdjustmentRed: 0
- LuminanceAdjustmentYellow: 0
- LuminanceSmoothing: 0
- ParametricDarks: 0
- ParametricHighlightSplit: 75
- ParametricHighlights: 0
- ParametricLights: 0
- ParametricMidtoneSplit: 50
- ParametricShadowSplit: 25
- ParametricShadows: 0
- PerspectiveHorizontal: 0
- PerspectiveRotate: 0.0
- PerspectiveScale: 100
- PerspectiveVertical: 0
- PostCropVignetteAmount: 0
- ProcessVersion: 6.7
- RawFileName: DSC_0060.NEF
- RedHue: 0
- RedSaturation: 0
- Saturation: 0
- SaturationAdjustmentAqua: 0
- SaturationAdjustmentBlue: 0
- SaturationAdjustmentGreen: 0
- SaturationAdjustmentMagenta: 0
- SaturationAdjustmentOrange: 0
- SaturationAdjustmentPurple: 0
- SaturationAdjustmentRed: 0
- SaturationAdjustmentYellow: 0
- ShadowTint: 0
- Shadows2012: +40
- SharpenDetail: 25
- SharpenEdgeMasking: 0
- SharpenRadius: +1.0
- Sharpness: 25
- SplitToningBalance: 0
- SplitToningHighlightHue: 0
- SplitToningHighlightSaturation: 0
- SplitToningShadowHue: 0
- SplitToningShadowSaturation: 0
- Tint: +11
- ToneCurveName2012: Linear
- ToneCurvePV2012: 0, 0, 255, 255
- ToneCurvePV2012Blue: 0, 0, 255, 255
- ToneCurvePV2012Green: 0, 0, 255, 255
- ToneCurvePV2012Red: 0, 0, 255, 255
- Version: 7.4
- Vibrance: 0
- VignetteAmount: 0
- WhiteBalance: As Shot
- Whites2012: +41
- XMP-dc
- XMP-xmp
- CreateDate: 2013:08:07 13:34:52.20
- ModifyDate: 2013:08:07 15:51:02+04:00
- XMP-xmpMM
- Просмотров: 140
- Рейтинг: голосов еще нет
- Отзывов: 0
Получить код для блога
| Вставка фотографии в текущем разрешении |
Вставка миниатюры |
HTML (для вставки в блог):
BBCode (для вставки в форум):
Ссылка на фото:
Ссылка на миниатюру:
- Послать ссылку другу
| Комментарии к фотографии |