Уважаемые друзья и участники проекта iXBT.photo! К сожалению, 1 марта 2026 года проект iXBT.photo прекратит свою работу и будет закрыт. Мы высоко ценим ваше участие и тот вклад, который вы внесли в развитие нашего сообщества. Пожалуйста, не забудьте сохранить ваши фотографии до этой даты.
С уважением, команда iXBT.com
| мода 50-х |
мода 50-х
Стиль new look.
- Раздел: Репортаж
- Дата съёмки: 05.01.2014 14:35
- Дата загрузки фото: 07.01.2014 15:21
- Оригинальная фотография: 1200 x 1441 (399 Кб)
- Технические характеристики:
- Фотоаппарат: Canon PowerShot SX100 IS
- Выдержка: 1/80
- Гиперфокальное расстояние: inf m
- Диафрагма: 2,8
- Светочувствительность: 200
- Фокусное расстояние: 6,0 mm (35 mm equivalent: 78,0 mm)
- Экспокоррекция: -2/3
- Полный EXIF
- Adobe
- ColorTransform: YCbCr
- Composite
- Aperture: 2,8
- CircleOfConfusion: 0,002 mm
- FOV: 25,0 deg
- Flash: Off, Did not fire
- FocalLength35efl: 6,0 mm (35 mm equivalent: 78,0 mm)
- HyperfocalDistance: inf m
- ScaleFactor35efl: 13,2
- ShutterSpeed: 1/80
- ExifIFD
- ApertureValue: 2,8
- ColorSpace: sRGB
- CreateDate: 2014:01:05 14:35:11
- CustomRendered: Normal
- DateTimeOriginal: 2014:01:05 14:35:11
- DigitalZoomRatio: 1
- ExifImageHeight: 1441
- ExifImageWidth: 1200
- ExposureCompensation: -2/3
- ExposureMode: Manual
- ExposureTime: 1/80
- FNumber: 2,8
- FocalLength: 6,0 mm
- ISO: 200
- MaxApertureValue: 2,8
- MeteringMode: Multi-segment
- SceneCaptureType: Standard
- SensingMethod: One-chip color area
- ShutterSpeedValue: 1/80
- WhiteBalance: Auto
- ICC-header
- ICC-meas
- ICC-view
- IFD0
- Make: Canon
- Model: Canon PowerShot SX100 IS
- ModifyDate: 2014:01:07 15:19:28
- Orientation: Horizontal (normal)
- IFD1
- IPTC
- System
- XMP-aux
- Firmware: 1.00
- FlashCompensation: 0
- Lens: 6.0-60.0 mm
- LensInfo: 6-60mm f/?
- XMP-crs
- AlreadyApplied: True
- BlueHue: 0
- BlueSaturation: 0
- Brightness: 0
- CameraProfile: Embedded
- ChromaticAberrationB: 0
- ChromaticAberrationR: 0
- Clarity: 0
- ColorNoiseReduction: 0
- Contrast: 0
- ConvertToGrayscale: False
- Defringe: 0
- Exposure: 0.00
- FillLight: 0
- GreenHue: 0
- GreenSaturation: 0
- HasCrop: False
- HasSettings: True
- HighlightRecovery: 0
- HueAdjustmentAqua: 0
- HueAdjustmentBlue: 0
- HueAdjustmentGreen: 0
- HueAdjustmentMagenta: 0
- HueAdjustmentOrange: 0
- HueAdjustmentPurple: 0
- HueAdjustmentRed: 0
- HueAdjustmentYellow: 0
- IncrementalTemperature: +3
- IncrementalTint: -17
- LuminanceAdjustmentAqua: 0
- LuminanceAdjustmentBlue: 0
- LuminanceAdjustmentGreen: 0
- LuminanceAdjustmentMagenta: 0
- LuminanceAdjustmentOrange: 0
- LuminanceAdjustmentPurple: 0
- LuminanceAdjustmentRed: 0
- LuminanceAdjustmentYellow: 0
- LuminanceSmoothing: 0
- ParametricDarks: 0
- ParametricHighlightSplit: 75
- ParametricHighlights: 0
- ParametricLights: 0
- ParametricMidtoneSplit: 50
- ParametricShadowSplit: 25
- ParametricShadows: 0
- RawFileName: IMG_3193.JPG
- RedHue: 0
- RedSaturation: 0
- Saturation: 0
- SaturationAdjustmentAqua: 0
- SaturationAdjustmentBlue: 0
- SaturationAdjustmentGreen: 0
- SaturationAdjustmentMagenta: 0
- SaturationAdjustmentOrange: 0
- SaturationAdjustmentPurple: 0
- SaturationAdjustmentRed: 0
- SaturationAdjustmentYellow: 0
- ShadowTint: 0
- Shadows: 0
- SharpenDetail: 25
- SharpenEdgeMasking: 0
- SharpenRadius: +1.0
- Sharpness: 0
- SplitToningBalance: 0
- SplitToningHighlightHue: 0
- SplitToningHighlightSaturation: 0
- SplitToningShadowHue: 0
- SplitToningShadowSaturation: 0
- ToneCurve: 0, 0, 255, 255
- ToneCurveName: Linear
- Version: 4.4.1
- Vibrance: +15
- VignetteAmount: 0
- XMP-dc
- XMP-exif
- DateTimeDigitized: 2014:01:05 14:35:11+03:00
- DateTimeOriginal: 2014:01:05 14:35:11+03:00
- FlashFired: False
- FlashFunction: False
- FlashMode: Off
- FlashRedEyeMode: False
- FlashReturn: No return detection
- XMP-tiff
- XMP-xmp
- CreateDate: 2014:01:05 14:35:11+03:00
- ModifyDate: 2014:01:07 15:19:28+03:00
- Rating: 0
- XMP-xmpMM
- DerivedFrom:
- Просмотров: 333
- Рейтинг: голосов еще нет
- Отзывов: 2
Получить код для блога
| Вставка фотографии в текущем разрешении |
Вставка миниатюры |
HTML (для вставки в блог):
BBCode (для вставки в форум):
Ссылка на фото:
Ссылка на миниатюру:
- Послать ссылку другу
| Комментарии к фотографии |