Уважаемые друзья и участники проекта iXBT.photo! К сожалению, 1 марта 2026 года проект iXBT.photo прекратит свою работу и будет закрыт. Мы высоко ценим ваше участие и тот вклад, который вы внесли в развитие нашего сообщества. Пожалуйста, не забудьте сохранить ваши фотографии до этой даты.
С уважением, команда iXBT.com
| DSC_0829.jpg |
DSC_0829.jpg
- Раздел: Другое, разное
- Дата съёмки: 14.03.2014 12:15
- Дата загрузки фото: 14.03.2014 19:14
- Оригинальная фотография: 2000 x 1333 (1,3 Мб)
- Технические характеристики:
- Фотоаппарат: Nikon D7100
- Выдержка: 1/100
- Гиперфокальное расстояние: inf m
- Диафрагма: 7,1
- Светочувствительность: 100
- Фокусное расстояние: 30,0 mm (35 mm equivalent: 30,0 mm)
- Полный EXIF
- Adobe
- ColorTransform: YCbCr
- Composite
- Aperture: 7,1
- CircleOfConfusion: 0,020 mm
- FOV: 61,0 deg
- FocalLength35efl: 30,0 mm (35 mm equivalent: 30,0 mm)
- HyperfocalDistance: inf m
- LensID: AF-S DX VR Zoom-Nikkor 18-105mm f/3.5-5.6G ED
- ScaleFactor35efl: 1,5
- ShutterSpeed: 1/100
- ExifIFD
- ApertureValue: 7,1
- CFAPattern: [Red,Green][Green,Blue]
- ColorSpace: Uncalibrated
- Contrast: Normal
- CreateDate: 2014:03:14 12:15:51
- CustomRendered: Normal
- DateTimeOriginal: 2014:03:14 12:15:51
- DigitalZoomRatio: 1
- ExifImageHeight: 1333
- ExifImageWidth: 2000
- ExposureCompensation: 0
- ExposureMode: Auto
- ExposureProgram: Aperture-priority AE
- ExposureTime: 1/100
- FNumber: 7,1
- Flash: Off, Did not fire
- FocalLength: 30,0 mm
- FocalLengthIn35mmFormat: 45 mm
- GainControl: None
- ISO: 100
- LensInfo: 18-105mm f/3.5-5.6
- LensModel: 18.0-105.0 mm f/3.5-5.6
- LightSource: Unknown
- MaxApertureValue: 4,1
- MeteringMode: Multi-segment
- Saturation: Normal
- SceneCaptureType: Standard
- SceneType: Directly photographed
- SensingMethod: One-chip color area
- SensitivityType: Recommended Exposure Index
- SerialNumber: 4388785
- Sharpness: Normal
- ShutterSpeedValue: 1/100
- SubjectDistanceRange: Unknown
- WhiteBalance: Auto
- ICC-header
- IFD0
- Copyright: Belov VA
- Make: NIKON CORPORATION
- Model: NIKON D7100
- ModifyDate: 2014:03:14 17:13:59
- Orientation: Horizontal (normal)
- IFD1
- IPTC
- CopyrightNotice: Belov VA
- DateCreated: 2014:03:14
- System
- XMP-aux
- ApproximateFocusDistance: 4294967295
- ImageNumber: 889
- Lens: 18.0-105.0 mm f/3.5-5.6
- LensID: 158
- XMP-crs
- AlreadyApplied: True
- AutoLateralCA: 0
- AutoWhiteVersion: 134348800
- Blacks2012: -32
- BlueHue: 0
- BlueSaturation: 0
- Clarity2012: +19
- ColorNoiseReduction: 25
- ColorNoiseReductionDetail: 50
- ColorNoiseReductionSmoothness: 50
- ColorTemperature: 5450
- Contrast2012: +10
- ConvertToGrayscale: False
- DefringeGreenAmount: 0
- DefringeGreenHueHi: 60
- DefringeGreenHueLo: 40
- DefringePurpleAmount: 0
- DefringePurpleHueHi: 70
- DefringePurpleHueLo: 30
- Exposure2012: +0.80
- GrainAmount: 0
- GreenHue: 0
- GreenSaturation: 0
- HasCrop: False
- HasSettings: True
- Highlights2012: -87
- HueAdjustmentAqua: 0
- HueAdjustmentBlue: 0
- HueAdjustmentGreen: 0
- HueAdjustmentMagenta: 0
- HueAdjustmentOrange: 0
- HueAdjustmentPurple: 0
- HueAdjustmentRed: 0
- HueAdjustmentYellow: 0
- LensManualDistortionAmount: 0
- LensProfileEnable: 0
- LensProfileSetup: LensDefaults
- LuminanceAdjustmentAqua: 0
- LuminanceAdjustmentBlue: 0
- LuminanceAdjustmentGreen: 0
- LuminanceAdjustmentMagenta: 0
- LuminanceAdjustmentOrange: 0
- LuminanceAdjustmentPurple: 0
- LuminanceAdjustmentRed: 0
- LuminanceAdjustmentYellow: 0
- LuminanceSmoothing: 0
- ParametricDarks: 0
- ParametricHighlightSplit: 75
- ParametricHighlights: 0
- ParametricLights: 0
- ParametricMidtoneSplit: 50
- ParametricShadowSplit: 25
- ParametricShadows: 0
- PerspectiveAspect: 0
- PerspectiveHorizontal: 0
- PerspectiveRotate: 0.0
- PerspectiveScale: 100
- PerspectiveUpright: 0
- PerspectiveVertical: 0
- PostCropVignetteAmount: 0
- ProcessVersion: 6.7
- RawFileName: DSC_0829.NEF
- RedHue: 0
- RedSaturation: 0
- Saturation: 0
- SaturationAdjustmentAqua: 0
- SaturationAdjustmentBlue: 0
- SaturationAdjustmentGreen: 0
- SaturationAdjustmentMagenta: 0
- SaturationAdjustmentOrange: 0
- SaturationAdjustmentPurple: 0
- SaturationAdjustmentRed: 0
- SaturationAdjustmentYellow: 0
- ShadowTint: 0
- Shadows2012: +2
- SharpenDetail: 25
- SharpenEdgeMasking: 0
- SharpenRadius: +1.0
- Sharpness: 25
- SplitToningBalance: 0
- SplitToningHighlightHue: 222
- SplitToningHighlightSaturation: 17
- SplitToningShadowHue: 0
- SplitToningShadowSaturation: 0
- Tint: +2
- ToneCurveName2012: Linear
- ToneCurvePV2012: 0, 0, 255, 255
- ToneCurvePV2012Blue: 0, 0, 255, 255
- ToneCurvePV2012Green: 0, 0, 255, 255
- ToneCurvePV2012Red: 0, 0, 255, 255
- Version: 8.3
- Vibrance: 0
- VignetteAmount: 0
- WhiteBalance: Custom
- Whites2012: -31
- XMP-dc
- Format: image/jpeg
- Rights: Belov VA
- XMP-xmp
- CreatorTool: Ver.1.01
- ModifyDate: 2014:03:14 17:13:59+04:00
- Rating: 0
- XMP-xmpMM
- Просмотров: 116
- Рейтинг: голосов еще нет
- Отзывов: отключены
Получить код для блога
| Вставка фотографии в текущем разрешении |
Вставка миниатюры |
HTML (для вставки в блог):
BBCode (для вставки в форум):
Ссылка на фото:
Ссылка на миниатюру:
- Послать ссылку другу
| Комментарии к фотографии |