Уважаемые друзья и участники проекта iXBT.photo! К сожалению, 1 марта 2026 года проект iXBT.photo прекратит свою работу и будет закрыт. Мы высоко ценим ваше участие и тот вклад, который вы внесли в развитие нашего сообщества. Пожалуйста, не забудьте сохранить ваши фотографии до этой даты.
С уважением, команда iXBT.com
| APL-0008 копия.jpg |
APL-0008 копия.jpg
- Раздел: Путешествия
- Дата съёмки: 27.02.2014 19:57
- Дата загрузки фото: 19.03.2014 23:30
- Оригинальная фотография: 1800 x 1200 (2,0 Мб)
- Технические характеристики:
- Фотоаппарат: Canon EOS 5D Mark II
- Выдержка: 1/250
- Гиперфокальное расстояние: inf m
- Диафрагма: 2,8
- Светочувствительность: 250
- Фокусное расстояние: 70,0 mm (35 mm equivalent: 210,0 mm)
- Полный EXIF
- Adobe
- ColorTransform: YCbCr
- Composite
- Aperture: 2,8
- CircleOfConfusion: 0,010 mm
- DOF: inf (0,00 m - inf)
- FOV: 9,0 deg
- FocalLength35efl: 70,0 mm (35 mm equivalent: 210,0 mm)
- HyperfocalDistance: inf m
- LensID: Canon EF 70-200mm f/2.8L IS II USM
- ScaleFactor35efl: 3,0
- ShutterSpeed: 1/250
- ExifIFD
- ApertureValue: 2,8
- ColorSpace: sRGB
- CreateDate: 2014:02:27 19:57:41
- CustomRendered: Normal
- DateTimeOriginal: 2014:02:27 19:57:41
- ExifImageHeight: 1200
- ExifImageWidth: 1800
- ExposureCompensation: 0
- ExposureMode: Auto
- ExposureProgram: Aperture-priority AE
- ExposureTime: 1/250
- FNumber: 2,8
- Flash: Off, Did not fire
- FocalLength: 70,0 mm
- ISO: 250
- LensInfo: 70-200mm f/?
- LensModel: EF70-200mm f/2.8L IS II USM
- MaxApertureValue: 2,8
- MeteringMode: Partial
- SceneCaptureType: Standard
- SensitivityType: Unknown
- SerialNumber: 3331628136
- ShutterSpeedValue: 1/250
- SubjectDistance: 4294967295 m
- WhiteBalance: Auto
- ICC-header
- ICC-meas
- ICC-view
- IFD0
- Artist: Photographer: Kazarenko Andrey
- BitsPerSample: 8 8 8
- ImageHeight: 3599
- ImageWidth: 5399
- Make: Canon
- Model: Canon EOS 5D Mark II
- ModifyDate: 2014:03:19 23:28:36
- Orientation: Horizontal (normal)
- PhotometricInterpretation: RGB
- SamplesPerPixel: 3
- IFD1
- IPTC
- By-line: Photographer: Kazarenko Andrey
- DateCreated: 2014:02:27
- System
- XMP-aux
- ApproximateFocusDistance: 4294967295
- Firmware: 2.0.9
- FlashCompensation: 0
- ImageNumber: 0
- Lens: EF70-200mm f/2.8L IS II USM
- LensID: 251
- XMP-crs
- AlreadyApplied: True
- BlueHue: 0
- BlueSaturation: 0
- Brightness: +50
- ChromaticAberrationB: 0
- ChromaticAberrationR: 0
- Clarity: 0
- ColorNoiseReduction: 25
- ColorNoiseReductionDetail: 50
- ColorTemperature: 5650
- Contrast: +25
- ConvertToGrayscale: False
- CropAngle: -1.54846
- CropBottom: 0.961032
- CropConstrainToWarp: 0
- CropHeight: 3599
- CropLeft: 0.010825
- CropRight: 0.989175
- CropTop: 0.038968
- CropUnit: pixels
- CropWidth: 5399
- Defringe: 0
- Exposure: 0.00
- FillLight: 10
- GrainAmount: 0
- GreenHue: 0
- GreenSaturation: 0
- HasCrop: True
- HasSettings: True
- HighlightRecovery: 0
- HueAdjustmentAqua: 0
- HueAdjustmentBlue: 0
- HueAdjustmentGreen: 0
- HueAdjustmentMagenta: 0
- HueAdjustmentOrange: 0
- HueAdjustmentPurple: 0
- HueAdjustmentRed: 0
- HueAdjustmentYellow: 0
- LensManualDistortionAmount: 0
- LensProfileEnable: 0
- LensProfileSetup: LensDefaults
- LuminanceAdjustmentAqua: 0
- LuminanceAdjustmentBlue: 0
- LuminanceAdjustmentGreen: 0
- LuminanceAdjustmentMagenta: 0
- LuminanceAdjustmentOrange: 0
- LuminanceAdjustmentPurple: 0
- LuminanceAdjustmentRed: 0
- LuminanceAdjustmentYellow: 0
- LuminanceSmoothing: 0
- ParametricDarks: 0
- ParametricHighlightSplit: 75
- ParametricHighlights: 0
- ParametricLights: 0
- ParametricMidtoneSplit: 50
- ParametricShadowSplit: 25
- ParametricShadows: 0
- PerspectiveHorizontal: 0
- PerspectiveRotate: 0.0
- PerspectiveScale: 100
- PerspectiveVertical: 0
- PostCropVignetteAmount: 0
- ProcessVersion: 5.7
- RedHue: 0
- RedSaturation: 0
- Saturation: +10
- SaturationAdjustmentAqua: 0
- SaturationAdjustmentBlue: 0
- SaturationAdjustmentGreen: 0
- SaturationAdjustmentMagenta: 0
- SaturationAdjustmentOrange: 0
- SaturationAdjustmentPurple: 0
- SaturationAdjustmentRed: 0
- SaturationAdjustmentYellow: 0
- ShadowTint: 0
- Shadows: 5
- SharpenDetail: 25
- SharpenEdgeMasking: 0
- SharpenRadius: +1.0
- Sharpness: 25
- SplitToningBalance: 0
- SplitToningHighlightHue: 0
- SplitToningHighlightSaturation: 0
- SplitToningShadowHue: 0
- SplitToningShadowSaturation: 0
- Tint: -6
- ToneCurve: 0, 0, 32, 22, 64, 56, 128, 128, 192, 196, 255, 255
- ToneCurveName: Medium Contrast
- Version: 6.3
- Vibrance: +15
- VignetteAmount: 0
- WhiteBalance: As Shot
- XMP-dc
- Creator: Photographer: Kazarenko Andrey
- Format: image/jpeg
- XMP-xmp
- CreateDate: 2014:02:27 19:57:41.79+04:00
- ModifyDate: 2014:03:19 23:28:36+04:00
- XMP-xmpMM
- Просмотров: 124
- Рейтинг: голосов еще нет
- Отзывов: 0
Получить код для блога
| Вставка фотографии в текущем разрешении |
Вставка миниатюры |
HTML (для вставки в блог):
BBCode (для вставки в форум):
Ссылка на фото:
Ссылка на миниатюру:
- Послать ссылку другу
| Комментарии к фотографии |