Уважаемые друзья и участники проекта iXBT.photo! К сожалению, 1 марта 2026 года проект iXBT.photo прекратит свою работу и будет закрыт. Мы высоко ценим ваше участие и тот вклад, который вы внесли в развитие нашего сообщества. Пожалуйста, не забудьте сохранить ваши фотографии до этой даты.
С уважением, команда iXBT.com
| _ES02169.jpg |
_ES02169.jpg
- Раздел: Активный отдых, туризм
- Дата съёмки: 02.07.2013 10:28
- Дата загрузки фото: 22.05.2014 11:49
- Оригинальная фотография: 2500 x 1659 (354 Кб)
- Технические характеристики:
- Фотоаппарат: Pentax K-5
- Выдержка: 1/1000
- Гиперфокальное расстояние: inf m
- Диафрагма: 5,6
- Светочувствительность: 400
- Фокусное расстояние: 400,0 mm (35 mm equivalent: 400,0 mm)
- Полный EXIF
- Adobe
- ColorTransform: YCbCr
- Composite
- Aperture: 5,6
- CircleOfConfusion: 0,020 mm
- FOV: 5,0 deg
- FocalLength35efl: 400,0 mm (35 mm equivalent: 400,0 mm)
- HyperfocalDistance: inf m
- LensID: Sigma Lens (3 46)
- ScaleFactor35efl: 1,5
- ShutterSpeed: 1/1000
- ExifIFD
- ApertureValue: 5,6
- CFAPattern: [Blue,Green][Green,Red]
- Contrast: High
- CreateDate: 2013:07:02 10:28:11
- CustomRendered: Normal
- DateTimeOriginal: 2013:07:02 10:28:11
- ExposureCompensation: 0
- ExposureMode: Auto
- ExposureProgram: Aperture-priority AE
- ExposureTime: 1/1000
- FNumber: 5,6
- Flash: Off, Did not fire
- FocalLength: 400,0 mm
- FocalLengthIn35mmFormat: 600 mm
- ISO: 400
- LensModel: Sigma Lens
- MeteringMode: Multi-segment
- Saturation: Normal
- SceneCaptureType: Standard
- SensingMethod: One-chip color area
- Sharpness: Hard
- ShutterSpeedValue: 1/1000
- SubjectDistanceRange: Distant
- WhiteBalance: Auto
- ICC-header
- ICC-meas
- ICC-view
- IFD0
- Artist: EVGENIY_SMIRNOV
- Copyright: ESMIRNOFF@PISEM.NET
- Make: PENTAX
- Model: PENTAX K-5
- ModifyDate: 2013:08:12 23:40:13
- IFD1
- IPTC
- By-line: EVGENIY_SMIRNOV
- CopyrightNotice: ESMIRNOFF@PISEM.NET
- DateCreated: 2013:07:02
- System
- XMP-aux
- Lens: Sigma Lens
- LensID: 3 46
- XMP-crs
- AlreadyApplied: True
- AutoLateralCA: 0
- Blacks2012: 0
- BlueHue: 0
- BlueSaturation: 0
- Brightness: +50
- Clarity: 0
- Clarity2012: +100
- ColorNoiseReduction: 25
- ColorNoiseReductionDetail: 50
- ColorTemperature: 4900
- Contrast: +25
- Contrast2012: +30
- ConvertToGrayscale: False
- CropAngle: 0
- CropBottom: 0.936986
- CropConstrainToWarp: 0
- CropHeight: 1659
- CropLeft: 0.212341
- CropRight: 1
- CropTop: 0.147945
- CropUnit: pixels
- CropWidth: 2500
- Defringe: 0
- Exposure: 0.00
- Exposure2012: +0.15
- FillLight: 0
- GrainAmount: 0
- GreenHue: 0
- GreenSaturation: 0
- HasCrop: True
- HasSettings: True
- HighlightRecovery: 0
- Highlights2012: 0
- HueAdjustmentAqua: 0
- HueAdjustmentBlue: 0
- HueAdjustmentGreen: 0
- HueAdjustmentMagenta: 0
- HueAdjustmentOrange: 0
- HueAdjustmentPurple: 0
- HueAdjustmentRed: 0
- HueAdjustmentYellow: 0
- LensManualDistortionAmount: 0
- LensProfileEnable: 0
- LensProfileSetup: LensDefaults
- LuminanceAdjustmentAqua: 0
- LuminanceAdjustmentBlue: 0
- LuminanceAdjustmentGreen: 0
- LuminanceAdjustmentMagenta: 0
- LuminanceAdjustmentOrange: 0
- LuminanceAdjustmentPurple: 0
- LuminanceAdjustmentRed: 0
- LuminanceAdjustmentYellow: 0
- LuminanceSmoothing: 0
- ParametricDarks: 0
- ParametricHighlightSplit: 75
- ParametricHighlights: 0
- ParametricLights: 0
- ParametricMidtoneSplit: 50
- ParametricShadowSplit: 25
- ParametricShadows: 0
- PerspectiveHorizontal: 0
- PerspectiveRotate: 0.0
- PerspectiveScale: 100
- PerspectiveVertical: 0
- PostCropVignetteAmount: 0
- ProcessVersion: 6.7
- RedHue: 0
- RedSaturation: 0
- Saturation: 0
- SaturationAdjustmentAqua: 0
- SaturationAdjustmentBlue: 0
- SaturationAdjustmentGreen: 0
- SaturationAdjustmentMagenta: 0
- SaturationAdjustmentOrange: 0
- SaturationAdjustmentPurple: 0
- SaturationAdjustmentRed: 0
- SaturationAdjustmentYellow: 0
- ShadowTint: 0
- Shadows: 5
- Shadows2012: 0
- SharpenDetail: 25
- SharpenEdgeMasking: 0
- SharpenRadius: +1.0
- Sharpness: 25
- SplitToningBalance: 0
- SplitToningHighlightHue: 0
- SplitToningHighlightSaturation: 0
- SplitToningShadowHue: 0
- SplitToningShadowSaturation: 0
- Tint: +21
- ToneCurve: 0, 0, 255, 255
- ToneCurveBlue: 0, 0, 255, 255
- ToneCurveGreen: 0, 0, 255, 255
- ToneCurveName: Linear
- ToneCurveName2012: Linear
- ToneCurvePV2012: 0, 0, 255, 255
- ToneCurvePV2012Blue: 0, 0, 255, 255
- ToneCurvePV2012Green: 0, 0, 255, 255
- ToneCurvePV2012Red: 0, 0, 255, 255
- ToneCurveRed: 0, 0, 255, 255
- Version: 7.0
- Vibrance: 0
- VignetteAmount: 0
- WhiteBalance: As Shot
- Whites2012: 0
- XMP-dc
- Creator: EVGENIY_SMIRNOV
- Format: image/jpeg
- Rights: ESMIRNOFF@PISEM.NET
- XMP-xmp
- ModifyDate: 2013:08:12 23:40:13+04:00
- XMP-xmpMM
- Просмотров: 153
- Рейтинг: голосов еще нет
- Отзывов: 0
Получить код для блога
| Вставка фотографии в текущем разрешении |
Вставка миниатюры |
HTML (для вставки в блог):
BBCode (для вставки в форум):
Ссылка на фото:
Ссылка на миниатюру:
- Послать ссылку другу
| Комментарии к фотографии |