Уважаемые друзья и участники проекта iXBT.photo! К сожалению, 1 марта 2026 года проект iXBT.photo прекратит свою работу и будет закрыт. Мы высоко ценим ваше участие и тот вклад, который вы внесли в развитие нашего сообщества. Пожалуйста, не забудьте сохранить ваши фотографии до этой даты.
С уважением, команда iXBT.com
| DSC_6690DSC_6690.JPG |
DSC_6690DSC_6690.JPG
- Раздел: Животные
- Дата съёмки: 06.03.2014 15:24
- Дата загрузки фото: 27.05.2014 23:57
- Оригинальная фотография: 2166 x 1547 (919 Кб)
- Технические характеристики:
- Фотоаппарат: Nikon D700
- Выдержка: 1/800
- Гиперфокальное расстояние: inf m
- Диафрагма: 4,0
- Светочувствительность: 2500
- Фокусное расстояние: 50,0 mm (35 mm equivalent: 50,0 mm)
- Экспокоррекция: -1/3
- Полный EXIF
- Adobe
- ColorTransform: YCbCr
- Composite
- Aperture: 4,0
- CircleOfConfusion: 0,030 mm
- FOV: 39,0 deg
- FocalLength35efl: 50,0 mm (35 mm equivalent: 50,0 mm)
- HyperfocalDistance: inf m
- LensID: AF-S Nikkor 50mm f/1.8G
- ScaleFactor35efl: 1,0
- ShutterSpeed: 1/800
- ExifIFD
- ApertureValue: 4,0
- CFAPattern: [Red,Green][Green,Blue]
- Contrast: Low
- CreateDate: 2014:03:06 15:24:46
- CustomRendered: Normal
- DateTimeOriginal: 2014:03:06 15:24:46
- DigitalZoomRatio: 1
- ExposureCompensation: -1/3
- ExposureMode: Auto
- ExposureProgram: Aperture-priority AE
- ExposureTime: 1/800
- FNumber: 4,0
- Flash: No Flash
- FocalLength: 50,0 mm
- FocalLengthIn35mmFormat: 50 mm
- GainControl: High gain up
- ISO: 2500
- LensInfo: 50mm f/1.8
- LensModel: 50.0 mm f/1.8
- LightSource: Unknown
- MaxApertureValue: 1,7
- MeteringMode: Spot
- Saturation: Normal
- SceneCaptureType: Standard
- SceneType: Directly photographed
- SensingMethod: One-chip color area
- SerialNumber: 2329436
- Sharpness: Normal
- ShutterSpeedValue: 1/800
- SubjectDistance: 0,47 m
- SubjectDistanceRange: Unknown
- WhiteBalance: Auto
- ICC-header
- IFD0
- Artist: Andrey Mikhalenkov
- Copyright: mikha_a
- Make: NIKON CORPORATION
- Model: NIKON D700
- ModifyDate: 2014:05:19 20:37:33
- IFD1
- IPTC
- By-line: Andrey Mikhalenkov
- CopyrightNotice: mikha_a
- DateCreated: 2014:03:06
- System
- XMP-aux
- ApproximateFocusDistance: 0,47
- ImageNumber: 46875
- Lens: 50.0 mm f/1.8
- LensID: 176
- XMP-crs
- AlreadyApplied: True
- AutoLateralCA: 1
- AutoWhiteVersion: 134348800
- BlueHue: 0
- BlueSaturation: 0
- Brightness: +41
- CameraProfile: Camera D2X Mode 2 v4
- Clarity: +10
- ColorNoiseReduction: 25
- ColorNoiseReductionDetail: 50
- ColorNoiseReductionSmoothness: 50
- ColorTemperature: 4000
- Contrast: +26
- ConvertToGrayscale: False
- CropAngle: -3.550901
- CropBottom: 0.856013
- CropConstrainToWarp: 0
- CropHeight: 7
- CropLeft: 0.152795
- CropRight: 0.68315
- CropTop: 0.358229
- CropUnit: Unknown (3)
- CropWidth: 5
- DefringeGreenAmount: 0
- DefringeGreenHueHi: 60
- DefringeGreenHueLo: 40
- DefringePurpleAmount: 0
- DefringePurpleHueHi: 70
- DefringePurpleHueLo: 30
- Exposure: 0.00
- FillLight: 27
- GrainAmount: 0
- GreenHue: 0
- GreenSaturation: 0
- HasCrop: True
- HasSettings: True
- HighlightRecovery: 23
- HueAdjustmentAqua: 0
- HueAdjustmentBlue: 0
- HueAdjustmentGreen: 0
- HueAdjustmentMagenta: 0
- HueAdjustmentOrange: 0
- HueAdjustmentPurple: 0
- HueAdjustmentRed: 0
- HueAdjustmentYellow: 0
- LensManualDistortionAmount: 0
- LensProfileChromaticAberrationScale: 100
- LensProfileDistortionScale: 100
- LensProfileEnable: 1
- LensProfileFilename: NIKON D3X (Nikon AF-S NIKKOR 50mm f1.8G) - RAW.lcp
- LensProfileSetup: Custom
- LensProfileVignettingScale: 100
- LuminanceAdjustmentAqua: 0
- LuminanceAdjustmentBlue: 0
- LuminanceAdjustmentGreen: 0
- LuminanceAdjustmentMagenta: 0
- LuminanceAdjustmentOrange: 0
- LuminanceAdjustmentPurple: 0
- LuminanceAdjustmentRed: 0
- LuminanceAdjustmentYellow: 0
- LuminanceNoiseReductionContrast: 0
- LuminanceNoiseReductionDetail: 50
- LuminanceSmoothing: 14
- ParametricDarks: 0
- ParametricHighlightSplit: 75
- ParametricHighlights: 0
- ParametricLights: 0
- ParametricMidtoneSplit: 50
- ParametricShadowSplit: 25
- ParametricShadows: 0
- PerspectiveAspect: 0
- PerspectiveHorizontal: 0
- PerspectiveRotate: 0.0
- PerspectiveScale: 100
- PerspectiveUpright: 0
- PerspectiveVertical: 0
- PostCropVignetteAmount: 0
- ProcessVersion: 5.7
- RawFileName: DSC_6690.NEF
- RedHue: 0
- RedSaturation: 0
- Saturation: +7
- SaturationAdjustmentAqua: 0
- SaturationAdjustmentBlue: 0
- SaturationAdjustmentGreen: 0
- SaturationAdjustmentMagenta: 0
- SaturationAdjustmentOrange: 0
- SaturationAdjustmentPurple: 0
- SaturationAdjustmentRed: 0
- SaturationAdjustmentYellow: 0
- ShadowTint: 0
- Shadows: 8
- SharpenDetail: 50
- SharpenEdgeMasking: 0
- SharpenRadius: +1.3
- Sharpness: 57
- SplitToningBalance: 0
- SplitToningHighlightHue: 0
- SplitToningHighlightSaturation: 0
- SplitToningShadowHue: 0
- SplitToningShadowSaturation: 0
- Tint: -5
- ToneCurve: 0, 0, 32, 22, 64, 56, 128, 128, 192, 196, 255, 255
- ToneCurveBlue: 0, 0, 255, 255
- ToneCurveGreen: 0, 0, 255, 255
- ToneCurveName: Medium Contrast
- ToneCurveName2012: Linear
- ToneCurvePV2012: 0, 0, 255, 255
- ToneCurvePV2012Blue: 0, 0, 255, 255
- ToneCurvePV2012Green: 0, 0, 255, 255
- ToneCurvePV2012Red: 0, 0, 255, 255
- ToneCurveRed: 0, 0, 255, 255
- Version: 8.4.1
- Vibrance: +13
- VignetteAmount: 0
- WhiteBalance: As Shot
- XMP-dc
- Creator: Andrey Mikhalenkov
- Format: image/jpeg
- Rights: mikha_a
- XMP-xmp
- CreateDate: 2014:03:06 15:24:46.64
- ModifyDate: 2014:05:19 20:37:33+03:00
- XMP-xmpMM
- Просмотров: 389
- Рейтинг: голосов еще нет
- Отзывов: 0
Получить код для блога
| Вставка фотографии в текущем разрешении |
Вставка миниатюры |
HTML (для вставки в блог):
BBCode (для вставки в форум):
Ссылка на фото:
Ссылка на миниатюру:
- Послать ссылку другу
| Комментарии к фотографии |