Уважаемые друзья и участники проекта iXBT.photo! К сожалению, 1 марта 2026 года проект iXBT.photo прекратит свою работу и будет закрыт. Мы высоко ценим ваше участие и тот вклад, который вы внесли в развитие нашего сообщества. Пожалуйста, не забудьте сохранить ваши фотографии до этой даты.
С уважением, команда iXBT.com
| 11 Прованс.jpg |
11 Прованс.jpg
- Раздел: Путешествия
- Дата съёмки: 14.05.2014 16:48
- Дата загрузки фото: 14.06.2014 09:58
- Оригинальная фотография: 2960 x 2000 (2,1 Мб)
- Технические характеристики:
- Фотоаппарат: Canon EOS 550D
- Выдержка: 1/320
- Гиперфокальное расстояние: inf m
- Диафрагма: 5,6
- Светочувствительность: 100
- Фокусное расстояние: 18,0 mm (35 mm equivalent: 36,0 mm)
- Полный EXIF
- Adobe
- ColorTransform: YCbCr
- Composite
- Aperture: 5,6
- CircleOfConfusion: 0,011 mm
- DOF: inf (0,00 m - inf)
- FOV: 53,0 deg
- Flash: Off, Did not fire
- FocalLength35efl: 18,0 mm (35 mm equivalent: 36,0 mm)
- HyperfocalDistance: inf m
- LensID: Canon EF-S 18-135mm f/3.5-5.6 IS
- ScaleFactor35efl: 2,7
- ShutterSpeed: 1/320
- ExifIFD
- ApertureValue: 5,6
- CreateDate: 2014:05:14 16:48:34
- CustomRendered: Normal
- DateTimeOriginal: 2014:05:14 16:48:34
- ExposureCompensation: 0
- ExposureMode: Auto
- ExposureProgram: Not Defined
- ExposureTime: 1/320
- FNumber: 5,6
- FocalLength: 18,0 mm
- ISO: 100
- LensInfo: 18-135mm f/?
- LensModel: EF-S18-135mm f/3.5-5.6 IS
- MaxApertureValue: 3,5
- MeteringMode: Multi-segment
- SceneCaptureType: Standard
- SensitivityType: Unknown
- SerialNumber: 1132505168
- ShutterSpeedValue: 1/320
- SubjectDistance: 4294967295 m
- WhiteBalance: Auto
- ICC-header
- ICC-meas
- ICC-view
- IFD0
- Artist: Lebedev A N
- Make: Canon
- Model: Canon EOS 550D
- ModifyDate: 2014:06:13 19:01:36
- IFD1
- IPTC
- By-line: Lebedev A N
- System
- XMP-aux
- ApproximateFocusDistance: 4294967295
- Firmware: 1.0.8
- FlashCompensation: 0
- ImageNumber: 0
- Lens: EF-S18-135mm f/3.5-5.6 IS
- LensID: 51
- XMP-crs
- AlreadyApplied: True
- BlueHue: 0
- BlueSaturation: 0
- Brightness: +6
- CameraProfile: Embedded
- ChromaticAberrationB: 0
- ChromaticAberrationR: 0
- Clarity: 0
- ColorNoiseReduction: 0
- Contrast: +36
- ConvertToGrayscale: False
- CropAngle: 0
- CropBottom: 0.995798
- CropConstrainToWarp: 0
- CropHeight: 2000
- CropLeft: 0.022409
- CropRight: 0.99253
- CropTop: 0.012605
- CropUnit: pixels
- CropWidth: 2960
- Defringe: 0
- Exposure: -1.62
- FillLight: 37
- GrainAmount: 0
- GreenHue: 0
- GreenSaturation: 0
- HasCrop: True
- HasSettings: True
- HighlightRecovery: 0
- HueAdjustmentAqua: 0
- HueAdjustmentBlue: 0
- HueAdjustmentGreen: 0
- HueAdjustmentMagenta: 0
- HueAdjustmentOrange: 0
- HueAdjustmentPurple: 0
- HueAdjustmentRed: 0
- HueAdjustmentYellow: 0
- IncrementalTemperature: 0
- IncrementalTint: 0
- LensManualDistortionAmount: 0
- LensProfileEnable: 0
- LensProfileSetup: LensDefaults
- LuminanceAdjustmentAqua: 0
- LuminanceAdjustmentBlue: 0
- LuminanceAdjustmentGreen: 0
- LuminanceAdjustmentMagenta: 0
- LuminanceAdjustmentOrange: 0
- LuminanceAdjustmentPurple: 0
- LuminanceAdjustmentRed: 0
- LuminanceAdjustmentYellow: 0
- LuminanceSmoothing: 0
- ParametricDarks: 0
- ParametricHighlightSplit: 75
- ParametricHighlights: 0
- ParametricLights: 0
- ParametricMidtoneSplit: 50
- ParametricShadowSplit: 25
- ParametricShadows: 0
- PerspectiveHorizontal: 0
- PerspectiveRotate: 0.0
- PerspectiveScale: 100
- PerspectiveVertical: 0
- PostCropVignetteAmount: 0
- ProcessVersion: 5.7
- RedHue: 0
- RedSaturation: 0
- Saturation: 0
- SaturationAdjustmentAqua: 0
- SaturationAdjustmentBlue: 0
- SaturationAdjustmentGreen: 0
- SaturationAdjustmentMagenta: 0
- SaturationAdjustmentOrange: 0
- SaturationAdjustmentPurple: 0
- SaturationAdjustmentRed: 0
- SaturationAdjustmentYellow: 0
- ShadowTint: 0
- Shadows: 16
- SharpenDetail: 25
- SharpenEdgeMasking: 0
- SharpenRadius: +1.0
- Sharpness: 0
- SplitToningBalance: 0
- SplitToningHighlightHue: 0
- SplitToningHighlightSaturation: 0
- SplitToningShadowHue: 0
- SplitToningShadowSaturation: 0
- ToneCurve: 0, 0, 255, 255
- ToneCurveName: Linear
- Version: 6.3
- Vibrance: 0
- VignetteAmount: 0
- WhiteBalance: As Shot
- XMP-dc
- XMP-exif
- DateTimeDigitized: 2014:05:14 16:48:34.00+04:00
- DateTimeOriginal: 2014:05:14 16:48:34.00+04:00
- ExifImageHeight: 2000
- ExifImageWidth: 2960
- FlashFired: False
- FlashFunction: False
- FlashMode: Off
- FlashRedEyeMode: False
- FlashReturn: No return detection
- XMP-tiff
- ImageHeight: 2000
- ImageWidth: 2960
- XMP-xmp
- CreateDate: 2014:05:14 16:48:34.00+04:00
- ModifyDate: 2014:06:13 19:01:36+04:00
- Просмотров: 119
- Рейтинг: голосов еще нет
- Отзывов: 0
Получить код для блога
| Вставка фотографии в текущем разрешении |
Вставка миниатюры |
HTML (для вставки в блог):
BBCode (для вставки в форум):
Ссылка на фото:
Ссылка на миниатюру:
- Послать ссылку другу
| Комментарии к фотографии |