- Раздел: Автомобили
- Дата съёмки: 19.04.2014 14:31
- Дата загрузки фото: 23.06.2014 22:44
- Оригинальная фотография: 1920 x 1089 (847 Кб)
- Технические характеристики:
- Фотоаппарат: Canon EOS 5D Mark II
- Выдержка: 1/4000
- Гиперфокальное расстояние: inf m
- Диафрагма: 2,0
- Светочувствительность: 100
- Фокусное расстояние: 85,0 mm (35 mm equivalent: 170,0 mm)
- Полный EXIF
- Adobe
- ColorTransform: YCbCr
- Composite
- Aperture: 2,0
- CircleOfConfusion: 0,010 mm
- FOV: 12,0 deg
- FocalLength35efl: 85,0 mm (35 mm equivalent: 170,0 mm)
- HyperfocalDistance: inf m
- LensID: Canon EF 85mm f/1.8 USM
- ScaleFactor35efl: 3,0
- ShutterSpeed: 1/4000
- ExifIFD
- ApertureValue: 2,0
- ColorSpace: sRGB
- CreateDate: 2014:04:19 14:31:20
- CustomRendered: Normal
- DateTimeOriginal: 2014:04:19 14:31:20
- ExifImageHeight: 1089
- ExifImageWidth: 1920
- ExposureCompensation: 0
- ExposureMode: Auto
- ExposureProgram: Aperture-priority AE
- ExposureTime: 1/4000
- FNumber: 2,0
- Flash: Off, Did not fire
- FocalLength: 85,0 mm
- ISO: 100
- LensInfo: 85mm f/?
- LensModel: EF85mm f/1.8 USM
- MaxApertureValue: 1,8
- MeteringMode: Multi-segment
- SceneCaptureType: Standard
- SerialNumber: 2151307365
- ShutterSpeedValue: 1/4000
- WhiteBalance: Auto
- ICC-header
- ICC-meas
- ICC-view
- IFD0
- BitsPerSample: 8 8 8
- ImageHeight: 3185
- ImageWidth: 5616
- Make: Canon
- Model: Canon EOS 5D Mark II
- ModifyDate: 2014:04:30 21:43:42
- Orientation: Horizontal (normal)
- PhotometricInterpretation: RGB
- SamplesPerPixel: 3
- IFD1
- IPTC
- DateCreated: 2014:04:19
- System
- XMP-aux
- ApproximateFocusDistance: 2,15
- Firmware: 2.0.7
- FlashCompensation: 0
- ImageNumber: 0
- Lens: EF85mm f/1.8 USM
- LensID: 155
- XMP-crs
- AlreadyApplied: True
- AutoLateralCA: 0
- Blacks2012: 0
- BlueHue: 0
- BlueSaturation: 0
- CameraProfile: Camera Landscape
- Clarity2012: +70
- ColorNoiseReduction: 68
- ColorNoiseReductionDetail: 50
- ColorTemperature: 4841
- Contrast2012: 0
- ConvertToGrayscale: False
- CropAngle: 0
- CropBottom: 1
- CropConstrainToWarp: 0
- CropHeight: 3185
- CropLeft: 0
- CropRight: 1
- CropTop: 0.149254
- CropUnit: pixels
- CropWidth: 5616
- DefringeGreenAmount: 5
- DefringeGreenHueHi: 70
- DefringeGreenHueLo: 21
- DefringePurpleAmount: 6
- DefringePurpleHueHi: 79
- DefringePurpleHueLo: 26
- Exposure2012: 0.00
- GrainAmount: 0
- GreenHue: 0
- GreenSaturation: 0
- HasCrop: True
- HasSettings: True
- Highlights2012: -36
- HueAdjustmentAqua: 0
- HueAdjustmentBlue: 0
- HueAdjustmentGreen: 0
- HueAdjustmentMagenta: 0
- HueAdjustmentOrange: 0
- HueAdjustmentPurple: 0
- HueAdjustmentRed: -17
- HueAdjustmentYellow: 0
- LensManualDistortionAmount: 0
- LensProfileEnable: 0
- LensProfileSetup: LensDefaults
- LuminanceAdjustmentAqua: 0
- LuminanceAdjustmentBlue: 0
- LuminanceAdjustmentGreen: 0
- LuminanceAdjustmentMagenta: 0
- LuminanceAdjustmentOrange: 0
- LuminanceAdjustmentPurple: 0
- LuminanceAdjustmentRed: -13
- LuminanceAdjustmentYellow: 0
- LuminanceSmoothing: 0
- ParametricDarks: 0
- ParametricHighlightSplit: 75
- ParametricHighlights: 0
- ParametricLights: 0
- ParametricMidtoneSplit: 50
- ParametricShadowSplit: 25
- ParametricShadows: 0
- PerspectiveHorizontal: 0
- PerspectiveRotate: 0.0
- PerspectiveScale: 100
- PerspectiveVertical: 0
- PostCropVignetteAmount: 0
- ProcessVersion: 6.7
- RedHue: 0
- RedSaturation: 0
- Saturation: 0
- SaturationAdjustmentAqua: 0
- SaturationAdjustmentBlue: -15
- SaturationAdjustmentGreen: 0
- SaturationAdjustmentMagenta: 0
- SaturationAdjustmentOrange: 0
- SaturationAdjustmentPurple: 0
- SaturationAdjustmentRed: -2
- SaturationAdjustmentYellow: 0
- ShadowTint: 0
- Shadows2012: +52
- SharpenDetail: 25
- SharpenEdgeMasking: 0
- SharpenRadius: +1.0
- Sharpness: 25
- SplitToningBalance: 0
- SplitToningHighlightHue: 0
- SplitToningHighlightSaturation: 0
- SplitToningShadowHue: 0
- SplitToningShadowSaturation: 0
- Tint: +4
- ToneCurveName2012: Linear
- ToneCurvePV2012: 0, 0, 255, 255
- ToneCurvePV2012Blue: 0, 0, 255, 255
- ToneCurvePV2012Green: 0, 0, 255, 255
- ToneCurvePV2012Red: 0, 0, 255, 255
- Version: 7.3
- Vibrance: +50
- VignetteAmount: 0
- WhiteBalance: Custom
- Whites2012: -2
- XMP-dc
- XMP-xmp
- ModifyDate: 2014:04:30 21:43:42+04:00
- Rating: 2
- XMP-xmpMM
- Просмотров: 154
- Рейтинг: голосов еще нет
- Отзывов: 0