- Раздел: Хобби
- Дата съёмки: 02.07.2014 13:28
- Дата загрузки фото: 03.07.2014 21:47
- Оригинальная фотография: 5472 x 3648 (13,3 Мб)
- Технические характеристики:
- Фотоаппарат: Canon EOS 70D
- Выдержка: 1/4000
- Гиперфокальное расстояние: inf m
- Диафрагма: 1,8
- Светочувствительность: 100
- Фокусное расстояние: 20,0 mm (35 mm equivalent: 20,0 mm)
- Полный EXIF
- Adobe
- ColorTransform: YCbCr
- Composite
- Aperture: 1,8
- CircleOfConfusion: 0,019 mm
- FOV: 83,0 deg
- FocalLength35efl: 20,0 mm (35 mm equivalent: 20,0 mm)
- HyperfocalDistance: inf m
- LensID: Canon EF 85mm f/1.2L or Sigma or Tamron Lens
- ScaleFactor35efl: 1,6
- ShutterSpeed: 1/4000
- ExifIFD
- ApertureValue: 1,8
- ColorSpace: sRGB
- CreateDate: 2014:07:02 13:28:10
- CustomRendered: Normal
- DateTimeOriginal: 2014:07:02 13:28:10
- ExposureCompensation: 0
- ExposureMode: Manual
- ExposureProgram: Manual
- ExposureTime: 1/4000
- FNumber: 1,8
- Flash: Off, Did not fire
- FocalLength: 20,0 mm
- ISO: 100
- LensInfo: 18-35mm f/?
- LensModel: 18-35mm
- LensSerialNumber: 0000000000
- MaxApertureValue: 1,8
- MeteringMode: Multi-segment
- RecommendedExposureIndex: 100
- SceneCaptureType: Standard
- SensitivityType: Recommended Exposure Index
- SerialNumber: 083024007732
- ShutterSpeedValue: 1/4000
- WhiteBalance: Manual
- ICC-header
- ICC-meas
- ICC-view
- IFD0
- Make: Canon
- Model: Canon EOS 70D
- ModifyDate: 2014:07:03 09:35:06
- IFD1
- IPTC
- DateCreated: 2014:07:02
- System
- XMP-aux
- ApproximateFocusDistance: 1,77
- Firmware: 1.1.1
- FlashCompensation: 0
- ImageNumber: 0
- Lens: 18-35mm
- LensID: 137
- XMP-crs
- AlreadyApplied: True
- AutoLateralCA: 0
- AutoWhiteVersion: 134348800
- Blacks2012: -31
- BlueHue: 0
- BlueSaturation: 0
- Clarity2012: -15
- ColorNoiseReduction: 25
- ColorNoiseReductionDetail: 50
- ColorNoiseReductionSmoothness: 50
- ColorTemperature: 5800
- Contrast2012: 0
- ConvertToGrayscale: False
- DefringeGreenAmount: 0
- DefringeGreenHueHi: 60
- DefringeGreenHueLo: 40
- DefringePurpleAmount: 0
- DefringePurpleHueHi: 70
- DefringePurpleHueLo: 30
- Exposure2012: -0.25
- GrainAmount: 0
- GreenHue: 0
- GreenSaturation: 0
- HasCrop: False
- HasSettings: True
- Highlights2012: -61
- HueAdjustmentAqua: 0
- HueAdjustmentBlue: 0
- HueAdjustmentGreen: 0
- HueAdjustmentMagenta: 0
- HueAdjustmentOrange: 0
- HueAdjustmentPurple: 0
- HueAdjustmentRed: 0
- HueAdjustmentYellow: 0
- LensManualDistortionAmount: 0
- LensProfileEnable: 0
- LensProfileSetup: LensDefaults
- LuminanceAdjustmentAqua: 0
- LuminanceAdjustmentBlue: 0
- LuminanceAdjustmentGreen: 0
- LuminanceAdjustmentMagenta: 0
- LuminanceAdjustmentOrange: 0
- LuminanceAdjustmentPurple: 0
- LuminanceAdjustmentRed: 0
- LuminanceAdjustmentYellow: 0
- LuminanceSmoothing: 0
- ParametricDarks: 0
- ParametricHighlightSplit: 75
- ParametricHighlights: +60
- ParametricLights: +10
- ParametricMidtoneSplit: 50
- ParametricShadowSplit: 25
- ParametricShadows: 0
- PerspectiveAspect: 0
- PerspectiveHorizontal: 0
- PerspectiveRotate: 0.0
- PerspectiveScale: 100
- PerspectiveUpright: 0
- PerspectiveVertical: 0
- PostCropVignetteAmount: 0
- ProcessVersion: 6.7
- RedHue: 0
- RedSaturation: 0
- Saturation: 0
- SaturationAdjustmentAqua: +50
- SaturationAdjustmentBlue: +58
- SaturationAdjustmentGreen: +10
- SaturationAdjustmentMagenta: 0
- SaturationAdjustmentOrange: +13
- SaturationAdjustmentPurple: +23
- SaturationAdjustmentRed: 0
- SaturationAdjustmentYellow: +23
- ShadowTint: 0
- Shadows2012: -27
- SharpenDetail: 25
- SharpenEdgeMasking: 0
- SharpenRadius: +1.0
- Sharpness: 25
- SplitToningBalance: 0
- SplitToningHighlightHue: 0
- SplitToningHighlightSaturation: 0
- SplitToningShadowHue: 0
- SplitToningShadowSaturation: 0
- Tint: +10
- ToneCurveName2012: Linear
- ToneCurvePV2012: 0, 0, 255, 255
- ToneCurvePV2012Blue: 0, 0, 255, 255
- ToneCurvePV2012Green: 0, 0, 255, 255
- ToneCurvePV2012Red: 0, 0, 255, 255
- Version: 8.3
- Vibrance: +10
- VignetteAmount: 0
- WhiteBalance: As Shot
- Whites2012: +26
- XMP-dc
- XMP-xmp
- CreateDate: 2014:07:02 13:28:10.00
- ModifyDate: 2014:07:03 09:35:06+03:00
- XMP-xmpMM
- Просмотров: 508
- Рейтинг: голосов еще нет
- Отзывов: отключены