- Раздел: Портрет
- Дата съёмки: 03.07.2014 20:34
- Дата загрузки фото: 15.07.2014 11:10
- Оригинальная фотография: 800 x 533 (118 Кб)
- Технические характеристики:
- Фотоаппарат: Canon EOS 5D Mark II
- Выдержка: 1/125
- Гиперфокальное расстояние: inf m
- Диафрагма: 3,2
- Светочувствительность: 250
- Фокусное расстояние: 35,0 mm (35 mm equivalent: 140,0 mm)
- Экспокоррекция: +1/3
- Полный EXIF
- Adobe
- ColorTransform: YCbCr
- Composite
- Aperture: 3,2
- CircleOfConfusion: 0,006 mm
- FOV: 14,0 deg
- Flash: Off, Did not fire
- FocalLength35efl: 35,0 mm (35 mm equivalent: 140,0 mm)
- HyperfocalDistance: inf m
- LensID: Canon EF 35mm f/2
- ScaleFactor35efl: 4,7
- ShutterSpeed: 1/125
- ExifIFD
- ApertureValue: 3,2
- CreateDate: 2014:07:03 20:34:32
- CustomRendered: Normal
- DateTimeOriginal: 2014:07:03 20:34:32
- ExposureCompensation: +1/3
- ExposureMode: Auto
- ExposureProgram: Aperture-priority AE
- ExposureTime: 1/125
- FNumber: 3,2
- FocalLength: 35,0 mm
- ISO: 250
- LensInfo: 35mm f/?
- LensModel: EF35mm f/2
- MaxApertureValue: 2,0
- MeteringMode: Partial
- SceneCaptureType: Standard
- SensitivityType: Unknown
- SerialNumber: 1921203953
- ShutterSpeedValue: 1/125
- WhiteBalance: Auto
- ICC-header
- ICC-meas
- ICC-view
- IFD0
- Make: Canon
- Model: Canon EOS 5D Mark II
- ModifyDate: 2014:07:06 18:58:10
- IFD1
- System
- XMP-aux
- Firmware: 2.0.7
- FlashCompensation: 0
- ImageNumber: 0
- Lens: EF35mm f/2
- LensID: 11
- XMP-crs
- AlreadyApplied: True
- BlueHue: 0
- BlueSaturation: 0
- Brightness: +50
- ChromaticAberrationB: 0
- ChromaticAberrationR: 0
- Clarity: +4
- ColorNoiseReduction: 25
- ColorNoiseReductionDetail: 50
- ColorTemperature: 6500
- Contrast: +38
- ConvertToGrayscale: False
- CropAngle: 0
- CropBottom: 0.812698
- CropConstrainToWarp: 0
- CropHeight: 533
- CropLeft: 0
- CropRight: 0.812698
- CropTop: 0
- CropUnit: pixels
- CropWidth: 800
- Defringe: 0
- Exposure: +0.26
- FillLight: 32
- GrainAmount: 0
- GreenHue: 0
- GreenSaturation: 0
- HasCrop: True
- HasSettings: True
- HighlightRecovery: 0
- HueAdjustmentAqua: 0
- HueAdjustmentBlue: 0
- HueAdjustmentGreen: 0
- HueAdjustmentMagenta: 0
- HueAdjustmentOrange: 0
- HueAdjustmentPurple: 0
- HueAdjustmentRed: 0
- HueAdjustmentYellow: 0
- LensManualDistortionAmount: 0
- LensProfileEnable: 0
- LensProfileSetup: LensDefaults
- LuminanceAdjustmentAqua: 0
- LuminanceAdjustmentBlue: 0
- LuminanceAdjustmentGreen: 0
- LuminanceAdjustmentMagenta: 0
- LuminanceAdjustmentOrange: 0
- LuminanceAdjustmentPurple: 0
- LuminanceAdjustmentRed: 0
- LuminanceAdjustmentYellow: 0
- LuminanceSmoothing: 0
- ParametricDarks: 0
- ParametricHighlightSplit: 75
- ParametricHighlights: 0
- ParametricLights: 0
- ParametricMidtoneSplit: 50
- ParametricShadowSplit: 25
- ParametricShadows: 0
- PerspectiveHorizontal: 0
- PerspectiveRotate: 0.0
- PerspectiveScale: 100
- PerspectiveVertical: 0
- PostCropVignetteAmount: 0
- ProcessVersion: 5.7
- RedHue: 0
- RedSaturation: 0
- Saturation: +4
- SaturationAdjustmentAqua: 0
- SaturationAdjustmentBlue: 0
- SaturationAdjustmentGreen: 0
- SaturationAdjustmentMagenta: 0
- SaturationAdjustmentOrange: 0
- SaturationAdjustmentPurple: 0
- SaturationAdjustmentRed: 0
- SaturationAdjustmentYellow: 0
- ShadowTint: 0
- Shadows: 11
- SharpenDetail: 25
- SharpenEdgeMasking: 0
- SharpenRadius: +1.0
- Sharpness: 25
- SplitToningBalance: 0
- SplitToningHighlightHue: 0
- SplitToningHighlightSaturation: 0
- SplitToningShadowHue: 0
- SplitToningShadowSaturation: 0
- Tint: +27
- ToneCurve: 0, 0, 32, 22, 64, 56, 128, 128, 192, 196, 255, 255
- ToneCurveName: Medium Contrast
- Version: 6.2
- Vibrance: +17
- VignetteAmount: 0
- WhiteBalance: As Shot
- XMP-exif
- DateTimeDigitized: 2014:07:03 20:34:32.23+04:00
- DateTimeOriginal: 2014:07:03 20:34:32.23+04:00
- ExifImageHeight: 533
- ExifImageWidth: 800
- FlashFired: False
- FlashFunction: False
- FlashMode: Off
- FlashRedEyeMode: False
- FlashReturn: No return detection
- XMP-tiff
- ImageHeight: 533
- ImageWidth: 800
- XMP-xmp
- CreateDate: 2014:07:03 20:34:32.23+04:00
- ModifyDate: 2014:07:06 18:58:10+04:00
- Просмотров: 289
- Рейтинг: голосов еще нет
- Отзывов: 0