_R001617_ACR.jpg
Встроенный профиль цвета во всех фотографиях этого альбома - ProPhoto RGB.
Приношу свои извинения если у кого-либо это вызовет неудобство при просмотре.
Превьюшки не содержат цветового профиля, поэтому на них цвета искажены.
Смотрите полноразмеры и вы увидите всё богатство оттенков Ricoh GR.
- Раздел: Другое, разное
- Дата съёмки: 06.07.2014 13:17
- Дата загрузки фото: 15.07.2014 22:58
- Оригинальная фотография: 4928 x 3264 (12,2 Мб)
- Технические характеристики:
- Фотоаппарат: Ricoh GR
- Выдержка: 1/350
- Гиперфокальное расстояние: inf m
- Диафрагма: 8,0
- Светочувствительность: 100
- Фокусное расстояние: 18,0 mm (35 mm equivalent: 18,0 mm)
- Экспокоррекция: -0,3
- Полный EXIF
- Adobe
- ColorTransform: YCbCr
- Composite
- Aperture: 8,0
- CircleOfConfusion: 0,019 mm
- FOV: 90,0 deg
- FocalLength35efl: 18,0 mm (35 mm equivalent: 18,0 mm)
- HyperfocalDistance: inf m
- ScaleFactor35efl: 1,6
- ShutterSpeed: 1/350
- ExifIFD
- ApertureValue: 8,0
- BrightnessValue: 9,3
- ColorSpace: Uncalibrated
- CreateDate: 2014:07:06 13:17:00
- DateTimeOriginal: 2014:07:06 13:17:00
- ExifImageHeight: 3264
- ExifImageWidth: 4928
- ExposureCompensation: -0,3
- ExposureMode: Auto bracket
- ExposureProgram: Aperture-priority AE
- ExposureTime: 1/350
- FNumber: 8,0
- Flash: Off, Did not fire
- FocalLength: 18,3 mm
- FocalLengthIn35mmFormat: 28 mm
- ISO: 100
- LensInfo: 18.3mm f/2.8
- LensModel: 18.3 mm f/2.8
- LightSource: Unknown
- MaxApertureValue: 2,8
- MeteringMode: Multi-segment
- SceneCaptureType: Standard
- Sharpness: Normal
- ShutterSpeedValue: 1/350
- WhiteBalance: Auto
- ICC-header
- IFD0
- Make: RICOH IMAGING COMPANY, LTD.
- Model: GR
- ModifyDate: 2014:07:15 12:49:33
- Orientation: Horizontal (normal)
- IFD1
- IPTC
- DateCreated: 2014:07:06
- System
- XMP-aux
- Lens: 18.3 mm f/2.8
- XMP-crs
- AlreadyApplied: True
- AutoLateralCA: 0
- AutoWhiteVersion: 134348800
- Blacks2012: -67
- BlueHue: 0
- BlueSaturation: 0
- CameraProfile: Ricoh GR_солнечно
- CircularGradientBasedCorrectionsCorrectionActive: true
- CircularGradientBasedCorrectionsCorrectionAmount: 1.000000
- CircularGradientBasedCorrectionsCorrectionMasksAngle: 0.000000
- CircularGradientBasedCorrectionsCorrectionMasksBottom: 0.393894
- CircularGradientBasedCorrectionsCorrectionMasksFeather: +100
- CircularGradientBasedCorrectionsCorrectionMasksFlipped: true
- CircularGradientBasedCorrectionsCorrectionMasksLeft: 0.127387
- CircularGradientBasedCorrectionsCorrectionMasksMaskValue: 1.000000
- CircularGradientBasedCorrectionsCorrectionMasksMidpoint: +50
- CircularGradientBasedCorrectionsCorrectionMasksRight: 1.167430
- CircularGradientBasedCorrectionsCorrectionMasksRoundness: 0
- CircularGradientBasedCorrectionsCorrectionMasksTop: -0.079049
- CircularGradientBasedCorrectionsCorrectionMasksVersion: +2
- CircularGradientBasedCorrectionsCorrectionMasksWhat: Mask/CircularGradient
- CircularGradientBasedCorrectionsLocalBrightness: 0.000000
- CircularGradientBasedCorrectionsLocalClarity: 0.000000
- CircularGradientBasedCorrectionsLocalClarity2012: 1.000000
- CircularGradientBasedCorrectionsLocalContrast: 0.000000
- CircularGradientBasedCorrectionsLocalContrast2012: 0.000000
- CircularGradientBasedCorrectionsLocalDefringe: 0.000000
- CircularGradientBasedCorrectionsLocalExposure: 0.000000
- CircularGradientBasedCorrectionsLocalExposure2012: 0.000000
- CircularGradientBasedCorrectionsLocalHighlights2012: 0.000000
- CircularGradientBasedCorrectionsLocalLuminanceNoise: 0.000000
- CircularGradientBasedCorrectionsLocalMoire: 0.000000
- CircularGradientBasedCorrectionsLocalSaturation: 0.000000
- CircularGradientBasedCorrectionsLocalShadows2012: 0.000000
- CircularGradientBasedCorrectionsLocalSharpness: 0.000000
- CircularGradientBasedCorrectionsLocalTemperature: 0.000000
- CircularGradientBasedCorrectionsLocalTint: 0.000000
- CircularGradientBasedCorrectionsLocalToningHue: 0.000000
- CircularGradientBasedCorrectionsLocalToningSaturation: 0.000000
- CircularGradientBasedCorrectionsWhat: Correction
- Clarity2012: 0
- ColorNoiseReduction: 25
- ColorNoiseReductionDetail: 50
- ColorNoiseReductionSmoothness: 50
- ColorTemperature: 4950
- Contrast2012: 0
- ConvertToGrayscale: False
- DefringeGreenAmount: 0
- DefringeGreenHueHi: 60
- DefringeGreenHueLo: 40
- DefringePurpleAmount: 0
- DefringePurpleHueHi: 70
- DefringePurpleHueLo: 30
- Exposure2012: 0.00
- GrainAmount: 0
- GreenHue: 0
- GreenSaturation: 0
- HasCrop: False
- HasSettings: True
- Highlights2012: 0
- HueAdjustmentAqua: 0
- HueAdjustmentBlue: 0
- HueAdjustmentGreen: 0
- HueAdjustmentMagenta: 0
- HueAdjustmentOrange: 0
- HueAdjustmentPurple: 0
- HueAdjustmentRed: 0
- HueAdjustmentYellow: 0
- LensManualDistortionAmount: 0
- LensProfileEnable: 0
- LensProfileSetup: LensDefaults
- LuminanceAdjustmentAqua: 0
- LuminanceAdjustmentBlue: 0
- LuminanceAdjustmentGreen: 0
- LuminanceAdjustmentMagenta: 0
- LuminanceAdjustmentOrange: 0
- LuminanceAdjustmentPurple: 0
- LuminanceAdjustmentRed: 0
- LuminanceAdjustmentYellow: 0
- LuminanceSmoothing: 0
- ParametricDarks: 0
- ParametricHighlightSplit: 75
- ParametricHighlights: 0
- ParametricLights: 0
- ParametricMidtoneSplit: 50
- ParametricShadowSplit: 25
- ParametricShadows: 0
- PerspectiveAspect: 0
- PerspectiveHorizontal: 0
- PerspectiveRotate: 0.0
- PerspectiveScale: 100
- PerspectiveUpright: 0
- PerspectiveVertical: 0
- PostCropVignetteAmount: 0
- ProcessVersion: 6.7
- RawFileName: _R001617.DNG
- RedHue: 0
- RedSaturation: 0
- Saturation: 0
- SaturationAdjustmentAqua: 0
- SaturationAdjustmentBlue: 0
- SaturationAdjustmentGreen: 0
- SaturationAdjustmentMagenta: 0
- SaturationAdjustmentOrange: 0
- SaturationAdjustmentPurple: 0
- SaturationAdjustmentRed: 0
- SaturationAdjustmentYellow: 0
- ShadowTint: 0
- Shadows2012: +100
- SharpenDetail: 25
- SharpenEdgeMasking: 0
- SharpenRadius: +1.0
- Sharpness: 0
- SplitToningBalance: 0
- SplitToningHighlightHue: 0
- SplitToningHighlightSaturation: 0
- SplitToningShadowHue: 0
- SplitToningShadowSaturation: 0
- Tint: +4
- ToneCurve: 0, 0, 32, 22, 64, 56, 128, 128, 192, 196, 255, 255
- ToneCurveBlue: 0, 0, 255, 255
- ToneCurveGreen: 0, 0, 255, 255
- ToneCurveName: Medium Contrast
- ToneCurveName2012: Linear
- ToneCurvePV2012: 0, 0, 255, 255
- ToneCurvePV2012Blue: 0, 0, 255, 255
- ToneCurvePV2012Green: 0, 0, 255, 255
- ToneCurvePV2012Red: 0, 0, 255, 255
- ToneCurveRed: 0, 0, 255, 255
- Version: 8.5
- Vibrance: 0
- VignetteAmount: 0
- WhiteBalance: As Shot
- Whites2012: 0
- XMP-dc
- XMP-xmp
- CreateDate: 2014:07:06 13:17
- ModifyDate: 2014:07:15 12:49:33+04:00
- Rating: 0
- XMP-xmpMM
- Просмотров: 125
- Рейтинг: голосов еще нет
- Отзывов: 0
Получить код для блога
Вставка фотографии в текущем разрешении |
Вставка миниатюры |
HTML (для вставки в блог):
BBCode (для вставки в форум):
Ссылка на фото:
Ссылка на миниатюру:
- Послать ссылку другу
Комментарии к фотографии |