- Раздел: Другое, разное
- Дата съёмки: 20.07.2014 21:51
- Дата загрузки фото: 28.07.2014 15:48
- Оригинальная фотография: 1920 x 1170 (455 Кб)
- Технические характеристики:
- Фотоаппарат: Canon EOS 5D Mark II
- Выдержка: 1/320
- Гиперфокальное расстояние: inf m
- Диафрагма: 1,4
- Светочувствительность: 200
- Фокусное расстояние: 35,0 mm (35 mm equivalent: 70,0 mm)
- Экспокоррекция: +2/3
- Полный EXIF
- Adobe
- ColorTransform: YCbCr
- Composite
- Aperture: 1,4
- CircleOfConfusion: 0,010 mm
- FOV: 28,0 deg
- FocalLength35efl: 35,0 mm (35 mm equivalent: 70,0 mm)
- HyperfocalDistance: inf m
- LensID: Canon EF 17-35mm f/2.8L or Sigma Lens
- ScaleFactor35efl: 2,9
- ShutterSpeed: 1/320
- ExifIFD
- ApertureValue: 1,4
- ColorSpace: sRGB
- CreateDate: 2014:07:20 21:51:00
- CustomRendered: Normal
- DateTimeOriginal: 2014:07:20 21:51:00
- ExifImageHeight: 1170
- ExifImageWidth: 1920
- ExposureCompensation: +2/3
- ExposureMode: Auto
- ExposureProgram: Aperture-priority AE
- ExposureTime: 1/320
- FNumber: 1,4
- Flash: Off, Did not fire
- FocalLength: 35,0 mm
- ISO: 200
- LensInfo: 35mm f/?
- LensModel: 35mm
- MaxApertureValue: 1,4
- MeteringMode: Multi-segment
- SceneCaptureType: Standard
- SerialNumber: 2151307365
- ShutterSpeedValue: 1/320
- WhiteBalance: Auto
- ICC-header
- ICC-meas
- ICC-view
- IFD0
- BitsPerSample: 8 8 8
- ImageHeight: 3129
- ImageWidth: 5135
- Make: Canon
- Model: Canon EOS 5D Mark II
- ModifyDate: 2014:07:21 13:58:24
- Orientation: Horizontal (normal)
- PhotometricInterpretation: RGB
- SamplesPerPixel: 3
- IFD1
- IPTC
- DateCreated: 2014:07:20
- System
- XMP-aux
- ApproximateFocusDistance: 0,9
- Firmware: 2.0.7
- FlashCompensation: 0
- ImageNumber: 0
- Lens: 35mm
- LensID: 169
- XMP-crs
- AlreadyApplied: True
- AutoLateralCA: 0
- Blacks2012: +25
- BlueHue: -5
- BlueSaturation: 0
- CameraProfile: Kodak Portra 160 VC C
- Clarity2012: 0
- ColorNoiseReduction: 52
- ColorNoiseReductionDetail: 50
- ColorTemperature: 4800
- Contrast2012: 0
- ConvertToGrayscale: False
- CropAngle: 0
- CropBottom: 1
- CropConstrainToWarp: 0
- CropHeight: 3129
- CropLeft: 0.085572
- CropRight: 1
- CropTop: 0.164179
- CropUnit: pixels
- CropWidth: 5135
- DefringeGreenAmount: 0
- DefringeGreenHueHi: 77
- DefringeGreenHueLo: 40
- DefringePurpleAmount: 0
- DefringePurpleHueHi: 74
- DefringePurpleHueLo: 36
- Exposure2012: -0.11
- GrainAmount: 0
- GreenHue: 0
- GreenSaturation: 0
- HasCrop: True
- HasSettings: True
- Highlights2012: -18
- HueAdjustmentAqua: 0
- HueAdjustmentBlue: -10
- HueAdjustmentGreen: +20
- HueAdjustmentMagenta: +40
- HueAdjustmentOrange: 0
- HueAdjustmentPurple: +15
- HueAdjustmentRed: +20
- HueAdjustmentYellow: -11
- LensManualDistortionAmount: 0
- LensProfileEnable: 0
- LensProfileSetup: LensDefaults
- LuminanceAdjustmentAqua: 0
- LuminanceAdjustmentBlue: 0
- LuminanceAdjustmentGreen: 0
- LuminanceAdjustmentMagenta: 0
- LuminanceAdjustmentOrange: -8
- LuminanceAdjustmentPurple: +15
- LuminanceAdjustmentRed: 0
- LuminanceAdjustmentYellow: 0
- LuminanceSmoothing: 0
- PaintBasedCorrectionsLocalClarity2012: 0.000000
- PaintBasedCorrectionsLocalContrast2012: 0.000000
- PaintBasedCorrectionsLocalDefringe: 0.000000
- PaintBasedCorrectionsLocalExposure2012: 0.033000
- PaintBasedCorrectionsLocalHighlights2012: 0.000000
- PaintBasedCorrectionsLocalLuminanceNoise: 0.000000
- PaintBasedCorrectionsLocalMoire: 0.000000
- PaintBasedCorrectionsLocalShadows2012: 0.000000
- PaintBasedCorrectionsLocalTemperature: 0.054950
- PaintBasedCorrectionsLocalTint: 0.054950
- PaintCorrectionActive: true
- PaintCorrectionAmount: 1.000000
- PaintCorrectionBrightness: 0.000000
- PaintCorrectionHue: 0.000000
- PaintCorrectionMaskCenterWeight: 0.205326
- PaintCorrectionMaskFlow: 1.000000
- PaintCorrectionMaskRadius: 0.085124
- PaintCorrectionMaskValue: 1.000000
- PaintCorrectionMaskWhat: Mask/Paint
- PaintCorrectionSaturation: 0.000000
- PaintCorrectionSharpness: 0.000000
- PaintCorrectionWhat: Correction
- ParametricDarks: +11
- ParametricHighlightSplit: 75
- ParametricHighlights: 0
- ParametricLights: 0
- ParametricMidtoneSplit: 50
- ParametricShadowSplit: 25
- ParametricShadows: +19
- PerspectiveHorizontal: 0
- PerspectiveRotate: 0.0
- PerspectiveScale: 100
- PerspectiveVertical: 0
- PostCropVignetteAmount: -18
- PostCropVignetteFeather: 50
- PostCropVignetteHighlightContrast: 0
- PostCropVignetteMidpoint: 41
- PostCropVignetteRoundness: 0
- PostCropVignetteStyle: 1
- ProcessVersion: 6.7
- RedHue: +10
- RedSaturation: 0
- Saturation: +7
- SaturationAdjustmentAqua: +17
- SaturationAdjustmentBlue: -6
- SaturationAdjustmentGreen: +4
- SaturationAdjustmentMagenta: -6
- SaturationAdjustmentOrange: 0
- SaturationAdjustmentPurple: 0
- SaturationAdjustmentRed: +40
- SaturationAdjustmentYellow: 0
- ShadowTint: -2
- Shadows2012: +61
- SharpenDetail: 25
- SharpenEdgeMasking: 0
- SharpenRadius: +1.0
- Sharpness: 25
- SplitToningBalance: 0
- SplitToningHighlightHue: 0
- SplitToningHighlightSaturation: 0
- SplitToningShadowHue: 131
- SplitToningShadowSaturation: 0
- Tint: -8
- ToneCurveName2012: Custom
- ToneCurvePV2012: 0, 0, 27, 37, 118, 123, 255, 255
- ToneCurvePV2012Blue: 0, 0, 43, 36, 130, 130, 183, 190, 235, 238, 255, 255
- ToneCurvePV2012Green: 0, 0, 46, 35, 130, 130, 178, 183, 255, 255
- ToneCurvePV2012Red: 0, 0, 46, 32, 129, 130, 182, 189, 220, 226, 255, 255
- Version: 7.3
- Vibrance: +39
- VignetteAmount: 0
- WhiteBalance: As Shot
- Whites2012: -10
- XMP-dc
- XMP-xmp
- CreateDate: 2014:07:20 21:51
- ModifyDate: 2014:07:21 13:58:24+04:00
- Rating: 2
- XMP-xmpMM
- Просмотров: 489
- Рейтинг: голосов еще нет
- Отзывов: 0