- Раздел: Путешествия
- Дата съёмки: 02.08.2014 11:44
- Дата загрузки фото: 04.08.2014 14:43
- Оригинальная фотография: 1000 x 667 (293 Кб)
- Технические характеристики:
- Фотоаппарат: Canon EOS 5D Mark III
- Выдержка: 1/640
- Гиперфокальное расстояние: inf m
- Диафрагма: 5,0
- Светочувствительность: 200
- Фокусное расстояние: 168,0 mm (35 mm equivalent: 840,0 mm)
- Полный EXIF
- Adobe
- ColorTransform: YCbCr
- Composite
- Aperture: 5,0
- CircleOfConfusion: 0,005 mm
- FOV: 2,0 deg
- FocalLength35efl: 168,0 mm (35 mm equivalent: 840,0 mm)
- HyperfocalDistance: inf m
- LensID: Canon EF 28-105mm f/3.5-4.5 USM or Tamron Lens
- ScaleFactor35efl: 5,8
- ShutterSpeed: 1/640
- ExifIFD
- ApertureValue: 5,0
- ColorSpace: sRGB
- CreateDate: 2014:08:02 11:44:05
- CustomRendered: Normal
- DateTimeOriginal: 2014:08:02 11:44:05
- ExifImageHeight: 667
- ExifImageWidth: 1000
- ExposureCompensation: 0
- ExposureMode: Auto
- ExposureProgram: Aperture-priority AE
- ExposureTime: 1/640
- FNumber: 5,0
- Flash: Off, Did not fire
- FocalLength: 168,0 mm
- ISO: 200
- LensInfo: 70-300mm f/?
- LensModel: 70-300mm
- LensSerialNumber: 0000000000
- MaxApertureValue: 4,8
- MeteringMode: Multi-segment
- RecommendedExposureIndex: 200
- SceneCaptureType: Standard
- SensitivityType: Recommended Exposure Index
- SerialNumber: 112025000580
- ShutterSpeedValue: 1/640
- WhiteBalance: Auto
- ICC-header
- ICC-meas
- ICC-view
- IFD0
- Artist: Alex Guriev
- Copyright: (C) Alex Guriev
- Make: Canon
- Model: Canon EOS 5D Mark III
- ModifyDate: 2014:08:03 23:54:21
- Orientation: Horizontal (normal)
- IFD1
- IPTC
- By-line: Alex Guriev
- CopyrightNotice: (C) Alex Guriev
- DateCreated: 2014:08:02
- System
- XMP-aux
- ApproximateFocusDistance: 7,35
- Firmware: 1.2.3
- FlashCompensation: 0
- ImageNumber: 0
- Lens: 70-300mm
- LensID: 156
- XMP-crs
- AlreadyApplied: True
- AutoLateralCA: 1
- Blacks2012: -46
- BlueHue: 0
- BlueSaturation: 0
- Clarity2012: 0
- ColorNoiseReduction: 25
- ColorNoiseReductionDetail: 50
- ColorTemperature: 5250
- Contrast2012: +21
- ConvertToGrayscale: False
- CropAngle: 0
- CropBottom: 0.980861
- CropConstrainToWarp: 1
- CropHeight: 3
- CropLeft: 0.058492
- CropRight: 1
- CropTop: 0.039353
- CropUnit: Unknown (3)
- CropWidth: 2
- DefringeGreenAmount: 0
- DefringeGreenHueHi: 60
- DefringeGreenHueLo: 40
- DefringePurpleAmount: 0
- DefringePurpleHueHi: 70
- DefringePurpleHueLo: 30
- Exposure2012: +0.30
- GrainAmount: 0
- GreenHue: 0
- GreenSaturation: 0
- HasCrop: True
- HasSettings: True
- Highlights2012: 0
- HueAdjustmentAqua: 0
- HueAdjustmentBlue: 0
- HueAdjustmentGreen: +1
- HueAdjustmentMagenta: 0
- HueAdjustmentOrange: +13
- HueAdjustmentPurple: 0
- HueAdjustmentRed: 0
- HueAdjustmentYellow: 0
- LensManualDistortionAmount: 0
- LensProfileChromaticAberrationScale: 100
- LensProfileDistortionScale: 100
- LensProfileEnable: 0
- LensProfileFilename: Canon (TAMRON 70-300mm F4-5.6 Di A17E) - RAW.lcp
- LensProfileSetup: Custom
- LensProfileVignettingScale: 100
- LuminanceAdjustmentAqua: 0
- LuminanceAdjustmentBlue: 0
- LuminanceAdjustmentGreen: -33
- LuminanceAdjustmentMagenta: 0
- LuminanceAdjustmentOrange: 0
- LuminanceAdjustmentPurple: 0
- LuminanceAdjustmentRed: 0
- LuminanceAdjustmentYellow: 0
- LuminanceSmoothing: 0
- ParametricDarks: 0
- ParametricHighlightSplit: 75
- ParametricHighlights: 0
- ParametricLights: 0
- ParametricMidtoneSplit: 50
- ParametricShadowSplit: 25
- ParametricShadows: 0
- PerspectiveHorizontal: 0
- PerspectiveRotate: 0.0
- PerspectiveScale: 100
- PerspectiveVertical: 0
- PostCropVignetteAmount: 0
- ProcessVersion: 6.7
- RawFileName: _M0A3665.CR2
- RedHue: 0
- RedSaturation: 0
- Saturation: 0
- SaturationAdjustmentAqua: 0
- SaturationAdjustmentBlue: 0
- SaturationAdjustmentGreen: 0
- SaturationAdjustmentMagenta: 0
- SaturationAdjustmentOrange: -13
- SaturationAdjustmentPurple: 0
- SaturationAdjustmentRed: 0
- SaturationAdjustmentYellow: +1
- ShadowTint: 0
- Shadows2012: +26
- SharpenDetail: 25
- SharpenEdgeMasking: 0
- SharpenRadius: +1.0
- Sharpness: 25
- SplitToningBalance: 0
- SplitToningHighlightHue: 0
- SplitToningHighlightSaturation: 0
- SplitToningShadowHue: 0
- SplitToningShadowSaturation: 0
- Tint: +20
- ToneCurveName2012: Linear
- ToneCurvePV2012: 0, 0, 255, 255
- ToneCurvePV2012Blue: 0, 0, 255, 255
- ToneCurvePV2012Green: 0, 0, 255, 255
- ToneCurvePV2012Red: 0, 0, 255, 255
- Version: 7.3
- Vibrance: 0
- VignetteAmount: 0
- WhiteBalance: Custom
- Whites2012: +49
- XMP-dc
- Creator: Alex Guriev
- Format: image/jpeg
- Rights: (C) Alex Guriev
- XMP-xmp
- ModifyDate: 2014:08:03 23:54:21+04:00
- Rating: 0
- XMP-xmpMM