- Раздел: Пейзаж
- Дата съёмки: 09.08.2014 20:44
- Дата загрузки фото: 12.08.2014 13:37
- Оригинальная фотография: 4928 x 3264 (1,6 Мб)
- Технические характеристики:
- Фотоаппарат: Nikon D7000
- Выдержка: 1/1250
- Гиперфокальное расстояние: inf m
- Диафрагма: 5,6
- Светочувствительность: 100
- Фокусное расстояние: 18,0 mm (35 mm equivalent: 18,0 mm)
- Полный EXIF
- Adobe
- ColorTransform: YCbCr
- Composite
- Aperture: 5,6
- CircleOfConfusion: 0,020 mm
- DOF: inf (0,00 m - inf)
- FOV: 90,0 deg
- FocalLength35efl: 18,0 mm (35 mm equivalent: 18,0 mm)
- HyperfocalDistance: inf m
- LensID: Tamron AF 18-270mm F/3.5-6.3 Di II VC PZD (B008)
- ScaleFactor35efl: 1,5
- ShutterSpeed: 1/1250
- ExifIFD
- ApertureValue: 5,6
- CFAPattern: [Red,Green][Green,Blue]
- Contrast: Normal
- CreateDate: 2014:08:09 20:44:11
- CustomRendered: Normal
- DateTimeOriginal: 2014:08:09 20:44:11
- DigitalZoomRatio: 1
- ExposureCompensation: 0
- ExposureMode: Auto
- ExposureProgram: Aperture-priority AE
- ExposureTime: 1/1250
- FNumber: 5,6
- Flash: Off, Did not fire
- FocalLength: 18,0 mm
- FocalLengthIn35mmFormat: 27 mm
- GainControl: None
- ISO: 100
- LensInfo: 18-270mm f/3.5-6.3
- LensModel: 18.0-270.0 mm f/3.5-6.3
- LightSource: Unknown
- MaxApertureValue: 3,5
- MeteringMode: Center-weighted average
- Saturation: Normal
- SceneCaptureType: Landscape
- SceneType: Directly photographed
- SensingMethod: One-chip color area
- SensitivityType: Recommended Exposure Index
- SerialNumber: 2076196
- Sharpness: Hard
- ShutterSpeedValue: 1/1250
- SubjectDistance: 15849 m
- SubjectDistanceRange: Unknown
- WhiteBalance: Auto
- ICC-header
- IFD0
- Make: NIKON CORPORATION
- Model: NIKON D7000
- ModifyDate: 2014:08:12 20:10:40
- IFD1
- IPTC
- DateCreated: 2014:08:09
- System
- XMP-aux
- ApproximateFocusDistance: 15849
- ImageNumber: 8667
- Lens: 18.0-270.0 mm f/3.5-6.3
- LensID: 240
- XMP-crs
- AlreadyApplied: True
- AutoLateralCA: 0
- Blacks2012: 0
- BlueHue: 0
- BlueSaturation: 0
- Brightness: +50
- Clarity: 0
- Clarity2012: 0
- ColorNoiseReduction: 25
- ColorNoiseReductionDetail: 50
- ColorTemperature: 4650
- Contrast: +45
- Contrast2012: 0
- ConvertToGrayscale: False
- Defringe: 0
- Exposure: -0.15
- Exposure2012: 0.00
- FillLight: 0
- GrainAmount: 0
- GreenHue: 0
- GreenSaturation: 0
- HasCrop: False
- HasSettings: True
- HighlightRecovery: 9
- Highlights2012: 0
- HueAdjustmentAqua: 0
- HueAdjustmentBlue: 0
- HueAdjustmentGreen: 0
- HueAdjustmentMagenta: 0
- HueAdjustmentOrange: 0
- HueAdjustmentPurple: 0
- HueAdjustmentRed: 0
- HueAdjustmentYellow: 0
- LensManualDistortionAmount: 0
- LensProfileEnable: 0
- LensProfileSetup: LensDefaults
- LuminanceAdjustmentAqua: -44
- LuminanceAdjustmentBlue: -45
- LuminanceAdjustmentGreen: -29
- LuminanceAdjustmentMagenta: -30
- LuminanceAdjustmentOrange: -47
- LuminanceAdjustmentPurple: 0
- LuminanceAdjustmentRed: -6
- LuminanceAdjustmentYellow: -33
- LuminanceSmoothing: 0
- ParametricDarks: 0
- ParametricHighlightSplit: 75
- ParametricHighlights: 0
- ParametricLights: 0
- ParametricMidtoneSplit: 50
- ParametricShadowSplit: 25
- ParametricShadows: 0
- PerspectiveHorizontal: 0
- PerspectiveRotate: 0.0
- PerspectiveScale: 100
- PerspectiveVertical: 0
- PostCropVignetteAmount: 0
- ProcessVersion: 5.7
- RawFileName: _ARK8420.NEF
- RedHue: 0
- RedSaturation: 0
- Saturation: +26
- SaturationAdjustmentAqua: +33
- SaturationAdjustmentBlue: +65
- SaturationAdjustmentGreen: +57
- SaturationAdjustmentMagenta: 0
- SaturationAdjustmentOrange: 0
- SaturationAdjustmentPurple: 0
- SaturationAdjustmentRed: +21
- SaturationAdjustmentYellow: +23
- ShadowTint: 0
- Shadows: 5
- Shadows2012: 0
- SharpenDetail: 25
- SharpenEdgeMasking: 0
- SharpenRadius: +1.0
- Sharpness: 25
- SplitToningBalance: 0
- SplitToningHighlightHue: 0
- SplitToningHighlightSaturation: 0
- SplitToningShadowHue: 0
- SplitToningShadowSaturation: 0
- Tint: +9
- ToneCurve: 0, 0, 32, 22, 64, 56, 128, 128, 192, 196, 255, 255
- ToneCurveBlue: 0, 0, 255, 255
- ToneCurveGreen: 0, 0, 255, 255
- ToneCurveName: Medium Contrast
- ToneCurveName2012: Linear
- ToneCurvePV2012: 0, 0, 255, 255
- ToneCurvePV2012Blue: 0, 0, 255, 255
- ToneCurvePV2012Green: 0, 0, 255, 255
- ToneCurvePV2012Red: 0, 0, 255, 255
- ToneCurveRed: 0, 0, 255, 255
- Version: 6.7
- Vibrance: +43
- VignetteAmount: 0
- WhiteBalance: As Shot
- Whites2012: 0
- XMP-dc
- XMP-xmp
- CreateDate: 2014:08:09 20:44:11.80
- ModifyDate: 2014:08:12 20:10:40+11:00
- XMP-xmpMM
- Просмотров: 303
- Рейтинг: голосов еще нет
- Отзывов: 0