- Раздел: Пейзаж
- Дата съёмки: 05.08.2014 16:12
- Дата загрузки фото: 13.08.2014 23:12
- Оригинальная фотография: 1626 x 1080 (1,1 Мб)
- Технические характеристики:
- Фотоаппарат: Ricoh GXR A12
- Выдержка: 1/80
- Диафрагма: 5,6
- Светочувствительность: 200
- Фокусное расстояние: 18,0 mm
- Полный EXIF
- Adobe
- ColorTransform: YCbCr
- Composite
- Aperture: 5,6
- FocalLength35efl: 18,0 mm
- ShutterSpeed: 1/80
- ExifIFD
- ApertureValue: 5,6
- BrightnessValue: 5,4
- ColorSpace: sRGB
- CreateDate: 2014:08:05 16:12:41
- DateTimeOriginal: 2014:08:05 16:12:41
- ExifImageHeight: 1080
- ExifImageWidth: 1626
- ExposureCompensation: 0
- ExposureMode: Auto
- ExposureProgram: Aperture-priority AE
- ExposureTime: 1/80
- FNumber: 5,6
- Flash: Off, Did not fire
- FocalLength: 18,3 mm
- ISO: 200
- LightSource: Unknown
- MaxApertureValue: 2,4
- MeteringMode: Multi-segment
- SceneCaptureType: Standard
- Sharpness: Normal
- ShutterSpeedValue: 1/80
- WhiteBalance: Auto
- ICC-header
- ICC-meas
- ICC-view
- IFD0
- Copyright: (C)ANDREY I.KHODAK
- Make: RICOH
- Model: GXR A12
- ModifyDate: 2014:08:13 22:24:45
- Orientation: Horizontal (normal)
- IFD1
- IPTC
- CopyrightNotice: (C)ANDREY I.KHODAK
- DateCreated: 2014:08:05
- System
- XMP-crs
- AlreadyApplied: True
- AutoLateralCA: 0
- Blacks2012: 0
- BlueHue: 0
- BlueSaturation: 0
- Brightness: 0
- CameraProfile: Embedded
- Clarity: +17
- Clarity2012: 0
- ColorNoiseReduction: 0
- Contrast: +3
- Contrast2012: 0
- ConvertToGrayscale: False
- Defringe: 0
- Exposure: 0.00
- Exposure2012: 0.00
- FillLight: 0
- GrainAmount: 0
- GreenHue: 0
- GreenSaturation: 0
- HasCrop: False
- HasSettings: True
- HighlightRecovery: 0
- Highlights2012: 0
- HueAdjustmentAqua: 0
- HueAdjustmentBlue: 0
- HueAdjustmentGreen: 0
- HueAdjustmentMagenta: 0
- HueAdjustmentOrange: 0
- HueAdjustmentPurple: 0
- HueAdjustmentRed: 0
- HueAdjustmentYellow: 0
- IncrementalTemperature: 0
- IncrementalTint: 0
- LensManualDistortionAmount: 0
- LensProfileEnable: 0
- LensProfileSetup: LensDefaults
- LuminanceAdjustmentAqua: 0
- LuminanceAdjustmentBlue: -13
- LuminanceAdjustmentGreen: 0
- LuminanceAdjustmentMagenta: 0
- LuminanceAdjustmentOrange: 0
- LuminanceAdjustmentPurple: 0
- LuminanceAdjustmentRed: 0
- LuminanceAdjustmentYellow: 0
- LuminanceSmoothing: 0
- ParametricDarks: 0
- ParametricHighlightSplit: 75
- ParametricHighlights: 0
- ParametricLights: 0
- ParametricMidtoneSplit: 50
- ParametricShadowSplit: 25
- ParametricShadows: 0
- PerspectiveHorizontal: 0
- PerspectiveRotate: 0.0
- PerspectiveScale: 100
- PerspectiveVertical: 0
- PostCropVignetteAmount: 0
- ProcessVersion: 5.7
- RawFileName: _0014694.tif
- RedHue: 0
- RedSaturation: 0
- Saturation: 0
- SaturationAdjustmentAqua: 0
- SaturationAdjustmentBlue: 0
- SaturationAdjustmentGreen: 0
- SaturationAdjustmentMagenta: 0
- SaturationAdjustmentOrange: 0
- SaturationAdjustmentPurple: 0
- SaturationAdjustmentRed: 0
- SaturationAdjustmentYellow: 0
- ShadowTint: 0
- Shadows: 5
- Shadows2012: 0
- SharpenDetail: 25
- SharpenEdgeMasking: 0
- SharpenRadius: +1.0
- Sharpness: 0
- SplitToningBalance: 0
- SplitToningHighlightHue: 0
- SplitToningHighlightSaturation: 0
- SplitToningShadowHue: 0
- SplitToningShadowSaturation: 0
- ToneCurve: 0, 0, 255, 255
- ToneCurveBlue: 0, 0, 255, 255
- ToneCurveGreen: 0, 0, 255, 255
- ToneCurveName: Linear
- ToneCurveName2012: Linear
- ToneCurvePV2012: 0, 0, 255, 255
- ToneCurvePV2012Blue: 0, 0, 255, 255
- ToneCurvePV2012Green: 0, 0, 255, 255
- ToneCurvePV2012Red: 0, 0, 255, 255
- ToneCurveRed: 0, 0, 255, 255
- Version: 6.7
- Vibrance: +16
- VignetteAmount: 0
- WhiteBalance: As Shot
- Whites2012: 0
- XMP-dc
- Format: image/jpeg
- Rights: (C)ANDREY I.KHODAK
- XMP-xmp
- ModifyDate: 2014:08:13 22:24:45+04:00
- Rating: 4
- XMP-xmpMM