- Раздел: Портрет
- Дата съёмки: 06.11.2014 13:57
- Дата загрузки фото: 06.11.2014 23:28
- Оригинальная фотография: 4992 x 2808 (8,1 Мб)
- Технические характеристики:
- Фотоаппарат: Canon EOS-1Ds Mark II
- Выдержка: 1/500
- Гиперфокальное расстояние: inf m
- Диафрагма: 1,2
- Светочувствительность: 100
- Фокусное расстояние: 50,0 mm (35 mm equivalent: 50,0 mm)
- Экспокоррекция: +1
- Полный EXIF
- Adobe
- ColorTransform: YCbCr
- Composite
- Aperture: 1,2
- CircleOfConfusion: 0,029 mm
- FOV: 39,0 deg
- Flash: Off, Did not fire
- FocalLength35efl: 50,0 mm (35 mm equivalent: 50,0 mm)
- HyperfocalDistance: inf m
- LensID: Unknown (497) 50mm
- ScaleFactor35efl: 1,0
- ShutterSpeed: 1/500
- ExifIFD
- ApertureValue: 1,2
- CreateDate: 2014:11:06 13:57:29
- CustomRendered: Normal
- DateTimeOriginal: 2014:11:06 13:57:29
- ExposureCompensation: +1
- ExposureMode: Auto
- ExposureProgram: Aperture-priority AE
- ExposureTime: 1/500
- FNumber: 1,2
- FocalLength: 50,0 mm
- ISO: 100
- MaxApertureValue: 1,2
- MeteringMode: Multi-segment
- SceneCaptureType: Standard
- ShutterSpeedValue: 1/500
- WhiteBalance: Auto
- ICC-header
- ICC-meas
- ICC-view
- IFD0
- Make: Canon
- Model: Canon EOS-1Ds Mark II
- ModifyDate: 2014:11:06 23:27:42
- IFD1
- System
- XMP-aux
- Firmware: 1.1.6
- FlashCompensation: 0
- ImageNumber: 18318
- Lens: 50.0 mm
- LensID: 497
- LensInfo: 50mm f/?
- SerialNumber: 310476
- XMP-crs
- AlreadyApplied: True
- BlueHue: 0
- BlueSaturation: 0
- Brightness: +50
- ChromaticAberrationB: 0
- ChromaticAberrationR: 0
- Clarity: -29
- ColorNoiseReduction: 25
- ColorNoiseReductionDetail: 50
- ColorTemperature: 4900
- Contrast: -7
- ConvertToGrayscale: True
- CropAngle: 0
- CropBottom: 1
- CropConstrainToWarp: 0
- CropHeight: 2808
- CropLeft: 0
- CropRight: 1
- CropTop: 0.15625
- CropUnit: pixels
- CropWidth: 4992
- Defringe: 0
- Exposure: 0.00
- FillLight: 6
- GrainAmount: 0
- GrayMixerAqua: -18
- GrayMixerBlue: +10
- GrayMixerGreen: -27
- GrayMixerMagenta: +4
- GrayMixerOrange: -19
- GrayMixerPurple: +16
- GrayMixerRed: -10
- GrayMixerYellow: -23
- GreenHue: 0
- GreenSaturation: 0
- HasCrop: True
- HasSettings: True
- HighlightRecovery: 0
- LensManualDistortionAmount: 0
- LensProfileEnable: 0
- LensProfileSetup: LensDefaults
- LuminanceSmoothing: 0
- ParametricDarks: 0
- ParametricHighlightSplit: 75
- ParametricHighlights: -65
- ParametricLights: 0
- ParametricMidtoneSplit: 50
- ParametricShadowSplit: 25
- ParametricShadows: 0
- PerspectiveHorizontal: 0
- PerspectiveRotate: 0.0
- PerspectiveScale: 100
- PerspectiveVertical: 0
- PostCropVignetteAmount: -40
- PostCropVignetteFeather: 100
- PostCropVignetteHighlightContrast: 0
- PostCropVignetteMidpoint: 0
- PostCropVignetteRoundness: +47
- PostCropVignetteStyle: 1
- ProcessVersion: 5.7
- RedHue: 0
- RedSaturation: 0
- ShadowTint: 0
- Shadows: 3
- SharpenDetail: 25
- SharpenEdgeMasking: 0
- SharpenRadius: +1.0
- Sharpness: 103
- SplitToningBalance: 0
- SplitToningHighlightHue: 56
- SplitToningHighlightSaturation: 44
- SplitToningShadowHue: 22
- SplitToningShadowSaturation: 37
- Tint: -1
- ToneCurve: 0, 0, 32, 22, 64, 56, 128, 128, 192, 196, 255, 255
- ToneCurveName: Medium Contrast
- Version: 6.1
- VignetteAmount: 0
- WhiteBalance: As Shot
- XMP-exif
- DateTimeDigitized: 2014:11:06 13:57:29+03:00
- DateTimeOriginal: 2014:11:06 13:57:29+03:00
- ExifImageHeight: 2808
- ExifImageWidth: 4992
- FlashFired: False
- FlashFunction: False
- FlashMode: Off
- FlashRedEyeMode: False
- FlashReturn: No return detection
- XMP-tiff
- ImageHeight: 2808
- ImageWidth: 4992
- XMP-xmp
- CreateDate: 2014:11:06 13:57:29+03:00
- ModifyDate: 2014:11:06 23:27:42+03:00
- Просмотров: 722
- Рейтинг: голосов еще нет
- Отзывов: 0