- Раздел: Портрет
- Дата съёмки: 19.10.2014 14:37
- Дата загрузки фото: 15.11.2014 22:18
- Оригинальная фотография: 4368 x 2457 (5,4 Мб)
- Технические характеристики:
- Фотоаппарат: Canon EOS 5D
- Выдержка: 1/800
- Гиперфокальное расстояние: inf m
- Диафрагма: 1,2
- Светочувствительность: 100
- Фокусное расстояние: 50,0 mm (35 mm equivalent: 50,0 mm)
- Полный EXIF
- Adobe
- ColorTransform: YCbCr
- Composite
- Aperture: 1,2
- CircleOfConfusion: 0,029 mm
- FOV: 39,0 deg
- Flash: Off, Did not fire
- FocalLength35efl: 50,0 mm (35 mm equivalent: 50,0 mm)
- HyperfocalDistance: inf m
- LensID: Canon EF 50mm f/1.2L
- ScaleFactor35efl: 1,0
- ShutterSpeed: 1/800
- ExifIFD
- ApertureValue: 1,2
- CreateDate: 2014:10:19 14:37:49
- CustomRendered: Normal
- DateTimeOriginal: 2014:10:19 14:37:49
- ExposureCompensation: 0
- ExposureMode: Auto
- ExposureProgram: Aperture-priority AE
- ExposureTime: 1/800
- FNumber: 1,2
- FocalLength: 50,0 mm
- ISO: 100
- MaxApertureValue: 1,2
- MeteringMode: Multi-segment
- SceneCaptureType: Standard
- ShutterSpeedValue: 1/800
- WhiteBalance: Auto
- ICC-header
- ICC-meas
- ICC-view
- IFD0
- Make: Canon
- Model: Canon EOS 5D
- ModifyDate: 2014:11:15 21:16:33
- IFD1
- System
- XMP-aux
- Firmware: 1.1.1
- FlashCompensation: 0
- ImageNumber: 40
- Lens: EF50mm f/1.2L USM
- LensID: 241
- LensInfo: 50mm f/?
- SerialNumber: 730507263
- XMP-crs
- AlreadyApplied: True
- BlueHue: 0
- BlueSaturation: 0
- Brightness: +50
- ChromaticAberrationB: 0
- ChromaticAberrationR: 0
- Clarity: 0
- ColorNoiseReduction: 25
- ColorNoiseReductionDetail: 50
- ColorTemperature: 50000
- Contrast: +7
- ConvertToGrayscale: True
- CropAngle: 0
- CropBottom: 0.921875
- CropConstrainToWarp: 0
- CropHeight: 2457
- CropLeft: 0
- CropRight: 1
- CropTop: 0.078125
- CropUnit: pixels
- CropWidth: 4368
- Defringe: 0
- Exposure: 0.00
- FillLight: 23
- GrainAmount: 0
- GrayMixerAqua: -17
- GrayMixerBlue: +12
- GrayMixerGreen: -27
- GrayMixerMagenta: +4
- GrayMixerOrange: -20
- GrayMixerPurple: +17
- GrayMixerRed: -10
- GrayMixerYellow: -24
- GreenHue: 0
- GreenSaturation: 0
- HasCrop: True
- HasSettings: True
- HighlightRecovery: 100
- LensManualDistortionAmount: 0
- LensProfileChromaticAberrationScale: 100
- LensProfileDistortionScale: 0
- LensProfileEnable: 1
- LensProfileFilename: Canon EOS-1Ds Mark III (Canon EF 50mm f1.4 USM) - RAW.lcp
- LensProfileSetup: Custom
- LensProfileVignettingScale: 0
- LuminanceSmoothing: 0
- ParametricDarks: +44
- ParametricHighlightSplit: 85
- ParametricHighlights: 0
- ParametricLights: +29
- ParametricMidtoneSplit: 72
- ParametricShadowSplit: 25
- ParametricShadows: -23
- PerspectiveHorizontal: 0
- PerspectiveRotate: 0.0
- PerspectiveScale: 100
- PerspectiveVertical: 0
- PostCropVignetteAmount: -26
- PostCropVignetteFeather: 75
- PostCropVignetteHighlightContrast: 0
- PostCropVignetteMidpoint: 5
- PostCropVignetteRoundness: +100
- PostCropVignetteStyle: 1
- ProcessVersion: 5.7
- RedHue: 0
- RedSaturation: 0
- ShadowTint: 0
- Shadows: 24
- SharpenDetail: 25
- SharpenEdgeMasking: 0
- SharpenRadius: +1.0
- Sharpness: 36
- SplitToningBalance: 0
- SplitToningHighlightHue: 0
- SplitToningHighlightSaturation: 0
- SplitToningShadowHue: 0
- SplitToningShadowSaturation: 0
- Tint: 0
- ToneCurve: 0, 0, 32, 22, 64, 56, 128, 128, 192, 196, 255, 255
- ToneCurveName: Medium Contrast
- Version: 6.1
- VignetteAmount: 0
- WhiteBalance: Custom
- XMP-exif
- DateTimeDigitized: 2014:10:19 14:37:49+04:00
- DateTimeOriginal: 2014:10:19 14:37:49+04:00
- ExifImageHeight: 2457
- ExifImageWidth: 4368
- FlashFired: False
- FlashFunction: False
- FlashMode: Off
- FlashRedEyeMode: False
- FlashReturn: No return detection
- XMP-tiff
- ImageHeight: 2457
- ImageWidth: 4368
- XMP-xmp
- CreateDate: 2014:10:19 14:37:49+04:00
- ModifyDate: 2014:11:15 21:16:33+03:00
- Просмотров: 658
- Рейтинг: голосов еще нет
- Отзывов: 0